BEGIN:VCALENDAR
VERSION:2.0
PRODID:-//UM//UM*Events//EN
CALSCALE:GREGORIAN
BEGIN:VTIMEZONE
TZID:America/Detroit
TZURL:http://tzurl.org/zoneinfo/America/Detroit
X-LIC-LOCATION:America/Detroit
BEGIN:DAYLIGHT
TZOFFSETFROM:-0500
TZOFFSETTO:-0400
TZNAME:EDT
DTSTART:20070311T020000
RRULE:FREQ=YEARLY;BYMONTH=3;BYDAY=2SU
END:DAYLIGHT
BEGIN:STANDARD
TZOFFSETFROM:-0400
TZOFFSETTO:-0500
TZNAME:EST
DTSTART:20071104T020000
RRULE:FREQ=YEARLY;BYMONTH=11;BYDAY=1SU
END:STANDARD
END:VTIMEZONE
BEGIN:VEVENT
DTSTAMP:20241002T102449
DTSTART;TZID=America/Detroit:20241030T080000
DTEND;TZID=America/Detroit:20241030T170000
SUMMARY:Conference / Symposium:2024 U-M Annual Data Science & AI Summit x ADSA Conference
DESCRIPTION:The University of Michigan Annual Data Science and AI Summit is the largest data science and AI event at U-M\, attracting attendees from more than 100 U-M departments and more than 80 industry\, government and community organizations annually.\n\nThis year\, MIDAS is hosting the Annual Summit in conjunction with the Academic Data Science Alliance Annual Conference. By partnering with the Academic Data Science Alliance (ADSA) this year\, we leverage the reach of this national organization for data science and AI institutes in academia\, expand the scope of our Summit\, and bring together data science and AI leadership\, researchers and educators from around the country. Thus\, this event offers a unique opportunity for local attendees to interact with hundreds of attendees from other universities\, hear talks from leading experts\, and participate in sessions on data science and AI research\, education and societal impact. \n\nOverview:\nThis year’s Annual Meeting theme is: Data Science and AI – Keeping Humans in the Loop\nData has become the essential building block for research and insight in nearly all fields. The next wave of emerging technologies\, including artificial intelligence (AI)\, is fueled by the unprecedented amount and variety of available data. Data and data-enabled technologies promise to reshape research and discovery\, as well as how we live and how society functions. ADSA’24\, hosted by the Michigan Institute for Data Science\, will draw our focus to humanity in data and AI – humans as data producers and data engineers\, humans as AI designers and developers\, humans represented in data\, and humans as data and AI users and as the beneficiaries or victims of data and AI. We will explore the central role of humans in the data and AI revolution: to maximize its benefits for research and innovation\; to ensure that the use of data and technologies and the insights they generate are aligned with our values and priorities\; and to ensure that the future workforce are prepared to continue discovery and innovation.
UID:121573-21846739@events.umich.edu
URL:https://events.umich.edu/event/121573
CLASS:PUBLIC
STATUS:CONFIRMED
CATEGORIES:Artificial Intelligence,Talk,Social Impact,seminar,Research,Information and Technology,In Person,Education,Data Science,data,Ai In Science And Engineering
LOCATION:Michigan League - Ballroom
CONTACT:
END:VEVENT
BEGIN:VEVENT
DTSTAMP:20240916T181519
DTSTART;TZID=America/Detroit:20241030T080000
DTEND;TZID=America/Detroit:20241030T170000
SUMMARY:Workshop / Seminar:9 Days of Painting Early Voting with Ayla Soofi
DESCRIPTION:Join to create a collaborative window painting for everyone to encourage voting early. By displaying basic information about where and when to early vote\, individuals can be more aware and confident about early voting.
UID:126536-21857280@events.umich.edu
URL:https://events.umich.edu/event/126536
CLASS:PUBLIC
STATUS:CONFIRMED
CATEGORIES:Art
LOCATION:Off Campus Location
CONTACT:
END:VEVENT
BEGIN:VEVENT
DTSTAMP:20240910T113929
DTSTART;TZID=America/Detroit:20241030T080000
DTEND;TZID=America/Detroit:20241030T170000
SUMMARY:Exhibition:WCEE Exhibition. Threads of Tradition: The Art of Ukrainian Vyshyvanka
DESCRIPTION:The act of embroidering and weaving designs onto cloth is deeply rooted in Ukrainian traditions. Embellished clothing (sorochky)\, ritual cloths (rushnyky)\, and household textiles accompany a person from birth until death\, punctuating important life events in between. A variety of embroidery patterns are used throughout Ukraine\; some stitches are universally known\, while others are region-specific. Ukrainian embroidered clothing is now officially celebrated with an annual Vyshyvanka Day observed throughout the world in May.\n\nTo see photos and read more about exhibited items\, visit https://myumi.ch/AZedA\n   \n   The embroideries and textiles exhibited are from the private collections of Arnie Klein\, Solomia Soroka\, Katerina Sirinyok-Dolgaryova\, and from the Ukrainian American Archives & Museum located in Hamtramck\, Michigan.\n   \n   The exhibit opens on September 5\, 2024\, in 1010 Weiser Hall\, 500 Church Street\, Ann Arbor. Contact weisercenter@umich.edu to schedule a viewing.\n\n*The exhibition is cosponsored by the Ukrainian American Archives & Museum*.\n\nIf there is anything we can do to make this event accessible to you\, please contact us. Please be aware that advance notice is necessary as some accommodations may require more time for the university to arrange.
UID:123893-21852062@events.umich.edu
URL:https://events.umich.edu/event/123893
CLASS:PUBLIC
STATUS:CONFIRMED
CATEGORIES:Art,visual arts
LOCATION:Weiser Hall - Room 1010
CONTACT:
END:VEVENT
END:VCALENDAR