BEGIN:VCALENDAR
VERSION:2.0
PRODID:-//UM//UM*Events//EN
CALSCALE:GREGORIAN
BEGIN:VTIMEZONE
TZID:America/Detroit
TZURL:http://tzurl.org/zoneinfo/America/Detroit
X-LIC-LOCATION:America/Detroit
BEGIN:DAYLIGHT
TZOFFSETFROM:-0500
TZOFFSETTO:-0400
TZNAME:EDT
DTSTART:20070311T020000
RRULE:FREQ=YEARLY;BYMONTH=3;BYDAY=2SU
END:DAYLIGHT
BEGIN:STANDARD
TZOFFSETFROM:-0400
TZOFFSETTO:-0500
TZNAME:EST
DTSTART:20071104T020000
RRULE:FREQ=YEARLY;BYMONTH=11;BYDAY=1SU
END:STANDARD
END:VTIMEZONE
BEGIN:VEVENT
DTSTAMP:20241104T133706
DTSTART;TZID=America/Detroit:20241113T160000
DTEND;TZID=America/Detroit:20241113T170000
SUMMARY:Workshop / Seminar:Algebraic Geometry Seminar: Homological mirror symmetry for K3 surfaces
DESCRIPTION:Joint work with Ailsa Keating (Cambridge). We prove the homological mirror symmetry conjecture of Kontsevich for K3 surfaces in the following form: The Fukaya category of a projective K3 surface is equivalent to the derived category of coherent sheaves on the mirror\, which is a K3 surface of Picard rank 19 over the field of formal Laurent series. This builds on prior work of Seidel (who proved the theorem in the case of the quartic surface)\, Sheridan\, Lekili--Ueda\, and Ganatra--Pardon--Shende.\n\nI will try to keep prerequisites to a minimum\, in particular\, I will not assume prior knowledge of the Fukaya category.
UID:125451-21855129@events.umich.edu
URL:https://events.umich.edu/event/125451
CLASS:PUBLIC
STATUS:CONFIRMED
CATEGORIES:Mathematics
LOCATION:East Hall - 4096
CONTACT:
END:VEVENT
BEGIN:VEVENT
DTSTAMP:20241101T102039
DTSTART;TZID=America/Detroit:20241113T160000
DTEND;TZID=America/Detroit:20241113T170000
SUMMARY:Social / Informal Gathering:Alum Connection Grad School Series-Master of Science in Information with Jamie Monville
DESCRIPTION:Are you passionate about UX research and design? Curious about building a career in the dynamic and ever-evolving world of AI? Join us for an inspiring session with LSA alum Jamie Monville as she shares her journey—from an undergraduate degree in English Language and Literature and a Master of Science in Information\, to her role as Senior Product Manager at a nonprofit creating AI-powered literacy tools. Whether you're considering a career in technology\, exploring MS programs\, or still weighing your options\, this is a unique opportunity to gain valuable insights and advice from an accomplished leader in the field.\n\n\nAbout Jamie Monville\n\nJamie Monville is currently a Senior Product Manager at Quill.org\, a nonprofit building free online learning tools that use AI to provide students with immediate feedback and coaching on their writing. Prior to joining Quill.org\, Jamie spent more than a decade in Ann Arbor earning her B.A. in English Language and Literature\, a Master of Science in Information from the School of Information\, and in her work supporting LSA students as a staff member at LSA Tech Services and the LSA Opportunity Hub. \n \n\nYou should attend this session if you are:\n\nAn undergraduate U-M LSA student \nInterested in career paths available in Tech\, User Experience\, or AI \nThinking about applying to MS programs after you graduate from LSA\nWanting to learn more about what a product manager does and how to become one\n\n \n\nWhat you’ll gain by attending:\n\nMake a valuable connection with a successful LSA alum ready to help you navigate the MS application process\nGet ideas for how to build and grow a career in the field of technology\nGain tips and tricks for building communities and networks past your LSA degree\n\n\nRSVP now to be a part of the conversation. The link to join this Alum Connection will be emailed to you after you RSVP.
UID:128600-21861353@events.umich.edu
URL:https://events.umich.edu/event/128600
CLASS:PUBLIC
STATUS:CONFIRMED
CATEGORIES:Virtual,The College Of Literature\, Science\, And The Arts,Post-grad Planning,Open To All Majors,Networking,Lsa Opportunity Hub,Information and Technology,Grad School,Alumni,Alum Connections,All Majors Welcome
LOCATION:Off Campus Location
CONTACT:
END:VEVENT
BEGIN:VEVENT
DTSTAMP:20240930T133203
DTSTART;TZID=America/Detroit:20241113T160000
DTEND;TZID=America/Detroit:20241113T173000
SUMMARY:Lecture / Discussion:Center for Emerging Democracies (@umichDemocracy) Roundtable. Immigration\, Authoritarianism\, and Democracy
DESCRIPTION:Immigration has become a polarizing issue across democratic\, authoritarian\, and transitioning contexts. Anti-immigrant rhetoric has become part of the standard playbook for authoritarian populists. Immigration policies in ostensibly democratic countries are becoming more restrictive\, all while political conflict\, war\, pandemics\, and intensifying climate change are leading to greater numbers of people migrating in search of safety and a better life. With immigration discourse taking up much of the oxygen in politics across the world\, understanding the interconnections among immigration\, democracy\, and authoritarianism has become more important than ever. This roundtable brings together distinguished scholars to discuss how controversies surrounding immigration and immigrants have become critical for sustaining or upending democracy.\n\nModerator: Nandini Dey\, Research Fellow\, Center for Emerging Democracies.\n\nSpeakers:\n\nRebecca Wai \nPh.D. Candidate\, Political Science Department\, Freedom House Emerging Democracies Fellow\, University of Michigan\n\nErin Chung \nProfessor of Political Science\, Charles D. Miller Chair in East Asian Politics\, Department of Political Science\, Johns Hopkins University \n\nAlexandra Filindra\nProfessor of Political Science & Psychology\, University of Illinois-Chicago\n\nSilvia Pedraza\nProfessor of Sociology and American Culture\, University of Michigan\n\nZoom webinar link\nShort URL link: https://myumi.ch/5yEEx\n\nIf there is anything we can do to make this event accessible to you\, please contact us. Please be aware that advance notice is necessary as some accommodations may require more time for the university to arrange.
UID:126966-21858190@events.umich.edu
URL:https://events.umich.edu/event/126966
CLASS:PUBLIC
STATUS:CONFIRMED
CATEGORIES:immigration,Authoritarianism
LOCATION:Michigan League - Room D
CONTACT:
END:VEVENT
END:VCALENDAR