BEGIN:VCALENDAR
VERSION:2.0
PRODID:-//UM//UM*Events//EN
CALSCALE:GREGORIAN
BEGIN:VTIMEZONE
TZID:America/Detroit
TZURL:http://tzurl.org/zoneinfo/America/Detroit
X-LIC-LOCATION:America/Detroit
BEGIN:DAYLIGHT
TZOFFSETFROM:-0500
TZOFFSETTO:-0400
TZNAME:EDT
DTSTART:20070311T020000
RRULE:FREQ=YEARLY;BYMONTH=3;BYDAY=2SU
END:DAYLIGHT
BEGIN:STANDARD
TZOFFSETFROM:-0400
TZOFFSETTO:-0500
TZNAME:EST
DTSTART:20071104T020000
RRULE:FREQ=YEARLY;BYMONTH=11;BYDAY=1SU
END:STANDARD
END:VTIMEZONE
BEGIN:VEVENT
DTSTAMP:20240923T140348
DTSTART;TZID=America/Detroit:20241030T090000
DTEND;TZID=America/Detroit:20241030T170000
SUMMARY:Careers / Jobs:Industrial Operations Engineering Career Chats
DESCRIPTION:Hey IOE Students - This is for YOU!\n\nAre you feeling lost or overwhelmed by your job or internship search?\n\nNot sure where to begin\, or just need a little guidance? Whether you're just starting out or already deep in the search process\, we're here to help!\n\nJoin us for a quick 15-minute virtual chat with an Engineering Career Advisor. Ask us anything—from where your peers are landing jobs\, to job search strategies\, to personalized resume feedback. It’s a chance to get the advice you need\, fast!\n\nDon’t navigate your career path alone—we’ve got your back! Let’s chat and get you one step closer to your goals.\n\nRegister Now in Engineering Careers\, by 12twenty
UID:126842-21857987@events.umich.edu
URL:https://events.umich.edu/event/126842
CLASS:PUBLIC
STATUS:CONFIRMED
CATEGORIES:Undergraduate Students,Career,Graduate Students,Michigan Engineering
LOCATION:Off Campus Location
CONTACT:
END:VEVENT
BEGIN:VEVENT
DTSTAMP:20241205T123531
DTSTART;TZID=America/Detroit:20241030T090000
DTEND;TZID=America/Detroit:20241030T100000
SUMMARY:Exercise / Fitness:Lifetime Fitness for Senior Adults
DESCRIPTION:Lifetime Fitness classes are offered at Briarwood Mall in the JCPenney wing. No experience necessary. Classes are specifically designed for older adults\, however\, everyone is welcome. Classes are held Monday-Saturday from 9-10am. LTF classes at Briarwood are free\, but please consider making a tax-deductible donation.
UID:128463-21860900@events.umich.edu
URL:https://events.umich.edu/event/128463
CLASS:PUBLIC
STATUS:CONFIRMED
CATEGORIES:yoga,fitness classes
LOCATION:Off Campus Location - JCPenney Wing
CONTACT:
END:VEVENT
BEGIN:VEVENT
DTSTAMP:20240830T112455
DTSTART;TZID=America/Detroit:20241030T090000
DTEND;TZID=America/Detroit:20241030T200000
SUMMARY:Exhibition:Mrs. Dalloway and WWI: Home Front and War Front
DESCRIPTION:This exhibit explores the characters of Mrs. Dalloway through the lens of WWI and its aftershocks. It looks at those who fought in the trenches and those who watched from afar.\n\n[The exhibit includes references to suicide and Post Traumatic Stress Disorder\, which might be distressing for some visitors. Viewer discretion is advised.]\n\nWhile all of the action in Virginia Woolf’s modernist masterpiece takes place on a single day\, as preparations are made for Clarissa Dalloway’s evening party\, Woolf’s stream of consciousness writing takes us in the characters’ minds all the way from English drawing rooms to colonial India to the trenches of World War I.\n\nCheck today's Hatcher Gallery Exhibit Room hours: https://myumi.ch/PkQ2x
UID:123760-21851814@events.umich.edu
URL:https://events.umich.edu/event/123760
CLASS:PUBLIC
STATUS:CONFIRMED
CATEGORIES:Writing,Literature,Library,Free
LOCATION:Hatcher Graduate Library - Hatcher Gallery Exhibit Room, 1st Floor
CONTACT:
END:VEVENT
END:VCALENDAR