BEGIN:VCALENDAR
VERSION:2.0
PRODID:-//UM//UM*Events//EN
CALSCALE:GREGORIAN
BEGIN:VTIMEZONE
TZID:America/Detroit
TZURL:http://tzurl.org/zoneinfo/America/Detroit
X-LIC-LOCATION:America/Detroit
BEGIN:DAYLIGHT
TZOFFSETFROM:-0500
TZOFFSETTO:-0400
TZNAME:EDT
DTSTART:20070311T020000
RRULE:FREQ=YEARLY;BYMONTH=3;BYDAY=2SU
END:DAYLIGHT
BEGIN:STANDARD
TZOFFSETFROM:-0400
TZOFFSETTO:-0500
TZNAME:EST
DTSTART:20071104T020000
RRULE:FREQ=YEARLY;BYMONTH=11;BYDAY=1SU
END:STANDARD
END:VTIMEZONE
BEGIN:VEVENT
DTSTAMP:20240823T094124
DTSTART;TZID=America/Detroit:20241030T090000
DTEND;TZID=America/Detroit:20241030T170000
SUMMARY:Exhibition:Steve Glazer Art Exhibition
DESCRIPTION:Steve Glazer earned his BFA in art with a concentration in ceramics from Eastern Michigan University\, a master’s degree in art from Central Michigan University\, and MFA in fine arts and ceramics from Indiana State University. Since 2004\, Glazer has been lead faculty and head of ceramics at Henry Ford College\, and former faculty of Concord College (WV) and North Dakota State University. His artwork has been exhibited throughout the country.\n\nThroughout his adult life the art of Steve Glazer has been done as a response to his environment. From a series of shadow box type pieces containing life like ceramic fish while teaching at a Catholic woman’s college\, to building 8’ tall ceramic “skyscrapers” that barely fit into the display spaces while teaching in North Dakota\, where no skyscrapers exist\, and then creating installations commenting on living in Appalachia while teaching in southern West Virginia. After returning home to Detroit\, Glazer began his griot series\, the “Motor City Griot Society” masks\, the faces of the superheroes that will save Detroit\, and more recently the “Motor City Griot Patrol” creatures that will protect the city of Detroit.
UID:124670-21853547@events.umich.edu
URL:https://events.umich.edu/event/124670
CLASS:PUBLIC
STATUS:CONFIRMED
CATEGORIES:Visual Arts,North Campus,Exhibition,Detroit,Culture,Art
LOCATION:North Campus Research Complex Building 18 - Rotunda Gallery
CONTACT:
END:VEVENT
BEGIN:VEVENT
DTSTAMP:20240814T093222
DTSTART;TZID=America/Detroit:20241030T090000
DTEND;TZID=America/Detroit:20241030T170000
SUMMARY:Exhibition:Susan Moran Exhibition
DESCRIPTION:Susan Moran’s work is inspired by the natural world and our place in it.  She collects and arranges images\, builds and subtracts\, and uses processes that suit the concepts and gives the pieces a reason for existing as textiles.  Simultaneously she strives to make the medium  influence the  outcome in such a way that cloth and image meld together. Moran uses  silkscreen\, shibori\, and stitching to embed images from her daily walks into the fabric. it's important that the work builds slowly\, involving meditative processes that connect her to the cloth and the source of the design.\n\nGallery hours:  Monday-Friday\, 9 am to 5pm or by appointment serrag@med.umich.edu
UID:124224-21852724@events.umich.edu
URL:https://events.umich.edu/event/124224
CLASS:PUBLIC
STATUS:CONFIRMED
CATEGORIES:Exhibition,Visual Arts,North Campus,Graduate Students,Free,Detroit,Culture,Art,Alumni
LOCATION:North Campus Research Complex Building 18 - Rotunda Gallery
CONTACT:
END:VEVENT
BEGIN:VEVENT
DTSTAMP:20241202T164032
DTSTART;TZID=America/Detroit:20241030T090000
DTEND;TZID=America/Detroit:20241030T120000
SUMMARY:Social / Informal Gathering:Welcome Wednesdays with the Alumni Association
DESCRIPTION:The Alumni Association of the University of Michigan hosts Welcome Wednesdays for U-M students most Wednesday mornings throughout the fall and winter semesters. Start your day with free coffee\, tea\, hot chocolate\, and a breakfast snack thanks to Alumni Association members.\n\nStudents can stop by the Alumni Center from 9 a.m. to noon for during the dates listed and make sure to bring your Mcard!
UID:124011-21852291@events.umich.edu
URL:https://events.umich.edu/event/124011
CLASS:PUBLIC
STATUS:CONFIRMED
CATEGORIES:Alumni,welcome week event,welcome week,Welcome to Michigan,Undergraduate Students,Free,Food
LOCATION:Alumni Center
CONTACT:
END:VEVENT
END:VCALENDAR