BEGIN:VCALENDAR
VERSION:2.0
PRODID:-//UM//UM*Events//EN
CALSCALE:GREGORIAN
BEGIN:VTIMEZONE
TZID:America/Detroit
TZURL:http://tzurl.org/zoneinfo/America/Detroit
X-LIC-LOCATION:America/Detroit
BEGIN:DAYLIGHT
TZOFFSETFROM:-0500
TZOFFSETTO:-0400
TZNAME:EDT
DTSTART:20070311T020000
RRULE:FREQ=YEARLY;BYMONTH=3;BYDAY=2SU
END:DAYLIGHT
BEGIN:STANDARD
TZOFFSETFROM:-0400
TZOFFSETTO:-0500
TZNAME:EST
DTSTART:20071104T020000
RRULE:FREQ=YEARLY;BYMONTH=11;BYDAY=1SU
END:STANDARD
END:VTIMEZONE
BEGIN:VEVENT
DTSTAMP:20241010T082742
DTSTART;TZID=America/Detroit:20241030T093000
DTEND;TZID=America/Detroit:20241030T103000
SUMMARY:Lecture / Discussion:Decoding the Tumor Suppressive Mechanisms of GPCR-Gαs/PKA Signaling
DESCRIPTION:2024 CDB Seminar Series\n\nWe are pleased to announce that Ramiro Iglesias-Bartolome\, Ph.D.- NIH Stadtman Investigator\, Laboratory of Cellular and Molecular Biology (LCMB)\, will present his talk titled \"Decoding the Tumor Suppressive Mechanisms of GPCR-Gαs/PKA Signaling\,\" on Wednesday\, October 30\, 2024\, at 9:30 a.m. This will be live in ABC Seminar Rooms in BSRB and via Zoom Meeting link: https://umich.zoom.us/j/96884969689.\n\nHosted by: CDB Students
UID:127652-21859433@events.umich.edu
URL:https://events.umich.edu/event/127652
CLASS:PUBLIC
STATUS:CONFIRMED
CATEGORIES:Basic Science,Biointerfaces,Biology,Science
LOCATION:Taubman Biomedical Science Research Building - ABC Seminar Rooms in BSRB
CONTACT:
END:VEVENT
BEGIN:VEVENT
DTSTAMP:20240906T120614
DTSTART;TZID=America/Detroit:20241030T093000
SUMMARY:Performance:Fall 2024 DEI Symposium featuring “Breaking Ice” by The Pillsbury House Theatre
DESCRIPTION:Michigan Medicine is thrilled to present the Fall 2024 Diversity\, Equity and Inclusion (DEI) Symposium\, themed \"Navigating Our Differences to Increase Understanding.\"\n\nThis year's symposium promises to be a powerful\, immersive experience featuring the award-winning \"Breaking Ice\" performance by Pillsbury House Theatre\, renowned for its thought-provoking and engaging exploration of systemic inequities\, unconscious bias and communication barriers.\n\nBreaking Ice is one of Pillsbury House Theatre’s signature programs\, celebrated for its ability to foster deeper understanding and meaningful conversations about challenging topics. The performance combines drama\, humor\, poetry and monologue to vividly illustrate how systemic inequities and biases play out in everyday interactions.\n\nBy addressing these issues directly\, Breaking Ice encourages participants to reflect on their own behaviors and assumptions\, paving the way for constructive change.\n\nFollowing the performance\, attendees will engage in a facilitated discussion\, designed to help translate the insights from the performance into actionable steps that can enhance our communication\, sense of belonging and overall workplace culture.\n\nEvent Timeline: Wednesday\, October 30th \n9:00 a.m. - Doors Open \n9:30-9:45 a.m. - Opening Remarks from the Office for Health Equity and Inclusion \n9:45-11:45 a.m.  - Pillsbury Theater Performance of \"Breaking Ice\" \n12:00 p.m. - Event Concludes
UID:125886-21856243@events.umich.edu
URL:https://events.umich.edu/event/125886
CLASS:PUBLIC
STATUS:CONFIRMED
CATEGORIES:Mutotix
LOCATION:GA - Power Center
CONTACT:
END:VEVENT
BEGIN:VEVENT
DTSTAMP:20241022T095723
DTSTART;TZID=America/Detroit:20241030T100000
DTEND;TZID=America/Detroit:20241030T160000
SUMMARY:Exhibition:GalleryDAAS Exhibition: \"Hip Hop @ 50\"
DESCRIPTION:It's back! Brought to you by the Department of Afroamerican and African Studies (DAAS)\, GalleryDAAS celebrates the 50th anniversary of hip hop with “Hip Hop @ 50\,” an exhibition highlighting this constantly evolving phenomenon. Explore various aspects of hip hop culture\, including definitions\, dates\, divas\, the Detroit scene\, and a special tribute to J Dilla (James Dewitt Yancey)\, a prolific producer. Through examining the five pillars of hip hop — rapping\, break dancing\, DJing\, graffiti and historical knowledge — it becomes evident that what began as a musical genre has impacted society\, fashion\, language\, entertainment and even politics. Visitors will also be treated to a GREAT playlist! The gallery is open Monday–Friday from 10 a.m. to 4 p.m.
UID:122094-21860331@events.umich.edu
URL:https://events.umich.edu/event/122094
CLASS:PUBLIC
STATUS:CONFIRMED
CATEGORIES:AEM Featured,african and african american studies,african and afroamerican studies
LOCATION:Haven Hall - G648
CONTACT:
END:VEVENT
END:VCALENDAR