BEGIN:VCALENDAR
VERSION:2.0
PRODID:-//UM//UM*Events//EN
CALSCALE:GREGORIAN
BEGIN:VTIMEZONE
TZID:America/Detroit
TZURL:http://tzurl.org/zoneinfo/America/Detroit
X-LIC-LOCATION:America/Detroit
BEGIN:DAYLIGHT
TZOFFSETFROM:-0500
TZOFFSETTO:-0400
TZNAME:EDT
DTSTART:20070311T020000
RRULE:FREQ=YEARLY;BYMONTH=3;BYDAY=2SU
END:DAYLIGHT
BEGIN:STANDARD
TZOFFSETFROM:-0400
TZOFFSETTO:-0500
TZNAME:EST
DTSTART:20071104T020000
RRULE:FREQ=YEARLY;BYMONTH=11;BYDAY=1SU
END:STANDARD
END:VTIMEZONE
BEGIN:VEVENT
DTSTAMP:20240829T143440
DTSTART;TZID=America/Detroit:20241030T100000
DTEND;TZID=America/Detroit:20241030T110000
SUMMARY:Social / Informal Gathering:German Convo on the Go
DESCRIPTION:Meet at Burton Tower for a 1-hour walk and talk in German with Mary Gell (magell@umich.edu). This event happens 'rain or shine.'  Note that the group leaves at 10am sharp.
UID:125321-21854735@events.umich.edu
URL:https://events.umich.edu/event/125321
CLASS:PUBLIC
STATUS:CONFIRMED
CATEGORIES:German,German Studies,Germanic Languages And Literatures
LOCATION:Burton Memorial Tower
CONTACT:
END:VEVENT
BEGIN:VEVENT
DTSTAMP:20241113T003143
DTSTART;TZID=America/Detroit:20241030T100000
DTEND;TZID=America/Detroit:20241030T101500
SUMMARY:Careers / Jobs:M&T Bank Information Blitz - 10/30/2024
DESCRIPTION:Come join the Early Talent Team at M&amp\;T Bank for a fun and fast session to learn about what it's like to work at a Community Bank! We'll cover who we are as an organization as well as full time and internship opportunities we're currently hiring for. Come as youare! No pressure for video - join between classes or on a break! Don’t forget to follow us on Handshake as well!  Handshake - M&amp\;T Bank *Multiple sessions available to join throughout the fall semester!
UID:127231-21858678@events.umich.edu
URL:https://events.umich.edu/event/127231
CLASS:PUBLIC
STATUS:CONFIRMED
CATEGORIES:
LOCATION:
CONTACT:
END:VEVENT
BEGIN:VEVENT
DTSTAMP:20241113T003223
DTSTART;TZID=America/Detroit:20241030T100000
DTEND;TZID=America/Detroit:20241030T150000
SUMMARY:Careers / Jobs:Northern California Coding/Health Information Management- Virtual Meet & Greet
DESCRIPTION:Must live in Northern California! Job Summary:Under direct supervision\, the Inpatient Coder is responsible for the accurate coding and abstracting of inpatient cases or services (diagnosis\, conditions and procedures) from medical record documentation.  Assign codes and modifiers using the appropriate version of ICD-CM\, ICD-PCS\, CPT and HCPCS as well as other specialty systems as required by diagnostic category.  The Inpatient Coder is expected to code and abstract Observation (OBS)\, Hospital Ambulatory Surgery (HAS)\, Emergency Department (ED)\, and complex Hospital Outpatient Visit (CHOY) services when needed.    All work must be performed in accordance with the rules\, regulations and coding conventions of ICD-CM Official Guidelines for Coding and Reporting\, Coding Clinic published by the American Hospital Association\, the ICD-CM\, ICD-PCS\, CPT and HCPCS code book\, CPT Assistant\, NCCI Edits\, CMS\, OSHPD and Kaiser Permanentes organizational and institutional coding guidelines.Grade 650Qualifications - ExternalBasic Qualifications:ExperienceThree years of continuous hospital coding experience within the last five years.EducationHigh School Diploma or GED and demonstrated completion of classes in medical terminology\, anatomy\, physiology\, current ICD-CM\, ICD-PCS and CPT coding conventions and disease process from an accredited program.License\, Certification\, RegistrationCertified Coding Specialist OR Registered Health Information Technician OR Registered Health Information Administrator DisclaimerKaiser Permanente is an equal opportunity employer committed to a diverse and inclusive workforce. Applicants will receive consideration for employment without regard to race\, color\, religion\,sex (including pregnancy)\, age\, sexual orientation\, national origin\, marital status\, parental status\, ancestry\, disability\, gender identity\, veteran status\, genetic information\, other distinguishing characteristics of diversity and inclusion\, or any other protected status. 
UID:128501-21861023@events.umich.edu
URL:https://events.umich.edu/event/128501
CLASS:PUBLIC
STATUS:CONFIRMED
CATEGORIES:
LOCATION:
CONTACT:
END:VEVENT
END:VCALENDAR