BEGIN:VCALENDAR
VERSION:2.0
PRODID:-//UM//UM*Events//EN
CALSCALE:GREGORIAN
BEGIN:VTIMEZONE
TZID:America/Detroit
TZURL:http://tzurl.org/zoneinfo/America/Detroit
X-LIC-LOCATION:America/Detroit
BEGIN:DAYLIGHT
TZOFFSETFROM:-0500
TZOFFSETTO:-0400
TZNAME:EDT
DTSTART:20070311T020000
RRULE:FREQ=YEARLY;BYMONTH=3;BYDAY=2SU
END:DAYLIGHT
BEGIN:STANDARD
TZOFFSETFROM:-0400
TZOFFSETTO:-0500
TZNAME:EST
DTSTART:20071104T020000
RRULE:FREQ=YEARLY;BYMONTH=11;BYDAY=1SU
END:STANDARD
END:VTIMEZONE
BEGIN:VEVENT
DTSTAMP:20241030T060023
DTSTART;TZID=America/Detroit:20241030T100000
DTEND;TZID=America/Detroit:20241030T110000
SUMMARY:Social / Informal Gathering:SC2 Coffee Hour
DESCRIPTION:Stop By for a Coffee. Just find us in the coffee shop\, and we will order it for you. Coffee Hour also provides an opportunity to ask any questions about the club or scientific computing in general. If the coffee hour is at M36\, be sure to check for us in the basement seating area. We will always have a sign so you can recognize us.
UID:128254-21860512@events.umich.edu
URL:https://events.umich.edu/event/128254
CLASS:PUBLIC
STATUS:CONFIRMED
CATEGORIES:
LOCATION:M36 Coffee Shop
CONTACT:
END:VEVENT
BEGIN:VEVENT
DTSTAMP:20240130T121550
DTSTART;TZID=America/Detroit:20241030T110000
DTEND;TZID=America/Detroit:20241030T170000
SUMMARY:Exhibition:A Gathering
DESCRIPTION:Welcome. Make Yourself At Home.\n \nA Gathering brings together the newest works of art to enter UMMA’s collection — many on display here for the first time. \n \nAs a free\, public museum\, UMMA staff takes care of art for the benefit of the community and society at large. The works on view in this exhibition\, all brought into the Museum between 2019 and the present\, shows how institutions like UMMA are becoming more permeable to societal challenges\, and more nimble in responding to them in service to all in their communities. In this exhibition you will find works that reflect on how global migrations\, race\, gender\, and ecological change shape the way we engage with the world and inform our visions for the future.\n \nThis collection of artistic engagements with issues give us tools to envision who we want to be as individuals\, as a museum\, and as a society\, connected to one another across space and experience.\n \nSo gather here to take in these latest works of art brought here for you. Gather here to be engulfed in their forms and meanings\, to discuss their takes\, to learn\, to disagree. Gather to relax\, make a friend\, drink a coffee\, finish the daily Wordle. Gather to feel full\, to be moved and inspired by all the possible imaginations of what is yet to come.\n \nCurated by Félix Zamora Gómez Irving Stenn\, Jr. Fellow in Public Humanities & Museum Pedagogy\n\nLead support for this exhibition is provided by Lizzie and Jonathan Tisch\, the Richard and Rosann Noel Endowment\, and the University of Michigan Office of the Provost.\n 
UID:107870-21817950@events.umich.edu
URL:https://events.umich.edu/event/107870
CLASS:PUBLIC
STATUS:CONFIRMED
CATEGORIES:Humanities,UMMA,Staff,Museum,Art,Free,Exhibition
LOCATION:Museum of Art - Lizzie and Jonathan Tisch Apse
CONTACT:
END:VEVENT
BEGIN:VEVENT
DTSTAMP:20241115T181510
DTSTART;TZID=America/Detroit:20241030T110000
DTEND;TZID=America/Detroit:20241030T170000
SUMMARY:Exhibition:Arbor Glyph
DESCRIPTION:Arbor Glyph is an installation centered around a collective painting of trees\, created by Stamps students and activated by a colorful projection repurposing hand-painted elements and bringing them to life. The goal of the exhibition is to foster collaboration among student artists and engage the Stamps community\, encouraging participation through a student painting party earlier this month\, with a focus on inclusion\, expression\, and finding solace in local landscapes.The Student-led Exhibition Committee (SEC) is a newly-formed group of students\, faculty\, and staff\, aiming to create more opportunities for undergrads to exhibit on campus. Arbor Glyph follows their Winter 2024 salon-style exhibition L'Assemblage in the Stamps Art &amp\; Architecture Building\, further developing students' experience planning extracurricular exhibitions by showing in the Stamps Gallery\, and taking a new approach to creating/curating artwork.
UID:127895-21859893@events.umich.edu
URL:https://events.umich.edu/event/127895
CLASS:PUBLIC
STATUS:CONFIRMED
CATEGORIES:Art
LOCATION:Off Campus Location
CONTACT:
END:VEVENT
END:VCALENDAR