BEGIN:VCALENDAR
VERSION:2.0
PRODID:-//UM//UM*Events//EN
CALSCALE:GREGORIAN
BEGIN:VTIMEZONE
TZID:America/Detroit
TZURL:http://tzurl.org/zoneinfo/America/Detroit
X-LIC-LOCATION:America/Detroit
BEGIN:DAYLIGHT
TZOFFSETFROM:-0500
TZOFFSETTO:-0400
TZNAME:EDT
DTSTART:20070311T020000
RRULE:FREQ=YEARLY;BYMONTH=3;BYDAY=2SU
END:DAYLIGHT
BEGIN:STANDARD
TZOFFSETFROM:-0400
TZOFFSETTO:-0500
TZNAME:EST
DTSTART:20071104T020000
RRULE:FREQ=YEARLY;BYMONTH=11;BYDAY=1SU
END:STANDARD
END:VTIMEZONE
BEGIN:VEVENT
DTSTAMP:20241030T112043
DTSTART;TZID=America/Detroit:20241030T120000
DTEND;TZID=America/Detroit:20241030T133000
SUMMARY:Workshop / Seminar:[DEICP] Navigating Difficult Conversations
DESCRIPTION:In this interactive session\, Rackham experts in conflict resolution will discuss the ways in which conflict can manifest in our academic and personal spheres and will explore strategies to navigate and address difficult conversations. You will leave with concrete strategies for productive dialogue and clear communication\, able to approach difficult conversations with more confidence in the future.\nLearning objectives:Participants will be exposed to the idea that conflict is culturally grounded.Participants will reflect on the ways in which their conflict style affects how they view or experience conflict.\nParticipants will be able to react to strategies for dialogue and communication.\nParticipants will be asked to consider how strategies may be used in specific situations.\nThis workshop is designed for U-M master's students\, doctoral students\, and postdoctoral scholars on all three campuses\; therefore\, only U-M graduate students and postdoctoral scholars are permitted to register for this workshop. While this workshop is being facilitated on behalf of Rackham’s DEI Certificate Program\, it is open to all U-M graduate students and postdoctoral scholars. For faculty and staff\, please contact rackhampdeworkshops@umich.edu to ask if we can accommodate your attendance.
UID:123573-21851092@events.umich.edu
URL:https://events.umich.edu/event/123573
CLASS:PUBLIC
STATUS:CONFIRMED
CATEGORIES:Sessions
LOCATION:Rackham 4th West Conference Room
CONTACT:
END:VEVENT
BEGIN:VEVENT
DTSTAMP:20241030T123220
DTSTART;TZID=America/Detroit:20241030T120000
DTEND;TZID=America/Detroit:20241030T130000
SUMMARY:Lecture / Discussion:Brown Bag Seminar |  Quasinormal ringdown in the SYK model
DESCRIPTION:Thermal correlators in large N systems equilibrate at late times\, but the precise late-time behavior is unknown away from holographic and free field limits. In this talk I will analyze this problem in the case of the SYK model away from the low-temperature limit\, finding a discrete spectrum of quasinormal modes. The basic technique is a resummation of perturbation theory which is reminiscent of the double cone construction. We will also discuss the interpretation of the result in terms of a dual stringy black hole.
UID:125198-21854541@events.umich.edu
URL:https://events.umich.edu/event/125198
CLASS:PUBLIC
STATUS:CONFIRMED
CATEGORIES:brown bag,Physics,Brown Bag Seminar
LOCATION:Randall Laboratory - 3481
CONTACT:
END:VEVENT
BEGIN:VEVENT
DTSTAMP:20241113T003210
DTSTART;TZID=America/Detroit:20241030T120000
DTEND;TZID=America/Detroit:20241030T123000
SUMMARY:Careers / Jobs:Cool career spotlight: a day in the life of a product marketer in tech
DESCRIPTION:Ever wondered what a career in marketing is actually like? On October 30 at 12:00PM PT join us for a virtual session with Handshake Senior Product Marketing Manager Emily Ann Clemons. During the event Emily Ann will share her insights on topics such as: \nWhat theday-to-day looks like for a product marketer\nTips for building your portfolio\nSkills needed to break into the world of marketing\n Hope to see you there!
UID:128240-21860468@events.umich.edu
URL:https://events.umich.edu/event/128240
CLASS:PUBLIC
STATUS:CONFIRMED
CATEGORIES:
LOCATION:
CONTACT:
END:VEVENT
END:VCALENDAR