BEGIN:VCALENDAR
VERSION:2.0
PRODID:-//UM//UM*Events//EN
CALSCALE:GREGORIAN
BEGIN:VTIMEZONE
TZID:America/Detroit
TZURL:http://tzurl.org/zoneinfo/America/Detroit
X-LIC-LOCATION:America/Detroit
BEGIN:DAYLIGHT
TZOFFSETFROM:-0500
TZOFFSETTO:-0400
TZNAME:EDT
DTSTART:20070311T020000
RRULE:FREQ=YEARLY;BYMONTH=3;BYDAY=2SU
END:DAYLIGHT
BEGIN:STANDARD
TZOFFSETFROM:-0400
TZOFFSETTO:-0500
TZNAME:EST
DTSTART:20071104T020000
RRULE:FREQ=YEARLY;BYMONTH=11;BYDAY=1SU
END:STANDARD
END:VTIMEZONE
BEGIN:VEVENT
DTSTAMP:20241205T123129
DTSTART;TZID=America/Detroit:20241120T170000
DTEND;TZID=America/Detroit:20241120T174500
SUMMARY:Careers / Jobs:Amazon Operations Opportunities in OH\, IN\, KY\, WI\, MI- Information Session (Non-Tech)
DESCRIPTION:Are you ready to unlock a world of opportunities with Amazon's operations in Ohio? 🚀 Join us for an exclusive info session revealing the dynamic world of Amazon's Operations! 📦📅 Date:Wednesday\, November 20\, 2024⏰ Time: 05:00 PM CT- 05:45 PM  CT📍Location:  https://chime.aws/1233605346Meeting ID:  1233 60 5346Whether you're a job seeker\, a supply chain enthusiast\, or simply curious about the behind-the-scenes magic of Amazon's vast network\, this session is for you. Meet with a University Recruiter from Amazon Operations to learn moreabout their Area Manager positions at Amazon!This is your chance to:◾ Learn about Amazon's innovative fulfillment and distribution Centers.◾ Discover a variety of career opportunities from entry-level management.◾ Connect with Amazon leaders and get insider insights into their operational success. As an Area Manager\, you will have the opportunity to lead and develop your own team of Amazon Associates\; your main focus will be motivating\, mentoring and coaching your team. The core of the job will be engaging with your team during a shift to ensure that the highest levels of safety\, quality\, attendance performance and engagement are maintained. Come learn how the largest online retailer in the world runs its fulfillment and delivery networks! As a front-line leader\, you will have an opportunity to truly invest in others anddevelop a people-focused leadership style\, while mastering the tools\, processes\, and operations that have created the most customer-centric company on Earth. 🔗 Don't miss out on the action - Be a partof something bigger with Amazon!#AmazonOperations #CentralJobs #CareerOpportunities #SupplyChain #InfoSession #AMAZON #amazoncareers 🌟 INFO SESSION PREPARATION 🌟 :You must complete the chime readiness test beforeDialing into Chime using your phone or using an Ethernet cable may prevent any technical issues.Click to join the meeting: https://chime.aws/1233605346Meeting ID: 1233 60 5346A headset is recommended or you may use your computer’s microphone and speakers.Call in using your phone:United States Toll-Free (1): +1 855-552-4463Meeting ID: 1233 60 5346One-clickMobile Dial-in (United States (1)): +1 206-462-5569\,\,\,1233605346#United States (1): +1 206-462-5569 Download Amazon Chime at https://aws.amazon.com/chime/downloadFor information about creating an Amazon Chime account\, see https://aws.amazon.com/chime/getting-started
UID:128909-21861883@events.umich.edu
URL:https://events.umich.edu/event/128909
CLASS:PUBLIC
STATUS:CONFIRMED
CATEGORIES:
LOCATION:
CONTACT:
END:VEVENT
BEGIN:VEVENT
DTSTAMP:20250107T110100
DTSTART;TZID=America/Detroit:20241120T170000
DTEND;TZID=America/Detroit:20241120T180000
SUMMARY:Social / Informal Gathering:ELI Course Info + Pizza Party!
DESCRIPTION:Join us for pizza and meet with ELI faculty to learn about ELI’s Academic English mini-courses and other language resources for international students and other multilingual speakers!\n\nAll are welcome but please RSVP so we know how much pizza to order!
UID:128745-21861580@events.umich.edu
URL:https://events.umich.edu/event/128745
CLASS:PUBLIC
STATUS:CONFIRMED
CATEGORIES:Graduate And Professional Students,International,Language,Undergraduate Students
LOCATION:Weiser Hall - 955
CONTACT:
END:VEVENT
BEGIN:VEVENT
DTSTAMP:20241120T162030
DTSTART;TZID=America/Detroit:20241120T170000
DTEND;TZID=America/Detroit:20241120T180000
SUMMARY:Workshop / Seminar:ELI Winter Course Info & Pizza Party - RSVP
DESCRIPTION:Join us for pizza and meet with ELI faculty and students to learn about ELI’s course offerings for winter!All are welcome but please register so we know how much pizza to order!
UID:126275-21856833@events.umich.edu
URL:https://events.umich.edu/event/126275
CLASS:PUBLIC
STATUS:CONFIRMED
CATEGORIES:Sessions
LOCATION:Weiser Hall 955
CONTACT:
END:VEVENT
END:VCALENDAR