BEGIN:VCALENDAR
VERSION:2.0
PRODID:-//UM//UM*Events//EN
CALSCALE:GREGORIAN
BEGIN:VTIMEZONE
TZID:America/Detroit
TZURL:http://tzurl.org/zoneinfo/America/Detroit
X-LIC-LOCATION:America/Detroit
BEGIN:DAYLIGHT
TZOFFSETFROM:-0500
TZOFFSETTO:-0400
TZNAME:EDT
DTSTART:20070311T020000
RRULE:FREQ=YEARLY;BYMONTH=3;BYDAY=2SU
END:DAYLIGHT
BEGIN:STANDARD
TZOFFSETFROM:-0400
TZOFFSETTO:-0500
TZNAME:EST
DTSTART:20071104T020000
RRULE:FREQ=YEARLY;BYMONTH=11;BYDAY=1SU
END:STANDARD
END:VTIMEZONE
BEGIN:VEVENT
DTSTAMP:20241113T003210
DTSTART;TZID=America/Detroit:20241030T120000
DTEND;TZID=America/Detroit:20241030T130000
SUMMARY:Careers / Jobs:NCAL KAISER PERMANENTE - PSYCH. POSTDOCTORAL RESIDENCY PROGRAM - INFO. SESSION
DESCRIPTION:Kaiser Permanente’s Northern California Mental Health Training Program would like to invite you to join us and a panel of experts at one of our upcoming Psychology Postdoctoral Residency Virtual Information Sessions. The session will provide you with a high-level overview of Kaiser Permanente\, details around the program and position\, and an opportunity to ask questions. We look forward to seeing you!
UID:128322-21860653@events.umich.edu
URL:https://events.umich.edu/event/128322
CLASS:PUBLIC
STATUS:CONFIRMED
CATEGORIES:
LOCATION:
CONTACT:
END:VEVENT
BEGIN:VEVENT
DTSTAMP:20240116T141648
DTSTART;TZID=America/Detroit:20241030T120000
DTEND;TZID=America/Detroit:20241030T123000
SUMMARY:Well-being:North Campus Mindfulness Meditation Drop-In (Online)
DESCRIPTION:Take a moment to create some space to breathe and invite a sense of calm into your day. This is a guided mindfulness meditation drop-in session. No experience necessary. Free and open to all. \n\nEmail dmitryb@umich.edu to sign up for the mailing list. You will receive a weekly reminder with the zoom link. Also\, you can add the sessions to your Google Calendar: https://tinyurl.com/y3kbkwd6
UID:40967-21859832@events.umich.edu
URL:https://events.umich.edu/event/40967
CLASS:PUBLIC
STATUS:CONFIRMED
CATEGORIES:Health & Wellness,Meditation,Mindfulness,Mindfulness\, Meditation,North campus,Stress Reduction,Virtual,Well-being
LOCATION:Off Campus Location
CONTACT:
END:VEVENT
BEGIN:VEVENT
DTSTAMP:20240904T181939
DTSTART;TZID=America/Detroit:20241030T120000
DTEND;TZID=America/Detroit:20241030T123000
SUMMARY:Performance:Tiffany Ng\, carillon
DESCRIPTION:University Carillonist Tiffany Ng University Carillonist Tiffany Ng
UID:125742-21855688@events.umich.edu
URL:https://events.umich.edu/event/125742
CLASS:PUBLIC
STATUS:CONFIRMED
CATEGORIES:Faculty,Free,Music,Talk
LOCATION:Burton Memorial Tower
CONTACT:
END:VEVENT
END:VCALENDAR