BEGIN:VCALENDAR
VERSION:2.0
PRODID:-//UM//UM*Events//EN
CALSCALE:GREGORIAN
BEGIN:VTIMEZONE
TZID:America/Detroit
TZURL:http://tzurl.org/zoneinfo/America/Detroit
X-LIC-LOCATION:America/Detroit
BEGIN:DAYLIGHT
TZOFFSETFROM:-0500
TZOFFSETTO:-0400
TZNAME:EDT
DTSTART:20070311T020000
RRULE:FREQ=YEARLY;BYMONTH=3;BYDAY=2SU
END:DAYLIGHT
BEGIN:STANDARD
TZOFFSETFROM:-0400
TZOFFSETTO:-0500
TZNAME:EST
DTSTART:20071104T020000
RRULE:FREQ=YEARLY;BYMONTH=11;BYDAY=1SU
END:STANDARD
END:VTIMEZONE
BEGIN:VEVENT
DTSTAMP:20241120T180010
DTSTART;TZID=America/Detroit:20241120T170000
DTEND;TZID=America/Detroit:20241120T220000
SUMMARY:Social / Informal Gathering:Weekly Wednesday Night Study Sessions
DESCRIPTION:Come Join us every Wednesday evening from 5-10pm at the Literature Science and Arts Building in the Transfer Student Center for a group study session. The space is dedicated during these hours for student veterans so feel free to drop in anytime during these hours. 
UID:129044-21862080@events.umich.edu
URL:https://events.umich.edu/event/129044
CLASS:PUBLIC
STATUS:CONFIRMED
CATEGORIES:
LOCATION:Literature Science and Arts Building
CONTACT:
END:VEVENT
BEGIN:VEVENT
DTSTAMP:20241011T135135
DTSTART;TZID=America/Detroit:20241120T173000
DTEND;TZID=America/Detroit:20241120T190000
SUMMARY:Exhibition:2024 Global Photo Showcase
DESCRIPTION:Join various U-M International Education units at the 2024 Global Photo Showcase\, featuring student photography from all over the world! Vote for your favorite photos and enter raffles to win U-M prizes. Chat with study abroad returnees\, international students\, and international education professionals. Enjoy food and music from around the globe and learn about upcoming international opportunities!\n\nThis event is organized by the Center for Global & Intercultural Study\, Global Engagement — Office of the Provost\, the International Institute\, International Programs in Engineering\, Ross Global Initiatives\, Global Public Health\, and the International Center.
UID:125860-21856184@events.umich.edu
URL:https://events.umich.edu/event/125860
CLASS:PUBLIC
STATUS:CONFIRMED
CATEGORIES:Abroad,Diversity Equity and Inclusion,Food,Free,global,global engagement,global opportunities,In Person,intercultural,International Week,Multicultural,photography,Sessions,study abroad,Travel,Visual Arts
LOCATION:1010 Weiser Hall (10th Floor, 500 Church Street)
CONTACT:
END:VEVENT
BEGIN:VEVENT
DTSTAMP:20241108T153627
DTSTART;TZID=America/Detroit:20241120T173000
DTEND;TZID=America/Detroit:20241120T190000
SUMMARY:Workshop / Seminar:A2C3 Communities Talk
DESCRIPTION:Join us for an interactive event on the history\, benefits\, challenges\, and misconceptions about cannabis with experts in the field.\n\nWhether you’re curious about historical trends\, the latest research\, health and wellness\, or policy implications\, this event invites all to explore the complex and evolving world of cannabis.\n\nFEATURED SPEAKERS:  \nErin Bonar\, PhD\,  Department of Psychiatry and Addiction Center\, U-M\nChris Frank\, MD\, PhD\, University Health & Counseling\, U-M\nJoan Lowenstein\, Attorney (retired)\, Former City Council Member\n\n5:30-7pm\, 11/20/24\nNo registration required. Refreshments will follow.\n\nAnn Arbor District Library \nDowntown Branch | 343 S. 5th Ave. \nQuestions?\nVisit: wolverinewellness.umich.edu/a2c3\n E-mail: annarborcoaltion@umich.edu
UID:128839-21861687@events.umich.edu
URL:https://events.umich.edu/event/128839
CLASS:PUBLIC
STATUS:CONFIRMED
CATEGORIES:Health & Wellness,History,Social Justice,Wellness
LOCATION:Off Campus Location
CONTACT:
END:VEVENT
END:VCALENDAR