BEGIN:VCALENDAR
VERSION:2.0
PRODID:-//UM//UM*Events//EN
CALSCALE:GREGORIAN
BEGIN:VTIMEZONE
TZID:America/Detroit
TZURL:http://tzurl.org/zoneinfo/America/Detroit
X-LIC-LOCATION:America/Detroit
BEGIN:DAYLIGHT
TZOFFSETFROM:-0500
TZOFFSETTO:-0400
TZNAME:EDT
DTSTART:20070311T020000
RRULE:FREQ=YEARLY;BYMONTH=3;BYDAY=2SU
END:DAYLIGHT
BEGIN:STANDARD
TZOFFSETFROM:-0400
TZOFFSETTO:-0500
TZNAME:EST
DTSTART:20071104T020000
RRULE:FREQ=YEARLY;BYMONTH=11;BYDAY=1SU
END:STANDARD
END:VTIMEZONE
BEGIN:VEVENT
DTSTAMP:20241113T003212
DTSTART;TZID=America/Detroit:20241030T120000
DTEND;TZID=America/Detroit:20241030T130000
SUMMARY:Careers / Jobs:Virtual office hour with USPTO patent examiners
DESCRIPTION:Interested in a career at the United States Patent and Trademark Office as a patent examiner? Learn more about the role directly fromthem!Register nowAs a work-from-home patent examiner\, you can use your STEM skills to analyze breakthrough inventions and protect American innovation. This is the flexible career opportunity you’ve been waiting for. If you are a U.S. citizen or national and are graduating this year with a focus in physical sciences\, life sciences\, math\, engineering\, or related fields\, we’re looking for you! You can apply to patent examiner vacancies that specialize in (including but not limited to): \nBiology\nBiomedical Engineering\nChemistry\nChemical Engineering\nComputer Engineering\nComputer Science\nDesign\nElectrical Engineering\nMechanical Engineering\nPhysics\nBring your questions about the agency\, the role\, and the hiring process to this informal Q&amp\;A session. Our team members are excitedto answer your questions and connect with you about this incredible opportunity to make a difference in intellectual property and moving innovations to market. We hope to see you there! For more information\, contact recruitment@uspto.gov. When you are ready to apply\, submit your application via USAJOBS.Accessibility accommodationIf you are an individual with a disability and would like to request a reasonable accommodation\, please submit your request to the contactinformation listed above. 
UID:128324-21860655@events.umich.edu
URL:https://events.umich.edu/event/128324
CLASS:PUBLIC
STATUS:CONFIRMED
CATEGORIES:
LOCATION:
CONTACT:
END:VEVENT
BEGIN:VEVENT
DTSTAMP:20250207T161055
DTSTART;TZID=America/Detroit:20241030T123000
DTEND;TZID=America/Detroit:20241030T130000
SUMMARY:Tours:Coral Reef Tank Visit
DESCRIPTION:Join Professor Jim Bardwell for a peek behind the scenes at his large coral reef tank featuring many species of coral\, anemone\, and fish. Explore reef ecology and\, if you're lucky\, get a glimpse of a reclusive octopus!  30 minutes\, limit 12 people. This program takes place in the research area of the Biological Sciences Building and is recommended for ages 6 and up.\nSpace is available first come\, first served. Sign up and meet at the Welcome desk.
UID:125537-21855350@events.umich.edu
URL:https://events.umich.edu/event/125537
CLASS:PUBLIC
STATUS:CONFIRMED
CATEGORIES:Museum,natural history museum
LOCATION:Museum of Natural History
CONTACT:
END:VEVENT
BEGIN:VEVENT
DTSTAMP:20241030T122039
DTSTART;TZID=America/Detroit:20241030T130000
DTEND;TZID=America/Detroit:20241030T140000
SUMMARY:Workshop / Seminar:Aachen Summer Research Program Information Session
DESCRIPTION:
UID:126933-21858153@events.umich.edu
URL:https://events.umich.edu/event/126933
CLASS:PUBLIC
STATUS:CONFIRMED
CATEGORIES:Sessions
LOCATION:
CONTACT:
END:VEVENT
END:VCALENDAR