BEGIN:VCALENDAR
VERSION:2.0
PRODID:-//UM//UM*Events//EN
CALSCALE:GREGORIAN
BEGIN:VTIMEZONE
TZID:America/Detroit
TZURL:http://tzurl.org/zoneinfo/America/Detroit
X-LIC-LOCATION:America/Detroit
BEGIN:DAYLIGHT
TZOFFSETFROM:-0500
TZOFFSETTO:-0400
TZNAME:EDT
DTSTART:20070311T020000
RRULE:FREQ=YEARLY;BYMONTH=3;BYDAY=2SU
END:DAYLIGHT
BEGIN:STANDARD
TZOFFSETFROM:-0400
TZOFFSETTO:-0500
TZNAME:EST
DTSTART:20071104T020000
RRULE:FREQ=YEARLY;BYMONTH=11;BYDAY=1SU
END:STANDARD
END:VTIMEZONE
BEGIN:VEVENT
DTSTAMP:20241111T094206
DTSTART;TZID=America/Detroit:20241120T173000
DTEND;TZID=America/Detroit:20241120T183000
SUMMARY:Presentation:Dinner for Democracy: Election Debrief
DESCRIPTION:Note: this is a virtual event open to students on all three University of Michigan campuses.\n\nThe 2024 election has concluded and the results are in\, but what are the results\, and what will change as a result? At this special Dinner for Democracy\, Turn Up Turnout will be breaking down the results of the election\; from the presidential popular vote and Electoral College results to control of the United States Senate and House of Representatives and the result of important statewide ballot initiatives across the country.\n\nJoin Turn Up Turnout for a nonpartisan\, educational review of the 2024 election results. GIFT CARD for participants. *Please note that gift cards will not be sent immediately and will take a few weeks to process.*  \n\n Register here: https://sessions.studentlife.umich.edu/track/event/session/81568
UID:129003-21862005@events.umich.edu
URL:https://events.umich.edu/event/129003
CLASS:PUBLIC
STATUS:CONFIRMED
CATEGORIES:Virtual,Civic Engagement,Democracy,Democratic Engagement,Discussion,Free,Government,Politics
LOCATION:Off Campus Location
CONTACT:
END:VEVENT
BEGIN:VEVENT
DTSTAMP:20241018T172045
DTSTART;TZID=America/Detroit:20241120T173000
DTEND;TZID=America/Detroit:20241120T193000
SUMMARY:Workshop / Seminar:WISE Nights In
DESCRIPTION:Our WISE Mentors & Ambassadors are planning a series of social events for women in STEM at UM called WISE Nights In! Join us for free food\, fun activities\, and a chance to make connections with other STEM students.
UID:126597-21860114@events.umich.edu
URL:https://events.umich.edu/event/126597
CLASS:PUBLIC
STATUS:CONFIRMED
CATEGORIES:Women In Stem,College Of Engineering,Graduate,Graduate and Professional Students,Graduate Students,Michigan Engineering,Sessions,The College Of Literature\, Science\, And The Arts,Transfer Students,Undergraduate,Undergraduate Students,Women In Engineering,Women In Science,Women In Science And Engineering
LOCATION:Undergraduate Science Building - 3236
CONTACT:
END:VEVENT
BEGIN:VEVENT
DTSTAMP:20241120T181539
DTSTART;TZID=America/Detroit:20241120T173000
SUMMARY:Sporting Event:Women's Basketball vs LIU
DESCRIPTION:Women's Basketball vs LIU
UID:128518-21861076@events.umich.edu
URL:https://events.umich.edu/event/128518
CLASS:PUBLIC
STATUS:CONFIRMED
CATEGORIES:Athletics - Women's Basketball,Athletics
LOCATION:Crisler Arena
CONTACT:
END:VEVENT
END:VCALENDAR