BEGIN:VCALENDAR
VERSION:2.0
PRODID:-//UM//UM*Events//EN
CALSCALE:GREGORIAN
BEGIN:VTIMEZONE
TZID:America/Detroit
TZURL:http://tzurl.org/zoneinfo/America/Detroit
X-LIC-LOCATION:America/Detroit
BEGIN:DAYLIGHT
TZOFFSETFROM:-0500
TZOFFSETTO:-0400
TZNAME:EDT
DTSTART:20070311T020000
RRULE:FREQ=YEARLY;BYMONTH=3;BYDAY=2SU
END:DAYLIGHT
BEGIN:STANDARD
TZOFFSETFROM:-0400
TZOFFSETTO:-0500
TZNAME:EST
DTSTART:20071104T020000
RRULE:FREQ=YEARLY;BYMONTH=11;BYDAY=1SU
END:STANDARD
END:VTIMEZONE
BEGIN:VEVENT
DTSTAMP:20241113T003147
DTSTART;TZID=America/Detroit:20241030T130000
DTEND;TZID=America/Detroit:20241030T140000
SUMMARY:Careers / Jobs:Blackstone Spotlight | SP\, BCP\, BIP\, BTO
DESCRIPTION:Please see below for details surrounding our upcoming webinar series! We hope to see you register.  Blackstone is excited to share that we will be hosting a 2024 Fall Webinar Series to provide students the opportunity to learn more about the firm and the2025 recruiting process! Please review our upcoming webinars below and register to learn more about our businesses.  Blackstone Spotlight | SP\, BCP\, BIP\, BTO Date: Wednesday\, October 30th  Time: 1:00pm-2:00pm EST Registration: https://blackstone.zoom.us/webinar/register/WN_d18hN6WJTyyT6EOges2q0Q  Blackstone Spotlight | BXMA\, PWS\, BXCI Date: Monday\, November 11th  Time: 3:00pm-4:00pm EST Registration: https://blackstone.zoom.us/webinar/register/WN_5dEgb3igTHKf5bMDmerTQA  Blackstone Overview II Date: Tuesday\, December 10th Time: 1:00pm-2:00pm EST Registration: https://blackstone.zoom.us/webinar/register/WN_A3KVsszlSMWxpHs_HV1Rnw While our webinars are open to all students\, the information provided will be geared toward undergraduate students exploring internship opportunities for Summer 2026 (graduation date of Fall 2026 – Spring 2027). There are no application requirements to attend our webinars however attendance will be noted. Registering for these informational webinars doesnot constitute an application for employment. Participation in these webinars does not guarantee an interview or employment. Individuals interested in applying for a position with Blackstone should visit our Careers Website for additional information. For any questions\,please contact our team at CampusRecruiting@Blackstone.com  
UID:127613-21859397@events.umich.edu
URL:https://events.umich.edu/event/127613
CLASS:PUBLIC
STATUS:CONFIRMED
CATEGORIES:
LOCATION:
CONTACT:
END:VEVENT
BEGIN:VEVENT
DTSTAMP:20241029T065754
DTSTART;TZID=America/Detroit:20241030T130000
DTEND;TZID=America/Detroit:20241030T140000
SUMMARY:Workshop / Seminar:Interdisciplinary QC-CM Seminar | Frustrated Assemblies: Describing matter from within
DESCRIPTION:Frustrated assemblies are comprised of ill-fitting building blocks whose favored local relative arrangement cannot be globally realized. In fact\, most self assembled structures contain some degree of frustration. In some cases\, the frustration is locally resolved and leads to little or no structural consequence\, while in other cases it dominates the assembly's size\, shape\, and response properties.\n\nIn this talk\, I will present different manifestations of geometric frustration as they naturally arise in molecular crystals\, liquid crystals\, spin systems\, and nanoparticle assemblies. To theoretically study these assemblies we resort to an intrinsic approach in which matter is described only through local properties available to an observer residing within the material. The frustration is then quantified by the geometric compatibility conditions whose structure allows us to classify the frustration and predict the assembly's behavior without explicitly solving for the ground state of the system.
UID:128454-21860847@events.umich.edu
URL:https://events.umich.edu/event/128454
CLASS:PUBLIC
STATUS:CONFIRMED
CATEGORIES:Physics,Science
LOCATION:West Hall - 340
CONTACT:
END:VEVENT
BEGIN:VEVENT
DTSTAMP:20241113T003148
DTSTART;TZID=America/Detroit:20241030T130000
DTEND;TZID=America/Detroit:20241030T140000
SUMMARY:Careers / Jobs:Kellogg Predoctoral Research Fellowships
DESCRIPTION:Thinking about applying to a PhD program? Attend this informational webinar to learn what makes the Kellogg predoctoral Research Fellow position special\, and how it might help give you an advantage when youapply to PhD programs. We will discuss the jobs listed here: https://www.kellogg.northwestern.edu/academics-research/research-support/research-fellows.aspx. (Thiswebinar is live and interactive. It will not be distributed for future review). 
UID:127627-21859411@events.umich.edu
URL:https://events.umich.edu/event/127627
CLASS:PUBLIC
STATUS:CONFIRMED
CATEGORIES:
LOCATION:
CONTACT:
END:VEVENT
END:VCALENDAR