BEGIN:VCALENDAR
VERSION:2.0
PRODID:-//UM//UM*Events//EN
CALSCALE:GREGORIAN
BEGIN:VTIMEZONE
TZID:America/Detroit
TZURL:http://tzurl.org/zoneinfo/America/Detroit
X-LIC-LOCATION:America/Detroit
BEGIN:DAYLIGHT
TZOFFSETFROM:-0500
TZOFFSETTO:-0400
TZNAME:EDT
DTSTART:20070311T020000
RRULE:FREQ=YEARLY;BYMONTH=3;BYDAY=2SU
END:DAYLIGHT
BEGIN:STANDARD
TZOFFSETFROM:-0400
TZOFFSETTO:-0500
TZNAME:EST
DTSTART:20071104T020000
RRULE:FREQ=YEARLY;BYMONTH=11;BYDAY=1SU
END:STANDARD
END:VTIMEZONE
BEGIN:VEVENT
DTSTAMP:20241107T175053
DTSTART;TZID=America/Detroit:20241120T173000
DTEND;TZID=America/Detroit:20241120T183000
SUMMARY:Other:Wonder Walks
DESCRIPTION:Matthaei Botanical Gardens is hosting free guided nature walks on select Wednesdays and Sundays.  These walks are FREE\, no registration is required. Wonder Walks are designed for all ages to inspire curiosity and learning from each other through activities that model curiosity and honor nature. If we have a sizeable mixed-age group\, we may separate into two sets to offer the same content at different levels of engagement.\n\nWednesday walks begin at 5:30 pm.  Sunday walks begin at 1:00 pm. We recommend gathering inside the lobby of Matthaei Botanical Gardens about 10 minutes before the start.\n\nSunday\, November 10: Warm Winter Spices Why do we crave pumpkin spice\, spiced cider\, and cinnamon in the winter months? Learn about the use of spices from around the world and taste flavor-filled spiced teas.\n\nWednesday\, November 13: Warm Winter Spices Why do we crave pumpkin spice\, spiced cider\, and cinnamon in the winter months? Learn about the use of spices from around the world and taste flavor-filled spiced teas.\n\nWednesday\, November 20: Branching Out Leaves have fallen\, and branches are mostly bare\, but trees provide us with so much beauty and inspiration. Explore the patterns found in trees\, the beauty of unique tree features and the ways trees and humans are so deeply connected.\n\nSunday\, November 24: Branching Out Leaves have fallen\, and branches are mostly bare\, but trees provide us with so much beauty and inspiration. Explore the patterns found in trees\, the beauty of unique tree features and the ways trees and humans are so deeply connected.
UID:128887-21861862@events.umich.edu
URL:https://events.umich.edu/event/128887
CLASS:PUBLIC
STATUS:CONFIRMED
CATEGORIES:Well-being,Outdoors,Nature,In Person,Free,environmental education,Environment,Education,botanical gardens
LOCATION:Matthaei Botanical Gardens
CONTACT:
END:VEVENT
BEGIN:VEVENT
DTSTAMP:20241106T114236
DTSTART;TZID=America/Detroit:20241120T180000
DTEND;TZID=America/Detroit:20241120T200000
SUMMARY:Social / Informal Gathering:3rd Annual Westgiving Dinner
DESCRIPTION:It’s time for the annual DPE Westgiving Dinner! Join the West Quad Diversity Peer Educators for a multicultural dinner and discussion about the role of food and meals in our respective communities.
UID:128734-21861570@events.umich.edu
URL:https://events.umich.edu/event/128734
CLASS:PUBLIC
STATUS:CONFIRMED
CATEGORIES:West Quad,Social,Free Food,free,Food,Diversity Peer Educators,Discussion,Culture,Community
LOCATION:West Quadrangle - Asubuhi Multicultural Lounge
CONTACT:
END:VEVENT
BEGIN:VEVENT
DTSTAMP:20241205T123123
DTSTART;TZID=America/Detroit:20241120T180000
DTEND;TZID=America/Detroit:20241120T190000
SUMMARY:Careers / Jobs:A&M Restructuring - Black Employee Network (BEN) Presentation
DESCRIPTION:Alvarez &amp\; Marsal (A&amp\;M) is excited to invite you to our Restructuring and Turnaround Black Employee Network (BEN) Virtual Information Session! This session is to celebrate our core value of Inclusive Diversity and the growth of our Black Employee talent across our offices! We also will discuss our open consulting restructuring internship opportunities for 2026. This event is open to all student representation.   About A&amp\;M Restructuring: Privately-held since 1983\, Alvarez &amp\; Marsal (“A&amp\;M”) is a leading global professional services firm that delivers performance improvement\, turnaroundmanagement\, and business advisory services to organizations seeking to transform operations\, catapult growth and accelerate results through decisive action. For over 40 years A&amp\;M has been a trusted advisor to our Turnaround and Restructuring clients. Our team works on some of themost complex and interesting Restructuring projects available. If you're interested in restructuring consulting and looking for a new challenge\, afast-paced team environment and an inclusive culture check out our presentation! #Likewhatyoudo #lovewhoyoudoitwith
UID:128636-21861395@events.umich.edu
URL:https://events.umich.edu/event/128636
CLASS:PUBLIC
STATUS:CONFIRMED
CATEGORIES:
LOCATION:
CONTACT:
END:VEVENT
END:VCALENDAR