BEGIN:VCALENDAR
VERSION:2.0
PRODID:-//UM//UM*Events//EN
CALSCALE:GREGORIAN
BEGIN:VTIMEZONE
TZID:America/Detroit
TZURL:http://tzurl.org/zoneinfo/America/Detroit
X-LIC-LOCATION:America/Detroit
BEGIN:DAYLIGHT
TZOFFSETFROM:-0500
TZOFFSETTO:-0400
TZNAME:EDT
DTSTART:20070311T020000
RRULE:FREQ=YEARLY;BYMONTH=3;BYDAY=2SU
END:DAYLIGHT
BEGIN:STANDARD
TZOFFSETFROM:-0400
TZOFFSETTO:-0500
TZNAME:EST
DTSTART:20071104T020000
RRULE:FREQ=YEARLY;BYMONTH=11;BYDAY=1SU
END:STANDARD
END:VTIMEZONE
BEGIN:VEVENT
DTSTAMP:20241113T003155
DTSTART;TZID=America/Detroit:20241030T130000
DTEND;TZID=America/Detroit:20241030T140000
SUMMARY:Careers / Jobs:Major Insights ASML Virtual Panel Series - Industrial Engineering
DESCRIPTION:Join us for Major Insights\, a virtual panel series designed to help students discover how their academic backgrounds can translate into rewarding careers at ASML. On October 16 at 1:00pm PT/4:00pm ET we will do a deep dive into industrial engineering and learn more about the backgrounds and roles of employees in those fields.Industrial Engineersat ASML are critical to ensuring that the organization can meet the increase global demand for semiconductors while maintaining precision and quality. They help drive the innovation in production systems\, contributing toASML mission of enabling the production of smaller\, faster\, and more powerful microchips. Whether is in the area of process optimization\, supplychain and logistics\, lean manufacturing\, project management\, or even data analysis\; ASML industrial engineers are a key puzzle piece to organizational success. Speakers at this panel will include: \nGaby Quezada\, Senior System Industrialization Engineer in Silicon Valley\, California\nBrooke Johnson de Granados\, Sourcing and SupplyChain Line Manager in San Diego\, California\nMiguel Barriola Arranz\, Optics Business Partner in Wilton\, Connecticut.\n
UID:128382-21860763@events.umich.edu
URL:https://events.umich.edu/event/128382
CLASS:PUBLIC
STATUS:CONFIRMED
CATEGORIES:
LOCATION:
CONTACT:
END:VEVENT
BEGIN:VEVENT
DTSTAMP:20241113T003213
DTSTART;TZID=America/Detroit:20241030T130000
DTEND;TZID=America/Detroit:20241030T133000
SUMMARY:Careers / Jobs:Optimizing AI in your job search
DESCRIPTION:Learn to leverage AI tools effectively in your job search\,enhancing your resume\, applications\, and interview preparation for better career opportunities.
UID:128326-21860657@events.umich.edu
URL:https://events.umich.edu/event/128326
CLASS:PUBLIC
STATUS:CONFIRMED
CATEGORIES:
LOCATION:
CONTACT:
END:VEVENT
BEGIN:VEVENT
DTSTAMP:20240904T181939
DTSTART;TZID=America/Detroit:20241030T132000
DTEND;TZID=America/Detroit:20241030T135000
SUMMARY:Performance:Jenna Moon\, carillon
DESCRIPTION:SMTD doctoral alumna Jenna Moon performs on the Ann & Robert H. Lurie Carillon\, an instrument of 60 bells with the lowest bell (bourdon) weighing 6 tons.\n\nThirty-minute recitals are performed on the Lurie Carillon every weekday that classes are in session. During these recitals\, visitors may take the elevator to level 2 to view the largest bells\, or to level 3 to see the carillonist performing. (Visitors subject to acrophobia are recommended to visit level 2 only.) An optional spiral stairway between levels 2 and 3 allows for up-close views of some of the largest bells.
UID:125743-21855689@events.umich.edu
URL:https://events.umich.edu/event/125743
CLASS:PUBLIC
STATUS:CONFIRMED
CATEGORIES:Alumni,Free,Music,North Campus,Talk
LOCATION:Lurie Ann & Robert H. Tower
CONTACT:
END:VEVENT
END:VCALENDAR