BEGIN:VCALENDAR
VERSION:2.0
PRODID:-//UM//UM*Events//EN
CALSCALE:GREGORIAN
BEGIN:VTIMEZONE
TZID:America/Detroit
TZURL:http://tzurl.org/zoneinfo/America/Detroit
X-LIC-LOCATION:America/Detroit
BEGIN:DAYLIGHT
TZOFFSETFROM:-0500
TZOFFSETTO:-0400
TZNAME:EDT
DTSTART:20070311T020000
RRULE:FREQ=YEARLY;BYMONTH=3;BYDAY=2SU
END:DAYLIGHT
BEGIN:STANDARD
TZOFFSETFROM:-0400
TZOFFSETTO:-0500
TZNAME:EST
DTSTART:20071104T020000
RRULE:FREQ=YEARLY;BYMONTH=11;BYDAY=1SU
END:STANDARD
END:VTIMEZONE
BEGIN:VEVENT
DTSTAMP:20241021T201916
DTSTART;TZID=America/Detroit:20241120T180000
DTEND;TZID=America/Detroit:20241120T193000
SUMMARY:Workshop / Seminar:Free Self-Defense Workshop
DESCRIPTION:Feel free to join us for a free self-defense workshop with DPSS and LSA Student Government Sexual Misconduct\, Response\, and Prevention Committee. All are welcome!
UID:128161-21860255@events.umich.edu
URL:https://events.umich.edu/event/128161
CLASS:PUBLIC
STATUS:CONFIRMED
CATEGORIES:seminar,Student Org,Self Defense,Safety,In Person,Free,Workshop,Well-being,Undergraduate Students,Undergraduate
LOCATION:LSA Building - 1040
CONTACT:
END:VEVENT
BEGIN:VEVENT
DTSTAMP:20241114T151430
DTSTART;TZID=America/Detroit:20241120T180000
DTEND;TZID=America/Detroit:20241120T200000
SUMMARY:Social / Informal Gathering:IISE Department Dinner
DESCRIPTION:For all IOE students and faculty!
UID:129125-21862168@events.umich.edu
URL:https://events.umich.edu/event/129125
CLASS:PUBLIC
STATUS:CONFIRMED
CATEGORIES:Michigan Engineering,Food,Free,Industrial And Operations Engineering
LOCATION:Off Campus Location
CONTACT:
END:VEVENT
BEGIN:VEVENT
DTSTAMP:20240903T093206
DTSTART;TZID=America/Detroit:20241120T180000
DTEND;TZID=America/Detroit:20241120T190000
SUMMARY:Workshop / Seminar:Michigan Computer Graphics - General Meeting
DESCRIPTION:At Michigan Computer Graphics (MCG)\, our goal is to offer all interested campus members a unique platform to explore\, learn\, discuss\, and engage with the various disciplines of computer graphics (CG). You'll have the opportunity to collaborate on exciting projects\, develop creative skills\, and expand your network within the industry and beyond.\n\nThis is MCG's weekly general meeting. Join us for a variety of content and events\, including introductory presentations\, hands-on projects\, and guest speakers!\n\nhttps://michigancg.org/
UID:125520-21855260@events.umich.edu
URL:https://events.umich.edu/event/125520
CLASS:PUBLIC
STATUS:CONFIRMED
CATEGORIES:Visual Arts,Engineering,Electrical Engineering and Computer Science,Art
LOCATION:Electrical Engineering and Computer Science Building - 1005
CONTACT:
END:VEVENT
END:VCALENDAR