BEGIN:VCALENDAR
VERSION:2.0
PRODID:-//UM//UM*Events//EN
CALSCALE:GREGORIAN
BEGIN:VTIMEZONE
TZID:America/Detroit
TZURL:http://tzurl.org/zoneinfo/America/Detroit
X-LIC-LOCATION:America/Detroit
BEGIN:DAYLIGHT
TZOFFSETFROM:-0500
TZOFFSETTO:-0400
TZNAME:EDT
DTSTART:20070311T020000
RRULE:FREQ=YEARLY;BYMONTH=3;BYDAY=2SU
END:DAYLIGHT
BEGIN:STANDARD
TZOFFSETFROM:-0400
TZOFFSETTO:-0500
TZNAME:EST
DTSTART:20071104T020000
RRULE:FREQ=YEARLY;BYMONTH=11;BYDAY=1SU
END:STANDARD
END:VTIMEZONE
BEGIN:VEVENT
DTSTAMP:20241030T132039
DTSTART;TZID=America/Detroit:20241030T140000
DTEND;TZID=America/Detroit:20241030T150000
SUMMARY:Workshop / Seminar:Student Life Professional Development Series
DESCRIPTION:Join SLPD for sessions aimed at enhancing and developing your Marketing and Communication plan\, learning about different aspects of wellbeing\, and developing leadership and supervision skills. Attendees can participate in an array of sessions. More workshops will be added as they are developed. These sessions are open to Student Life staff and our academic colleagues\, and serve to support Student Life's 3 Year Strategic Plan.
UID:127468-21859181@events.umich.edu
URL:https://events.umich.edu/event/127468
CLASS:PUBLIC
STATUS:CONFIRMED
CATEGORIES:Sessions
LOCATION:Michigan League, Henderson Room (Third Floor)
CONTACT:
END:VEVENT
BEGIN:VEVENT
DTSTAMP:20241029T154829
DTSTART;TZID=America/Detroit:20241030T143000
DTEND;TZID=America/Detroit:20241030T155000
SUMMARY:Workshop / Seminar:Personal Connections and Hiring Decisions in the Public Sector (with Eleonora Patacchini)
DESCRIPTION:Relying on comprehensive employment records of applicants in the universe of public jobs in Brazil from 1986 until 2017\, an institutional reform that reduced discretion in hiring\, and novel performance metrics for public administration\, we provide the first evidence of how personal connections influence recruitment processes. We find that a reduction in the ability to leverage personal connections affects both the job search behavior of connected individuals and employers’ hiring decisions. Moreover\, hires after the reform are of higher quality\, have lower separation rates and absenteeism\, and are more likely to be promoted. We also show that the decrease in connected hires improves the operational and budgetary efficiency of public sector establishments. These results carry significance in enhancing our understanding of how to bolster state capacity.
UID:125896-21856258@events.umich.edu
URL:https://events.umich.edu/event/125896
CLASS:PUBLIC
STATUS:CONFIRMED
CATEGORIES:Economics,Labor,seminar
LOCATION:Lorch Hall - 201
CONTACT:
END:VEVENT
BEGIN:VEVENT
DTSTAMP:20241113T003156
DTSTART;TZID=America/Detroit:20241030T150000
DTEND;TZID=America/Detroit:20241030T160000
SUMMARY:Careers / Jobs: Investment Banking\, Equity Capital Markets - Virtual InformationSession (2024)
DESCRIPTION:Build a Solid Foundation with William BlairAt William Blair we believe that investing in the growth and success of our employees is critical to the success and growth of our clients - and the industry at large. If you are currently a student interested in exploring opportunities within the Equity Capital Markets Group\, graduating between December 2026 - June 2027 and want to learn how William Blair’s programs can help jumpstart your career in investment banking\,we invite you to join us for an Information Session on October 30th\, 2024 at 3:00pm CT. Learn what it means to be part of a culture of collaboration and accountability\, where you are empowered to choose your own path. Fill out the below registration form to receive yourconfirmation email and the virtual session link. For more events\, please click here.
UID:127945-21859961@events.umich.edu
URL:https://events.umich.edu/event/127945
CLASS:PUBLIC
STATUS:CONFIRMED
CATEGORIES:
LOCATION:
CONTACT:
END:VEVENT
END:VCALENDAR