BEGIN:VCALENDAR
VERSION:2.0
PRODID:-//UM//UM*Events//EN
CALSCALE:GREGORIAN
BEGIN:VTIMEZONE
TZID:America/Detroit
TZURL:http://tzurl.org/zoneinfo/America/Detroit
X-LIC-LOCATION:America/Detroit
BEGIN:DAYLIGHT
TZOFFSETFROM:-0500
TZOFFSETTO:-0400
TZNAME:EDT
DTSTART:20070311T020000
RRULE:FREQ=YEARLY;BYMONTH=3;BYDAY=2SU
END:DAYLIGHT
BEGIN:STANDARD
TZOFFSETFROM:-0400
TZOFFSETTO:-0500
TZNAME:EST
DTSTART:20071104T020000
RRULE:FREQ=YEARLY;BYMONTH=11;BYDAY=1SU
END:STANDARD
END:VTIMEZONE
BEGIN:VEVENT
DTSTAMP:20241205T183109
DTSTART;TZID=America/Detroit:20241120T190000
DTEND;TZID=America/Detroit:20241120T200000
SUMMARY:Careers / Jobs:Ask Us Anything: MFA Program Virtual Panel for Prospective Applicants
DESCRIPTION:Please join us on Wednesday\, Nov. 20th at 7:00pm EST for alively virtual discussion hosted by a panel of graduate program communitymembers sharing insights into our MFA program of Studio Art. We will discuss our interdisciplinary curriculum\, program resources\, and student life. Our panelists include: graduate faculty\, current MFA candidates\, admissions staff\, and program director Laurel Nakadate. Bring your questions about our studio culture and campus community\, research and exhibition opportunities\, the application process\, or whatever else is on your mind. Afterall\, you can Ask Us Anything!
UID:128222-21860450@events.umich.edu
URL:https://events.umich.edu/event/128222
CLASS:PUBLIC
STATUS:CONFIRMED
CATEGORIES:
LOCATION:
CONTACT:
END:VEVENT
BEGIN:VEVENT
DTSTAMP:20241106T113930
DTSTART;TZID=America/Detroit:20241120T190000
DTEND;TZID=America/Detroit:20241120T200000
SUMMARY:Social / Informal Gathering:Decorate Tote Bags in East Quad
DESCRIPTION:Feeling stressed with finals around the corner? Join the East Quad MLCA for a creative break to decorate tote bags with paint markers! Take an hour to unwind and paint your own custom tote bag while de-stressing through art. No artistic experience is needed—just bring yourself and enjoy a relaxing time to help you recharge before the end of the semester.
UID:128735-21861571@events.umich.edu
URL:https://events.umich.edu/event/128735
CLASS:PUBLIC
STATUS:CONFIRMED
CATEGORIES:Art,Community,Crafts,free,Social
LOCATION:East Quadrangle - Abeng Minority Culture Lounge
CONTACT:
END:VEVENT
BEGIN:VEVENT
DTSTAMP:20240826T121909
DTSTART;TZID=America/Detroit:20241120T190000
DTEND;TZID=America/Detroit:20241120T200000
SUMMARY:Class / Instruction:Q+A (Queer and Affirming)
DESCRIPTION:We'll gather for discussion\, Bible or book studies\, and discover the intersection of faith and identity. This group is for the LGBTQIA2S+ community and allies.
UID:124924-21854081@events.umich.edu
URL:https://events.umich.edu/event/124924
CLASS:PUBLIC
STATUS:CONFIRMED
CATEGORIES:Lgbt,Religious,Social
LOCATION:Off Campus Location - Pine Room
CONTACT:
END:VEVENT
END:VCALENDAR