BEGIN:VCALENDAR
VERSION:2.0
PRODID:-//UM//UM*Events//EN
CALSCALE:GREGORIAN
BEGIN:VTIMEZONE
TZID:America/Detroit
TZURL:http://tzurl.org/zoneinfo/America/Detroit
X-LIC-LOCATION:America/Detroit
BEGIN:DAYLIGHT
TZOFFSETFROM:-0500
TZOFFSETTO:-0400
TZNAME:EDT
DTSTART:20070311T020000
RRULE:FREQ=YEARLY;BYMONTH=3;BYDAY=2SU
END:DAYLIGHT
BEGIN:STANDARD
TZOFFSETFROM:-0400
TZOFFSETTO:-0500
TZNAME:EST
DTSTART:20071104T020000
RRULE:FREQ=YEARLY;BYMONTH=11;BYDAY=1SU
END:STANDARD
END:VTIMEZONE
BEGIN:VEVENT
DTSTAMP:20241030T120024
DTSTART;TZID=America/Detroit:20241030T150000
DTEND;TZID=America/Detroit:20241030T170000
SUMMARY:Other:October Grocery Bag Drop-Off
DESCRIPTION:Have grocery bags piling up in your dorm? Come drop them off to us to recycle them! Clean bags of any material are accepted! Please email cleanupcampusboard@umich.edu if you have any questions. This event is hosted by Clean Up Campus\, a new environmental student organization dedicated to preserving natural areas through hosted clean-ups and community outreach. Please see our website and maize page for more details. 
UID:128258-21860516@events.umich.edu
URL:https://events.umich.edu/event/128258
CLASS:PUBLIC
STATUS:CONFIRMED
CATEGORIES:
LOCATION:Mason Hall
CONTACT:
END:VEVENT
BEGIN:VEVENT
DTSTAMP:20241026T185621
DTSTART;TZID=America/Detroit:20241030T150000
DTEND;TZID=America/Detroit:20241030T155000
SUMMARY:Workshop / Seminar:Student Number Theory: Automorphic forms and their applications
DESCRIPTION:In this talk\, I'll explain how to extend the classical theory of modular forms to the theory of automorphic forms and automorphic representations\, with a focus on GL2. I'll give an overview of how the local theory yields the global theory (on the adeles) and will explain some of the advances of Jacquet-Langlands. Finally\, I'll describe some of the important tools that arise in modern research on automorphic forms.
UID:128349-21860714@events.umich.edu
URL:https://events.umich.edu/event/128349
CLASS:PUBLIC
STATUS:CONFIRMED
CATEGORIES:Mathematics
LOCATION:East Hall - 3088
CONTACT:
END:VEVENT
BEGIN:VEVENT
DTSTAMP:20241113T003125
DTSTART;TZID=America/Detroit:20241030T153000
DTEND;TZID=America/Detroit:20241030T163000
SUMMARY:Careers / Jobs:Fostering Pride at MEDITECH: Careers in Health IT for ALL Majors
DESCRIPTION:At MEDITECH we believe there is strength in a diverse workforce\, powered by the contributions of people from different backgrounds\,perspectives\, and life experiences. We are committed to fostering a workenvironment and culture in which ALL of our staffmembers can reach their fullest potential.&nbsp\;It's even more important to provide an affirming culture that values our BIPOC\, AAPI\, LGBTQIA+\, veterans\, and people of all abilities. The magic of inclusion andbelonging happens in our Workplace Communities and across our teams.#BelongingMatters #InclusionIsEverythingAGENDA45 minute - MEDITECH info session15 minute - Q&amp\;ACheck us out on the MEDITECH Handshake page &amp\; MEDITECH LInkedIN to learn more about our locations in Georgia\, Massachusetts\, and Minnesota!
UID:127592-21859376@events.umich.edu
URL:https://events.umich.edu/event/127592
CLASS:PUBLIC
STATUS:CONFIRMED
CATEGORIES:
LOCATION:
CONTACT:
END:VEVENT
END:VCALENDAR