BEGIN:VCALENDAR
VERSION:2.0
PRODID:-//UM//UM*Events//EN
CALSCALE:GREGORIAN
BEGIN:VTIMEZONE
TZID:America/Detroit
TZURL:http://tzurl.org/zoneinfo/America/Detroit
X-LIC-LOCATION:America/Detroit
BEGIN:DAYLIGHT
TZOFFSETFROM:-0500
TZOFFSETTO:-0400
TZNAME:EDT
DTSTART:20070311T020000
RRULE:FREQ=YEARLY;BYMONTH=3;BYDAY=2SU
END:DAYLIGHT
BEGIN:STANDARD
TZOFFSETFROM:-0400
TZOFFSETTO:-0500
TZNAME:EST
DTSTART:20071104T020000
RRULE:FREQ=YEARLY;BYMONTH=11;BYDAY=1SU
END:STANDARD
END:VTIMEZONE
BEGIN:VEVENT
DTSTAMP:20241113T003219
DTSTART;TZID=America/Detroit:20241030T153000
DTEND;TZID=America/Detroit:20241030T161500
SUMMARY:Careers / Jobs:Pathways Into Teaching-Marshall Teacher Residency
DESCRIPTION:The Pathways Into Teaching workshop is an overview of the various pathways into teaching\, including Master's programs\, Intern Programs and Teacher Residencies. This workshop is perfect for anyone considering a career in education and will be facilitated by representative from the Marshall Teacher Residency Program.
UID:128414-21860795@events.umich.edu
URL:https://events.umich.edu/event/128414
CLASS:PUBLIC
STATUS:CONFIRMED
CATEGORIES:
LOCATION:
CONTACT:
END:VEVENT
BEGIN:VEVENT
DTSTAMP:20241113T003157
DTSTART;TZID=America/Detroit:20241030T160000
DTEND;TZID=America/Detroit:20241030T170000
SUMMARY:Careers / Jobs: Investment Banking\, Life Sciences - Virtual Information Session (2024)
DESCRIPTION:Build a Solid Foundation with William BlairAt William Blair we believe that investing in the growth and success of our employees is critical to the success and growth of our clients - and the industry at large. If you are currently a student interested in exploring opportunities within the BioTech or MedTech Groups\, graduating between December 2026 - June 2027 and want to learn how William Blair’s programs can help jumpstart your career in investment banking\, we invite you to join us for an Information Session on October 30th\, 2024 at 4:00pm CT. Learn what it means to be part of a culture of collaboration and accountability\, where you are empowered to choose your own path. Fill out the below registration form to receive your confirmation email and the virtual session link. For more events\, please click here.
UID:127946-21859962@events.umich.edu
URL:https://events.umich.edu/event/127946
CLASS:PUBLIC
STATUS:CONFIRMED
CATEGORIES:
LOCATION:
CONTACT:
END:VEVENT
BEGIN:VEVENT
DTSTAMP:20241023T233453
DTSTART;TZID=America/Detroit:20241030T160000
DTEND;TZID=America/Detroit:20241030T170000
SUMMARY:Workshop / Seminar:Algebraic Geometry Seminar: On the stable birationality of Hilbert schemes of points on surfaces
DESCRIPTION:In this talk\, we will address the question for which pairs of integers (n\,n') the variety Hilb^n_X  is stably birational to Hilb^n'_X\, when X is a surface with H^1(X\,O_X)=0. In order to do so we will relate the existence of degree n' effective cycles on X with the existence of degree n ones using curves on X. \nWe will then focus on geometrically rational surfaces\, proving that there are only finitely many stable birational classes among the Hilb^n_X 's. As a corollary\, we deduce the rationality of a generalization of the Hasse-Weil zeta function Z(X\, t) in K_0(Var/k)/([A^1_k])[[t]] when char(k) = 0.
UID:126925-21858145@events.umich.edu
URL:https://events.umich.edu/event/126925
CLASS:PUBLIC
STATUS:CONFIRMED
CATEGORIES:Mathematics
LOCATION:East Hall - 4096
CONTACT:
END:VEVENT
END:VCALENDAR