BEGIN:VCALENDAR
VERSION:2.0
PRODID:-//UM//UM*Events//EN
CALSCALE:GREGORIAN
BEGIN:VTIMEZONE
TZID:America/Detroit
TZURL:http://tzurl.org/zoneinfo/America/Detroit
X-LIC-LOCATION:America/Detroit
BEGIN:DAYLIGHT
TZOFFSETFROM:-0500
TZOFFSETTO:-0400
TZNAME:EDT
DTSTART:20070311T020000
RRULE:FREQ=YEARLY;BYMONTH=3;BYDAY=2SU
END:DAYLIGHT
BEGIN:STANDARD
TZOFFSETFROM:-0400
TZOFFSETTO:-0500
TZNAME:EST
DTSTART:20071104T020000
RRULE:FREQ=YEARLY;BYMONTH=11;BYDAY=1SU
END:STANDARD
END:VTIMEZONE
BEGIN:VEVENT
DTSTAMP:20240924T100045
DTSTART;TZID=America/Detroit:20241120T200000
SUMMARY:Performance:Philip Bowen w/sg Turner Porter
DESCRIPTION:Born and raised in West Virginia\, Philip Bowen’s uplifting sound is heavily inspired by Appalachian roots. The dynamic\, internationally touring singer-songwriter and multi-instrumentalist began playing fiddle at the age of four\, & his virtuoso skills have become quite popular\, with over 1.5 Million followers online. He's played iconic venues like The Bluebird Cafe\, 3rd & Lindsley\, and been a featured performer on NPR's \"Mountain Stage.\" 2023 was a breakout year for Bowen\, and saw him share the stage with legends like Darius Rucker\, finish as a semifinalist on Season 18 of America's Got Talent\, earn a spotlight at Americanafest\, and release his debut album\, \"Old Kanawha.\" In addition to his work as a touring artist\, he is an accomplished session player with over 100 credits to his name for a wide range of artists including Noah Kahan\, Zandi Holup\, Brandon Davis\, Styles Haury\, Jenna Paulette\, Josiah and the Bonnevilles\, & more\n\nHe continues to release his original music\, spreading his message of positivity to an audience that has been growing rapidly. With guest spots on Ross Golan’s “And the demo is…” and praise from American Songwriter\, Whiskey Riff\, Rolling Stone\, The Bluegrass Situation\, No Depression\, and Atwood Magazine\, it’s easy to see why the Nashville Songwriters Association International dubbed this inspirational artist “one to watch.”\n\nhttps://www.philipbowenmusic.com/
UID:122245-21848505@events.umich.edu
URL:https://events.umich.edu/event/122245
CLASS:PUBLIC
STATUS:CONFIRMED
CATEGORIES:Ark,Concert,Music,Mutotix
LOCATION:Off Campus Location
CONTACT:
END:VEVENT
BEGIN:VEVENT
DTSTAMP:20241112T112747
DTSTART;TZID=America/Detroit:20241120T200000
DTEND;TZID=America/Detroit:20241120T220000
SUMMARY:Social / Informal Gathering:Transgender Day of Remembrance: Memorial Panel Making
DESCRIPTION:The GILE DPE is hosting a community gathering to honor those lost to trans violence and create a collective quilt of hope for trans futures. Join the DPE in designing paper panels representing well wishes\, memories\, or a loved one. The panels will then be joined together in solidarity and displayed on the GILE DPE bulletin board. The event will also feature a movie screening and light refreshments.
UID:128737-21861572@events.umich.edu
URL:https://events.umich.edu/event/128737
CLASS:PUBLIC
STATUS:CONFIRMED
CATEGORIES:Art,Community,Crafts,Diversity Peer Educators,Free Food,Lgbt
LOCATION:East Quadrangle - Abeng Minority Culture Lounge
CONTACT:
END:VEVENT
BEGIN:VEVENT
DTSTAMP:20241215T120008
DTSTART;TZID=America/Detroit:20241121T000000
DTEND;TZID=America/Detroit:20241121T235959
SUMMARY:Meeting:Check Out the P4P Public Calendar Here
DESCRIPTION:bit.ly/p4pumcalendar
UID:127131-21858510@events.umich.edu
URL:https://events.umich.edu/event/127131
CLASS:PUBLIC
STATUS:CONFIRMED
CATEGORIES:
LOCATION:Online
CONTACT:
END:VEVENT
END:VCALENDAR