BEGIN:VCALENDAR
VERSION:2.0
PRODID:-//UM//UM*Events//EN
CALSCALE:GREGORIAN
BEGIN:VTIMEZONE
TZID:America/Detroit
TZURL:http://tzurl.org/zoneinfo/America/Detroit
X-LIC-LOCATION:America/Detroit
BEGIN:DAYLIGHT
TZOFFSETFROM:-0500
TZOFFSETTO:-0400
TZNAME:EDT
DTSTART:20070311T020000
RRULE:FREQ=YEARLY;BYMONTH=3;BYDAY=2SU
END:DAYLIGHT
BEGIN:STANDARD
TZOFFSETFROM:-0400
TZOFFSETTO:-0500
TZNAME:EST
DTSTART:20071104T020000
RRULE:FREQ=YEARLY;BYMONTH=11;BYDAY=1SU
END:STANDARD
END:VTIMEZONE
BEGIN:VEVENT
DTSTAMP:20241113T003206
DTSTART;TZID=America/Detroit:20241030T160000
DTEND;TZID=America/Detroit:20241030T170000
SUMMARY:Careers / Jobs:Citi - US Personal Banking Program Overview & On-Program Analyst Panel
DESCRIPTION:Citi’s Personal Bank would like to invite full-time undergraduate students graduating between December 2025 and June 2026 to join us for a virtual information session focused on our Analyst program. If youare interested in functional roles\, such as: Product Management\, Project Management\, Marketing\, Strategy\, Innovation\, Customer Experience\, Risk and Controls\, and Analytics\, as well as placement opportunities in Credit Cards\, Retail Banking\, Marketing\, Operations\, In-Business Credit&amp\; Franchise Risk\, Client Experience\, and more\, we invite you to join us! In addition\, we will have a panel of full-time on-program Analysts to share their internship experience and why they joined Citi. Look forward to seeing you there!
UID:128225-21860453@events.umich.edu
URL:https://events.umich.edu/event/128225
CLASS:PUBLIC
STATUS:CONFIRMED
CATEGORIES:
LOCATION:
CONTACT:
END:VEVENT
BEGIN:VEVENT
DTSTAMP:20240913T103138
DTSTART;TZID=America/Detroit:20241030T160000
DTEND;TZID=America/Detroit:20241030T170000
SUMMARY:Lecture / Discussion:DCMB / CCMB Weekly Seminar presents Gamze Gursoy\, PhD (Columbia Univ. and New York Genome Center)
DESCRIPTION:Dr. Gürsoy’s lab’s overarching research goal is to harmonize diverse fields such as biology\, bioinformatics\, molecular biology\, engineering\, and cryptography to achieve two fundamental aims: (1) to increase biomedical data access to a wider group of scientists while preserving privacy of research participants\; and (2) to uncover the molecular underpinnings of gene dysregulation via knowledge gained from functional genomics data. They create modular and privacy-enhancing omics and clinical data analysis tools\, which can be adapted to new data modalities and analysis needs as they arise\, by combining knowledge in molecular biology and applied cryptography. They also develop computational and biochemical technologies to pinpoint genetic and epigenetic determinants of chromatin organization. Dr. Gürsoy leads a group of computational and experimental scientists\, creating opportunities for training in cross-disciplinary studies in her lab.
UID:126352-21856944@events.umich.edu
URL:https://events.umich.edu/event/126352
CLASS:PUBLIC
STATUS:CONFIRMED
CATEGORIES:Lecture,Talk,Structural Biology,seminar,Science,Research,Public Health,Precision Health,Physics,Medicine,Life Science,Applications,Learning Health Systems,Information and Technology,Human Genetics,Graduate Students,Engineering,Electrical Engineering and Computer Science,Education,Discussion,Biosciences,Biomedical Engineering,Biology,Basic Science
LOCATION:Palmer Commons - Forum Hall
CONTACT:
END:VEVENT
BEGIN:VEVENT
DTSTAMP:20241030T152040
DTSTART;TZID=America/Detroit:20241030T160000
DTEND;TZID=America/Detroit:20241030T170000
SUMMARY:Workshop / Seminar:Diwali  Diya at the IC
DESCRIPTION:Happy Diwali! The IC is excited to help our students celebrate this holiday by distributing diya and snacks! This event is hosted by the International Center Student Council in a grab-and-go style format.  Registration is appreciated to ensure we have enough supplies for all interested students.\n
UID:127713-21859518@events.umich.edu
URL:https://events.umich.edu/event/127713
CLASS:PUBLIC
STATUS:CONFIRMED
CATEGORIES:Sessions
LOCATION:Student Activities Building, Lobby
CONTACT:
END:VEVENT
END:VCALENDAR