BEGIN:VCALENDAR
VERSION:2.0
PRODID:-//UM//UM*Events//EN
CALSCALE:GREGORIAN
BEGIN:VTIMEZONE
TZID:America/Detroit
TZURL:http://tzurl.org/zoneinfo/America/Detroit
X-LIC-LOCATION:America/Detroit
BEGIN:DAYLIGHT
TZOFFSETFROM:-0500
TZOFFSETTO:-0400
TZNAME:EDT
DTSTART:20070311T020000
RRULE:FREQ=YEARLY;BYMONTH=3;BYDAY=2SU
END:DAYLIGHT
BEGIN:STANDARD
TZOFFSETFROM:-0400
TZOFFSETTO:-0500
TZNAME:EST
DTSTART:20071104T020000
RRULE:FREQ=YEARLY;BYMONTH=11;BYDAY=1SU
END:STANDARD
END:VTIMEZONE
BEGIN:VEVENT
DTSTAMP:20241003T185202
DTSTART;TZID=America/Detroit:20241030T160000
DTEND;TZID=America/Detroit:20241030T170000
SUMMARY:Presentation:GCC: London\, UK - Literary Monsters Info Session
DESCRIPTION:Join us to learn more about the CGIS study abroad program Global Course Connections (GCC): London\, UK - Literary Monsters! *(Register via the Sessions link listed) *\n\nGCCs offer a unique opportunity to take what students learn on campus at U-M and apply it abroad in a fun and exciting hands-on class taught by a U-M professor. GCCs include two components: An on-campus course during the winter semester and a 3-week\, off-campus field experience that takes place during the following spring (May-June). \n\nFor the Literary Monsters program\, students travel to London to explore themes of monstrosity throughout classic literature for 3+ weeks abroad in the places that directly inspired the stories! Visit the graveyard of St. Pancras Church\, home to the grave of Mary Shelley's mother and in some ways the birthplace of her novel Frankenstein. Wander through the ruins of Whitby Abbey\, located in the coastal town of Whitby\, where Dracula first makes his arrival to England. Walk the streets of the West End in London\, following the footsteps of Dr. Jekyll and Mr. Hyde.
UID:127263-21858754@events.umich.edu
URL:https://events.umich.edu/event/127263
CLASS:PUBLIC
STATUS:CONFIRMED
CATEGORIES:Literature,Study Abroad
LOCATION:Off Campus Location
CONTACT:
END:VEVENT
BEGIN:VEVENT
DTSTAMP:20241030T152040
DTSTART;TZID=America/Detroit:20241030T160000
DTEND;TZID=America/Detroit:20241030T170000
SUMMARY:Workshop / Seminar:GCC: London\, UK - Literary Monsters Info Session
DESCRIPTION:Join us to learn more about the CGIS study abroad program Global Course Connections (GCC): London\, UK - Literary Monsters!
UID:127273-21858794@events.umich.edu
URL:https://events.umich.edu/event/127273
CLASS:PUBLIC
STATUS:CONFIRMED
CATEGORIES:Sessions
LOCATION:
CONTACT:
END:VEVENT
BEGIN:VEVENT
DTSTAMP:20241107T171002
DTSTART;TZID=America/Detroit:20241030T160000
DTEND;TZID=America/Detroit:20241030T173000
SUMMARY:Other:Nature Play Pop-Ups
DESCRIPTION:Based in Gaffield Children’s Garden at Matthaei Botanical Gardens\, Nature Play Pop-ups are opportunities for children across ages and developmental stages to engage deeply\, based on their own interests\, curiosity\, and developmental stages. For example\, while some older children may be using our collections of natural loose parts to intently create a specific habitat\, other children will be engaging in developmentally appropriate play of taking all the petals off the flowers in our loose parts collections. While some children will tenaciously experiment to create the largest bubbles\, other children will be nearby splashing in the slippery solution. All ways of playing are good & welcome Nature Play! Come play outside with us!
UID:124837-21853894@events.umich.edu
URL:https://events.umich.edu/event/124837
CLASS:PUBLIC
STATUS:CONFIRMED
CATEGORIES:Children,Family,Free,In Person,nature,Outdoors
LOCATION:Matthaei Botanical Gardens
CONTACT:
END:VEVENT
END:VCALENDAR