BEGIN:VCALENDAR
VERSION:2.0
PRODID:-//UM//UM*Events//EN
CALSCALE:GREGORIAN
BEGIN:VTIMEZONE
TZID:America/Detroit
TZURL:http://tzurl.org/zoneinfo/America/Detroit
X-LIC-LOCATION:America/Detroit
BEGIN:DAYLIGHT
TZOFFSETFROM:-0500
TZOFFSETTO:-0400
TZNAME:EDT
DTSTART:20070311T020000
RRULE:FREQ=YEARLY;BYMONTH=3;BYDAY=2SU
END:DAYLIGHT
BEGIN:STANDARD
TZOFFSETFROM:-0400
TZOFFSETTO:-0500
TZNAME:EST
DTSTART:20071104T020000
RRULE:FREQ=YEARLY;BYMONTH=11;BYDAY=1SU
END:STANDARD
END:VTIMEZONE
BEGIN:VEVENT
DTSTAMP:20240415T060006
DTSTART;TZID=America/Detroit:20240415T000000
DTEND;TZID=America/Detroit:20240415T235959
SUMMARY:Other:USA Triathlon Collegiate Club National Championships
DESCRIPTION:USA Triathlon 
UID:118716-21841510@events.umich.edu
URL:https://events.umich.edu/event/118716
CLASS:PUBLIC
STATUS:CONFIRMED
CATEGORIES:
LOCATION:Lake Mission Viejo
CONTACT:
END:VEVENT
BEGIN:VEVENT
DTSTAMP:20240415T180006
DTSTART;TZID=America/Detroit:20240415T000000
DTEND;TZID=America/Detroit:20240415T235959
SUMMARY:Other:USACFC National Championships
DESCRIPTION:Travel for National Championships at Virginia Beach
UID:118717-21841515@events.umich.edu
URL:https://events.umich.edu/event/118717
CLASS:PUBLIC
STATUS:CONFIRMED
CATEGORIES:
LOCATION:Virginia Beach Sports Center
CONTACT:
END:VEVENT
BEGIN:VEVENT
DTSTAMP:20241205T130011
DTSTART;TZID=America/Detroit:20240415T080000
DTEND;TZID=America/Detroit:20240415T230000
SUMMARY:Exhibition:Being Mixed Race in a Mono-racially Organized World
DESCRIPTION:The exhibit \"Being Mixed Race in a Mono-racially Organized World: Interracial Identity in the U.S. and Around the World — What Research and Mixed Race People Tell Us\" is an exploration into the library's collections about the diversity of mixed race heritage. Through research\, narratives\, demographic data\, and a variety of visual and published materials\, explore multifaceted aspects of mixed race heritage with insights from many perspectives.\n\nThe 2020 U.S. Census illuminated a 276 percent increase in individuals who identify as \"two or more races\" since 2010. In recognition of the growing numbers of mixed race-identifying people at the University of Michigan\, throughout the country\, and across the globe\, we're excited to unveil this new exhibit — a unique exploration of changing demographics and intersectional identities.\n\n[The Hatcher Library will be closed December 21 to January 1.]
UID:121281-21846127@events.umich.edu
URL:https://events.umich.edu/event/121281
CLASS:PUBLIC
STATUS:CONFIRMED
CATEGORIES:Free,Library
LOCATION:Hatcher Graduate Library - Clark Library (2nd floor)
CONTACT:
END:VEVENT
END:VCALENDAR