BEGIN:VCALENDAR
VERSION:2.0
PRODID:-//UM//UM*Events//EN
CALSCALE:GREGORIAN
BEGIN:VTIMEZONE
TZID:America/Detroit
TZURL:http://tzurl.org/zoneinfo/America/Detroit
X-LIC-LOCATION:America/Detroit
BEGIN:DAYLIGHT
TZOFFSETFROM:-0500
TZOFFSETTO:-0400
TZNAME:EDT
DTSTART:20070311T020000
RRULE:FREQ=YEARLY;BYMONTH=3;BYDAY=2SU
END:DAYLIGHT
BEGIN:STANDARD
TZOFFSETFROM:-0400
TZOFFSETTO:-0500
TZNAME:EST
DTSTART:20071104T020000
RRULE:FREQ=YEARLY;BYMONTH=11;BYDAY=1SU
END:STANDARD
END:VTIMEZONE
BEGIN:VEVENT
DTSTAMP:20241113T152034
DTSTART;TZID=America/Detroit:20241113T160000
DTEND;TZID=America/Detroit:20241113T180000
SUMMARY:Workshop / Seminar:Engaging Scientists in Policy and Advocacy (ESPA) Elevator Pitch Workshop
DESCRIPTION:Welcome! Whether or not you're a member of ESPA\, we encourage you to join us in this workshop to learn about and practice forming elevator pitches. \nHere\, you will learn how you can quickly pitch your research to a a variety of audiences both familiar and unfamiliar with your discipline\, helping you catch the attention of individuals ranging from policy-makers to fellow scientists. If you want to hone your ability to quickly explain your work in an eye-catching fashion\, join us for this workshop and grab some free food while you're at it!
UID:128290-21860601@events.umich.edu
URL:https://events.umich.edu/event/128290
CLASS:PUBLIC
STATUS:CONFIRMED
CATEGORIES:
LOCATION:Taubman Health Sciences Library Room 6000
CONTACT:
END:VEVENT
BEGIN:VEVENT
DTSTAMP:20240817T221638
DTSTART;TZID=America/Detroit:20241113T160000
DTEND;TZID=America/Detroit:20241113T170000
SUMMARY:Workshop / Seminar:Entropy solutions and selection for certain classes of mean field games
DESCRIPTION:Mean field games model the strategic interaction among a large number of players by reducing the problem to two entities: the statistical distribution of all players on the one hand and a representative player on the other. The master equation\, introduce by Lions\, models this interaction in a single equation\, whose independent variables are time\, state\, and distribution. It can be viewed as a nonlinear transport equation on an infinite dimensional space. Solving this transport equation by the method of characteristics is essentially equivalent to finding the unique Nash equilibrium. When the equilibrium is not unique\, we seek selection principles\, i.e. how to determine which equilibrium players should follow in practice. A natural question\, from the mathematical point of view\, is whether entropy solutions can be used as a selection principle. We will examine certain classes of mean field games to show that the question is rather subtle and yields both positive and negative results.
UID:124462-21853057@events.umich.edu
URL:https://events.umich.edu/event/124462
CLASS:PUBLIC
STATUS:CONFIRMED
CATEGORIES:Mathematics
LOCATION:
CONTACT:
END:VEVENT
BEGIN:VEVENT
DTSTAMP:20241128T183147
DTSTART;TZID=America/Detroit:20241113T160000
DTEND;TZID=America/Detroit:20241113T170000
SUMMARY:Careers / Jobs:NCAL Kaiser Permanente - Psychology Postdoctoral Residency Program- Info. Session
DESCRIPTION:Kaiser Permanente’s Northern California Mental Health Training Program would like to invite you to join us and a panel of experts at one of our upcoming Psychology Postdoctoral Residency Virtual Information Sessions. The session will provide you with a high-level overview of Kaiser Permanente\, details around the program and position\, and an opportunity to ask questions. We look forward to seeing you!
UID:128903-21861877@events.umich.edu
URL:https://events.umich.edu/event/128903
CLASS:PUBLIC
STATUS:CONFIRMED
CATEGORIES:
LOCATION:
CONTACT:
END:VEVENT
END:VCALENDAR