BEGIN:VCALENDAR
VERSION:2.0
PRODID:-//UM//UM*Events//EN
CALSCALE:GREGORIAN
BEGIN:VTIMEZONE
TZID:America/Detroit
TZURL:http://tzurl.org/zoneinfo/America/Detroit
X-LIC-LOCATION:America/Detroit
BEGIN:DAYLIGHT
TZOFFSETFROM:-0500
TZOFFSETTO:-0400
TZNAME:EDT
DTSTART:20070311T020000
RRULE:FREQ=YEARLY;BYMONTH=3;BYDAY=2SU
END:DAYLIGHT
BEGIN:STANDARD
TZOFFSETFROM:-0400
TZOFFSETTO:-0500
TZNAME:EST
DTSTART:20071104T020000
RRULE:FREQ=YEARLY;BYMONTH=11;BYDAY=1SU
END:STANDARD
END:VTIMEZONE
BEGIN:VEVENT
DTSTAMP:20241113T003214
DTSTART;TZID=America/Detroit:20241030T170000
DTEND;TZID=America/Detroit:20241030T180000
SUMMARY:Careers / Jobs:CFPB Research Assistant Program Information Session 10/30
DESCRIPTION:Date: 10/30/2024Time:5PM ESTLocation: Date: MS TEAMS Description:Are you ready to launch a meaningful career in economic and policy research? Join us for an information session to learn about the Research Assistant (RA) Program at the Consumer Financial Protection Bureau (CFPB). The RA Program offers recent graduates a unique opportunity to support research and analysis on consumer finance\, gaining hands-on experience in economic analysis\, data management\, and policy development.What You’ll Learn:\nAn overview of theRA Program and its impact on consumer financial protection\nKey responsibilities and opportunities for growth within the RA role\nQualifications\, application process\, and tips for applying\nA day in the life of a CFPB Research Assistant\, with insights from current RAs and program alumni\nWho Should Attend:This session is ideal for recent or upcoming graduates in fields like Economics\, Mathematics\, Statistics\, Computer Science\, or related areas who are interested in public service and consumer finance.
UID:128327-21860658@events.umich.edu
URL:https://events.umich.edu/event/128327
CLASS:PUBLIC
STATUS:CONFIRMED
CATEGORIES:
LOCATION:
CONTACT:
END:VEVENT
BEGIN:VEVENT
DTSTAMP:20241028T093931
DTSTART;TZID=America/Detroit:20241030T170000
DTEND;TZID=America/Detroit:20241030T180000
SUMMARY:Presentation:Dinner for Democracy: Voting Access
DESCRIPTION:Note: this is an in-person event on the Ann Arbor campus.\n\nThe right to vote is the foundation of democracy in the United States. Laws determine who has the right to vote and who doesn’t. These laws have changed over time to both restrict and expand voting access. But voting access doesn’t just apply to who can vote\, it also applies to who will vote and the different barriers people face when trying to cast their ballot.\n\nJoin Turn Up Turnout for a nonpartisan\, educational presentation on Voting Access. FREE FOOD provided. \n\n Register here: https://sessions.studentlife.umich.edu/track/event/session/81558
UID:128362-21860728@events.umich.edu
URL:https://events.umich.edu/event/128362
CLASS:PUBLIC
STATUS:CONFIRMED
CATEGORIES:Social Impact,Food,Free,In Person,Politics,Social Justice,Voting,Civic Engagement,Democracy,Democratic Engagement,Dinner,Discussion
LOCATION:West Quadrangle - Multipurpose Room
CONTACT:
END:VEVENT
BEGIN:VEVENT
DTSTAMP:20240924T134456
DTSTART;TZID=America/Detroit:20241030T170000
DTEND;TZID=America/Detroit:20241030T183000
SUMMARY:Social / Informal Gathering:ECE Diwali Celebration
DESCRIPTION:All ECE students are invited to a Diwali celebration on October 30th. This event is a great way to learn something new\, make new friends with your fellow ECE students\, and enjoy some good food! Live music and henna artists will be available as well.\n\nDiwali is a festival of lights. The festival usually lasts five days\, or six in some regions of India.
UID:126888-21858071@events.umich.edu
URL:https://events.umich.edu/event/126888
CLASS:PUBLIC
STATUS:CONFIRMED
CATEGORIES:Electrical Engineering and Computer Science,engineering,Free,Electrical And Computer Engineering
LOCATION:Electrical Engineering and Computer Science Building - Atrium
CONTACT:
END:VEVENT
END:VCALENDAR