BEGIN:VCALENDAR
VERSION:2.0
PRODID:-//UM//UM*Events//EN
CALSCALE:GREGORIAN
BEGIN:VTIMEZONE
TZID:America/Detroit
TZURL:http://tzurl.org/zoneinfo/America/Detroit
X-LIC-LOCATION:America/Detroit
BEGIN:DAYLIGHT
TZOFFSETFROM:-0500
TZOFFSETTO:-0400
TZNAME:EDT
DTSTART:20070311T020000
RRULE:FREQ=YEARLY;BYMONTH=3;BYDAY=2SU
END:DAYLIGHT
BEGIN:STANDARD
TZOFFSETFROM:-0400
TZOFFSETTO:-0500
TZNAME:EST
DTSTART:20071104T020000
RRULE:FREQ=YEARLY;BYMONTH=11;BYDAY=1SU
END:STANDARD
END:VTIMEZONE
BEGIN:VEVENT
DTSTAMP:20241003T093352
DTSTART;TZID=America/Detroit:20241030T170000
DTEND;TZID=America/Detroit:20241030T183000
SUMMARY:Social / Informal Gathering:LSA@Play: Fall Fun!
DESCRIPTION:Hey there\, fall! Join us for activities including making caramel apples\, a gourmet popcorn bar\, swag\, crafting\, and more.\n\nIn partnership with LSA Student Government\n\n__________\nFor LSA undergrads only. Join us for LSA@Play\, a series of events to welcome and support LSA students! Gatherings and activities offer an opportunity for students to prioritize self-care\, inclusivity\, and community. Plus\, get free food and LSA swag! Visit the LSA@Play webpage: lsa.umich.edu/play for more details\, subscribe to receive text/email updates\, and check for additional events being added soon! Events are first come\, first served\, and while supplies last. One swag item per student and you must be present with an MCard to receive.\n\nThe University of Michigan College of Literature\, Science\, and the Arts (LSA) greatly values inclusion and access for all. We are pleased to provide reasonable accommodations to enable your full participation in this event. Please email lsaatplay@umich.edu if you would like to request disability accommodations or have any questions or concerns. We ask that you provide advance notice to ensure sufficient time to meet the requested accommodations.
UID:127335-21858906@events.umich.edu
URL:https://events.umich.edu/event/127335
CLASS:PUBLIC
STATUS:CONFIRMED
CATEGORIES:Well-being,Undergraduate Students
LOCATION:Regents Plaza
CONTACT:
END:VEVENT
BEGIN:VEVENT
DTSTAMP:20241004T085544
DTSTART;TZID=America/Detroit:20241030T170000
DTEND;TZID=America/Detroit:20241030T190000
SUMMARY:Presentation:The Find of the Century: Newly Discovered Letters by Heinrich von Kleist
DESCRIPTION:On September 19 of this year\, news broke of a once-in-a-century discovery: U-M Professor Emeritus Hermann F. Weiss had found five heretofore unknown new letters from the renowned author and playwright Heinrich von Kleist. The discovery has created extraordinary excitement and press coverage in Germany and beyond. The letters from 1809 and 1810 afford new insights into Kleist’s aesthetics\, politics\, and networks during the time of the Napoleonic Wars and open a new chapter of Kleist research. \n\nIn conversation with Hermann Weiss\, Andreas Gailus and Helmut Puff will focus on the significance of the find and the archival detective work that made it possible
UID:127408-21859008@events.umich.edu
URL:https://events.umich.edu/event/127408
CLASS:PUBLIC
STATUS:CONFIRMED
CATEGORIES:Germany,Research,Humanities,History,Germanic Languages And Literatures,German Studies,German,European Studies,European,Europe,Discussion
LOCATION:Modern Languages Building - 3308
CONTACT:
END:VEVENT
BEGIN:VEVENT
DTSTAMP:20241023T160514
DTSTART;TZID=America/Detroit:20241030T173000
DTEND;TZID=America/Detroit:20241030T190000
SUMMARY:Social / Informal Gathering:BLI Community Meeting - Halloween Social
DESCRIPTION:Join the Barger Leadership Institute for its annual Halloween Social! This event will be held on the 8th floor of Weiser Hall from 5:30 - 7:00 PM on Wednesday\, October 30th. It will also be catered by Produce Station. Join the BLI for slime-making\, pumpkin painting\, and cookie decorating!
UID:127968-21859983@events.umich.edu
URL:https://events.umich.edu/event/127968
CLASS:PUBLIC
STATUS:CONFIRMED
CATEGORIES:Bli,Food,Free,Halloween,Holiday,In Person,Leadership,Social
LOCATION:Weiser Hall - 8th Floor Open Space
CONTACT:
END:VEVENT
END:VCALENDAR