BEGIN:VCALENDAR
VERSION:2.0
PRODID:-//UM//UM*Events//EN
CALSCALE:GREGORIAN
BEGIN:VTIMEZONE
TZID:America/Detroit
TZURL:http://tzurl.org/zoneinfo/America/Detroit
X-LIC-LOCATION:America/Detroit
BEGIN:DAYLIGHT
TZOFFSETFROM:-0500
TZOFFSETTO:-0400
TZNAME:EDT
DTSTART:20070311T020000
RRULE:FREQ=YEARLY;BYMONTH=3;BYDAY=2SU
END:DAYLIGHT
BEGIN:STANDARD
TZOFFSETFROM:-0400
TZOFFSETTO:-0500
TZNAME:EST
DTSTART:20071104T020000
RRULE:FREQ=YEARLY;BYMONTH=11;BYDAY=1SU
END:STANDARD
END:VTIMEZONE
BEGIN:VEVENT
DTSTAMP:20240925T144736
DTSTART;TZID=America/Detroit:20241030T180000
DTEND;TZID=America/Detroit:20241030T200000
SUMMARY:Exhibition:“Identity Potpourri” Photography Exhibition Opening Reception
DESCRIPTION:2Fik is a multidisciplinary artist known for embodying multiple\, unique characters. Through his social and political works\, 2Fik creates lives for characters who almost seem real\, whose stories\, personalities\, and interests are rooted in our world. Each of his creations are conceived in a voyeuristic way that pushes the spectator to wonder what exists beyond the scope of the work. Each character in this humorous and interpretative world becomes a reflection of our society.\n\n\"Identity Potpourri\" by 2Fik is a mixture of different artworks from various series by the artist between 2006 and 2016. The exhibition will open at 6 PM on October 30 and be on display until November 8.
UID:125116-21854429@events.umich.edu
URL:https://events.umich.edu/event/125116
CLASS:PUBLIC
STATUS:CONFIRMED
CATEGORIES:Jewish Studies,Visual Arts,Storytelling,Reception,middle east,LGBT,Art
LOCATION:Off Campus Location
CONTACT:
END:VEVENT
BEGIN:VEVENT
DTSTAMP:20241029T190429
DTSTART;TZID=America/Detroit:20241030T180000
DTEND;TZID=America/Detroit:20241030T190000
SUMMARY:Careers / Jobs:ABB Inc Corporate Information Session
DESCRIPTION:Wednesday\, October 30th\, 2024\nABB Inc\n10/30/24 | 6:30pm | EECS 1005 (food provided) \nHybrid Option: [Zoom](https://umich.zoom.us/j/91224103205) (password: swe-cis)\nMajors: Computer Science\, Data Science\, Computer Engineering\, Electrical Engineering\, Industrial Operation Engineering\, Materials Science and Engineering\, and Mechanical Engineering\nPositions: Full-time\, Intern\nDegrees: Bachelors\nABB is a technology leader in electrification and automation\, enabling a more sustainable and resource-efficient future. The company’s solutions connect engineering know-how and software to optimize how things are manufactured\, moved\, powered and operated. Building on more than 140 years of excellence\, ABB’s 105\,000 employees are committed to driving innovations
UID:128496-21861027@events.umich.edu
URL:https://events.umich.edu/event/128496
CLASS:PUBLIC
STATUS:CONFIRMED
CATEGORIES:Virtual,Undergraduate Students,Undergraduate,Student Org,Recruiting,Professional Development,north campus,Networking,Michigan Engineering,Internship,free food,Free,Food,Engineering Academic Calendar,Engineering,Corporate Event,Corporate,Career
LOCATION:Electrical Engineering and Computer Science Building - 1005
CONTACT:
END:VEVENT
BEGIN:VEVENT
DTSTAMP:20240910T104200
DTSTART;TZID=America/Detroit:20241030T180000
DTEND;TZID=America/Detroit:20241030T190000
SUMMARY:Social / Informal Gathering:Deutschtisch im Max Kade Haus
DESCRIPTION:Deutschtisch is a weekly event in the North Quad dining hall for Max Kade residents and visitors from outside of Max Kade Haus to speak German during a meal.
UID:126107-21856531@events.umich.edu
URL:https://events.umich.edu/event/126107
CLASS:PUBLIC
STATUS:CONFIRMED
CATEGORIES:Max Kade,Germanic Languages And Literatures
LOCATION:North Quad - Dining Hall
CONTACT:
END:VEVENT
END:VCALENDAR