BEGIN:VCALENDAR
VERSION:2.0
PRODID:-//UM//UM*Events//EN
CALSCALE:GREGORIAN
BEGIN:VTIMEZONE
TZID:America/Detroit
TZURL:http://tzurl.org/zoneinfo/America/Detroit
X-LIC-LOCATION:America/Detroit
BEGIN:DAYLIGHT
TZOFFSETFROM:-0500
TZOFFSETTO:-0400
TZNAME:EDT
DTSTART:20070311T020000
RRULE:FREQ=YEARLY;BYMONTH=3;BYDAY=2SU
END:DAYLIGHT
BEGIN:STANDARD
TZOFFSETFROM:-0400
TZOFFSETTO:-0500
TZNAME:EST
DTSTART:20071104T020000
RRULE:FREQ=YEARLY;BYMONTH=11;BYDAY=1SU
END:STANDARD
END:VTIMEZONE
BEGIN:VEVENT
DTSTAMP:20240903T093206
DTSTART;TZID=America/Detroit:20241030T180000
DTEND;TZID=America/Detroit:20241030T190000
SUMMARY:Workshop / Seminar:Michigan Computer Graphics - General Meeting
DESCRIPTION:At Michigan Computer Graphics (MCG)\, our goal is to offer all interested campus members a unique platform to explore\, learn\, discuss\, and engage with the various disciplines of computer graphics (CG). You'll have the opportunity to collaborate on exciting projects\, develop creative skills\, and expand your network within the industry and beyond.\n\nThis is MCG's weekly general meeting. Join us for a variety of content and events\, including introductory presentations\, hands-on projects\, and guest speakers!\n\nhttps://michigancg.org/
UID:125520-21855257@events.umich.edu
URL:https://events.umich.edu/event/125520
CLASS:PUBLIC
STATUS:CONFIRMED
CATEGORIES:Art,Electrical Engineering and Computer Science,Engineering,Visual Arts
LOCATION:Electrical Engineering and Computer Science Building - 1005
CONTACT:
END:VEVENT
BEGIN:VEVENT
DTSTAMP:20241030T180019
DTSTART;TZID=America/Detroit:20241030T180000
DTEND;TZID=America/Detroit:20241030T200000
SUMMARY:Social / Informal Gathering:Study with LISWA
DESCRIPTION:Come join LISWA for a study session! This is a great opportunity to come together and work on assignments in a comfortable and relaxing space. Feel free to bring a friend\, headphones\, and any work you want done!
UID:128374-21860745@events.umich.edu
URL:https://events.umich.edu/event/128374
CLASS:PUBLIC
STATUS:CONFIRMED
CATEGORIES:
LOCATION:School of Social Work Room 3816
CONTACT:
END:VEVENT
BEGIN:VEVENT
DTSTAMP:20240930T120406
DTSTART;TZID=America/Detroit:20241030T183000
DTEND;TZID=America/Detroit:20241030T200000
SUMMARY:Lecture / Discussion:Gerald Ford’s legacy and his unique relationship with Jimmy Carter
DESCRIPTION:Dr. Kaufman is professor of History and a Board of Trustees Research Scholar at Francis Marion University in South Carolina\, where he has taught since 2001. He is the author\, co-author\, or editor of twelve books\, including A Companion to Gerald R. Ford and Jimmy Carter (2015) and Ambition\, Pragmatism\, and Party: A Political Biography of Gerald R. Ford (2017). He is currently working on two books: a history of impeachment in the United States\, and a comparative history of the Panama and Suez Canals.
UID:127128-21858536@events.umich.edu
URL:https://events.umich.edu/event/127128
CLASS:PUBLIC
STATUS:CONFIRMED
CATEGORIES:booksigning,gerald ford,Lecture,presidency,President Gerald Ford
LOCATION:Gerald Ford Library - Auditorium
CONTACT:
END:VEVENT
END:VCALENDAR