BEGIN:VCALENDAR
VERSION:2.0
PRODID:-//UM//UM*Events//EN
CALSCALE:GREGORIAN
BEGIN:VTIMEZONE
TZID:America/Detroit
TZURL:http://tzurl.org/zoneinfo/America/Detroit
X-LIC-LOCATION:America/Detroit
BEGIN:DAYLIGHT
TZOFFSETFROM:-0500
TZOFFSETTO:-0400
TZNAME:EDT
DTSTART:20070311T020000
RRULE:FREQ=YEARLY;BYMONTH=3;BYDAY=2SU
END:DAYLIGHT
BEGIN:STANDARD
TZOFFSETFROM:-0400
TZOFFSETTO:-0500
TZNAME:EST
DTSTART:20071104T020000
RRULE:FREQ=YEARLY;BYMONTH=11;BYDAY=1SU
END:STANDARD
END:VTIMEZONE
BEGIN:VEVENT
DTSTAMP:20241018T142503
DTSTART;TZID=America/Detroit:20241030T190000
DTEND;TZID=America/Detroit:20241030T220000
SUMMARY:Film Screening:1946: The Mistranslation that Shifted Culture
DESCRIPTION:We invite you to a special screening of the groundbreaking documentary 1946: The Mistranslation that Shifted Culture on Wednesday\, October 30\, at 7:00pm in the Rackham Amphitheater (4th floor of Rackham Auditorium). This powerful film explores the moment in history when the word “homosexual” was first misinterpreted in the Bible\, sparking a cultural and theological shift that continues to impact the LGBTQ+ community today.\n\nAs part of the Wesley Foundation’s Loud Lecture Series\, we are honored to host Kathy Baldock\, an international speaker\, author\, and LGBTQ advocate\, who will be our guest speaker for the evening. Kathy has dedicated her career to educating others about the discrimination LGBTQ+ individuals have faced\, particularly from conservative religious institutions.
UID:124904-21854019@events.umich.edu
URL:https://events.umich.edu/event/124904
CLASS:PUBLIC
STATUS:CONFIRMED
CATEGORIES:Lgbt,Movie,Religious,Social
LOCATION:Rackham Graduate School (Horace H.) - Rackham Amphitheater
CONTACT:
END:VEVENT
BEGIN:VEVENT
DTSTAMP:20241113T003124
DTSTART;TZID=America/Detroit:20241030T190000
DTEND;TZID=America/Detroit:20241030T194500
SUMMARY:Careers / Jobs:Evolve: Job Application 101
DESCRIPTION:Event rescheduled due to technical difficulties!We apologize for the inconvenience\, but this session had to be cancelled due to an audio/video streaming failure. If you have already registered\, please keep an eye on your inbox for rescheduling info!Thank you\, TFA Events Team------Feeling lost in the job search maze? Applications going into the abyss with no reply?&nbsp\;Join us for your job application survival guide and go from applying at random and being ghosted to finding your niche and crushing it. A strategic job search can save you time and energy while helping you land ajob you actually enjoy...let's turn your job hunt into a victory lap!
UID:124387-21852981@events.umich.edu
URL:https://events.umich.edu/event/124387
CLASS:PUBLIC
STATUS:CONFIRMED
CATEGORIES:
LOCATION:
CONTACT:
END:VEVENT
BEGIN:VEVENT
DTSTAMP:20241028T125215
DTSTART;TZID=America/Detroit:20241030T190000
DTEND;TZID=America/Detroit:20241030T210000
SUMMARY:Recreational / Games:Halloween Craft Night
DESCRIPTION:Clean Up Campus will be doing a Halloween Craft Night based on sustainability! We'll be reusing glass jars and creating Jack-o-Lantern jars. We'll also have painting and clay supplies. All supplies are provided and free. Snacks will also be there! Please make sure to RSVP beforehand.
UID:128416-21860796@events.umich.edu
URL:https://events.umich.edu/event/128416
CLASS:PUBLIC
STATUS:CONFIRMED
CATEGORIES:Art,Biology,Ecology,Environment,Social,Student Org,Sustainability,Undergraduate
LOCATION:Dana Natural Resources  Building - 1046
CONTACT:
END:VEVENT
END:VCALENDAR