BEGIN:VCALENDAR
VERSION:2.0
PRODID:-//UM//UM*Events//EN
CALSCALE:GREGORIAN
BEGIN:VTIMEZONE
TZID:America/Detroit
TZURL:http://tzurl.org/zoneinfo/America/Detroit
X-LIC-LOCATION:America/Detroit
BEGIN:DAYLIGHT
TZOFFSETFROM:-0500
TZOFFSETTO:-0400
TZNAME:EDT
DTSTART:20070311T020000
RRULE:FREQ=YEARLY;BYMONTH=3;BYDAY=2SU
END:DAYLIGHT
BEGIN:STANDARD
TZOFFSETFROM:-0400
TZOFFSETTO:-0500
TZNAME:EST
DTSTART:20071104T020000
RRULE:FREQ=YEARLY;BYMONTH=11;BYDAY=1SU
END:STANDARD
END:VTIMEZONE
BEGIN:VEVENT
DTSTAMP:20240826T121909
DTSTART;TZID=America/Detroit:20241030T190000
DTEND;TZID=America/Detroit:20241030T200000
SUMMARY:Class / Instruction:Q+A (Queer and Affirming)
DESCRIPTION:We'll gather for discussion\, Bible or book studies\, and discover the intersection of faith and identity. This group is for the LGBTQIA2S+ community and allies.
UID:124924-21854078@events.umich.edu
URL:https://events.umich.edu/event/124924
CLASS:PUBLIC
STATUS:CONFIRMED
CATEGORIES:Lgbt,Religious,Social
LOCATION:Off Campus Location - Pine Room
CONTACT:
END:VEVENT
BEGIN:VEVENT
DTSTAMP:20241025T181650
DTSTART;TZID=America/Detroit:20241030T190000
DTEND;TZID=America/Detroit:20241030T200000
SUMMARY:Performance:SMTD Jazz Showcase
DESCRIPTION:Enjoy performances by SMTD Jazz students and alumni\, including the ensembles UMPH\, the Rowan Tucker-Meyer Quartet\, and the Sam Novell-Regester Sextet. $20 Cover. Doors: 6:00 pm/ Show: 7:00-8:00 pm.\n\nABOUT UMPH: UMPH is a jazz fusion group based out of Ann Arbor made entirely of U-M students\, hailing from all sides of the country. The group is heavily based on the genres of funk\, fusion\, R&B\, and soul.\n\nCole Oswalt\, tenor saxophone \nAlex Lahti-Thiam\, alto saxophone\nMax McDermitt\, piano & keyboard\nLuke Pisani\, piano & keyboard\nMax Rubin\, drums\nShudane Hendrix\, bass guitar\n\nABOUT ROWAN TUCKER-MEYER QUARTET: Pianist Rowan Tucker-Meyer is one of the most in demand young musicians in Ann Arbor. This dynamic quartet draws particular inspiration from Bill Evans’ work with Eddie Gomez and Marty Morell.\n\nRowan Tucker-Meyer\, piano \nHouston Patton\, saxophone \nAnna Thielke\, bass\nCasey Cheatham\, drums\n\nABOUT SAM NOVELL-REGESTER SEXTET: Currently in the U-M Masters of Improvisation program\, Sam Novell-Regester is a Detroit-based trombonist with experience performing with many of the top players in the area and beyond. This group focuses mainly on music from the Hard Bop era\, with specific influences such as the Curtis Fuller Sextet and Art Blakey and the Jazz Messengers. \n\nSam Novell-Regester\, trombone\nGavin Ard\, trumpet\nAlex Lahti-Thiam\, alto sax \nDaphne Titterington\, bass \nRoman Newhouse\, piano\nCasey Cheatham\, drums 
UID:128338-21860700@events.umich.edu
URL:https://events.umich.edu/event/128338
CLASS:PUBLIC
STATUS:CONFIRMED
CATEGORIES:Alumni,Music
LOCATION:Off Campus Location
CONTACT:
END:VEVENT
BEGIN:VEVENT
DTSTAMP:20240610T181609
DTSTART;TZID=America/Detroit:20241030T191500
DTEND;TZID=America/Detroit:20241030T194500
SUMMARY:Lecture / Discussion:Pre-Concert Lecture: Symphony Band
DESCRIPTION:This lecture begins at 7:15 pm before the 8:00 pm Symphony Band performance.
UID:122599-21849429@events.umich.edu
URL:https://events.umich.edu/event/122599
CLASS:PUBLIC
STATUS:CONFIRMED
CATEGORIES:Concert,Free,Lecture,Music,Talk
LOCATION:Hill Auditorium - Lower Level Lobby
CONTACT:
END:VEVENT
END:VCALENDAR