BEGIN:VCALENDAR
VERSION:2.0
PRODID:-//UM//UM*Events//EN
CALSCALE:GREGORIAN
BEGIN:VTIMEZONE
TZID:America/Detroit
TZURL:http://tzurl.org/zoneinfo/America/Detroit
X-LIC-LOCATION:America/Detroit
BEGIN:DAYLIGHT
TZOFFSETFROM:-0500
TZOFFSETTO:-0400
TZNAME:EDT
DTSTART:20070311T020000
RRULE:FREQ=YEARLY;BYMONTH=3;BYDAY=2SU
END:DAYLIGHT
BEGIN:STANDARD
TZOFFSETFROM:-0400
TZOFFSETTO:-0500
TZNAME:EST
DTSTART:20071104T020000
RRULE:FREQ=YEARLY;BYMONTH=11;BYDAY=1SU
END:STANDARD
END:VTIMEZONE
BEGIN:VEVENT
DTSTAMP:20241030T180002
DTSTART;TZID=America/Detroit:20241030T200000
DTEND;TZID=America/Detroit:20241030T213000
SUMMARY:Exercise / Fitness:Bujinkan Budo Training Session
DESCRIPTION:During the Fall 2024 semester\, Bujinkan Budo Club training will be held on Wednesdays from 20:00 - 21:30 (8-9:30pm) at the Intramural Sports Building (IMSB) in Room MPR B. If you are interested in trying out a class\, please send a message through Maize Pages or an email to michiganbujinkan@gmail.com. --For more information\, email us at michiganbujinkan@gmail.com or checkout our website\, which also includes a training schedule!
UID:123450-21850925@events.umich.edu
URL:https://events.umich.edu/event/123450
CLASS:PUBLIC
STATUS:CONFIRMED
CATEGORIES:
LOCATION:Intramural Sports Building
CONTACT:
END:VEVENT
BEGIN:VEVENT
DTSTAMP:20240610T104114
DTSTART;TZID=America/Detroit:20241030T200000
SUMMARY:Performance:Dave Alvin & Jimmie Dale Gilmore with The Guilty Ones
DESCRIPTION:When Grammy winner Dave Alvin and Grammy nominee Jimmie Dale Gilmore made the album Downey To Lubbock together in 2018\, they wrote the title track as a sort of mission statement. “I know someday this old highway’s gonna come to an end\,” Alvin sings near the song’s conclusion. Gilmore answers: “But I know when it does you’re going to be my friend.” Six years later\, they’re serving notice that the old highway hasn’t ended yet. “We’re still standing\, no matter what you might hear\,” they sing on “We’re Still Here\,” the final track to their new album Texicali. Due out Jun 21\, 2024 on Yep Roc Records\, Texicali continues to bridge the distance between the two troubadours’ respective home bases of California (Alvin) and Texas (Gilmore).\n\nThe album’s geographic theme reflects Alvin’s repeated journeys to record in Central Texas with Gilmore and the Austin-based backing band that has toured with the duo for the past few years. The 11 songs on Texicali also connect the duo’s shared fondness for a broad range of American music forms. On their own\, both have been prominent artists for decades. A philosophical songwriter with a captivating\, almost mystical voice\, Gilmore co-founded influential Lubbock group the Flatlanders in the early 1970s. Alvin first drew attention as a firebrand guitarist and budding young songwriter with Los Angeles roots-rockers the Blasters in the early 1980s.\n\nGilmore is primarily known for left-of-center country music\, while Alvin’s compass points largely toward old-school blues. But there’s a lot of ground to cover beyond those foundations\, and both artists also are well-known for transcending genre limitations. So it’s not surprising that they’ve spiked Texicali with cosmic folk narratives\, deep R&B grooves and even swinging reggae rhythms. \n\nhttps://www.jimmiedalegilmore.com/\nhttps://www.davealvin.net/
UID:121791-21847289@events.umich.edu
URL:https://events.umich.edu/event/121791
CLASS:PUBLIC
STATUS:CONFIRMED
CATEGORIES:Ark,Concert,Music,Mutotix
LOCATION:Off Campus Location
CONTACT:
END:VEVENT
BEGIN:VEVENT
DTSTAMP:20241106T125855
DTSTART;TZID=America/Detroit:20241030T200000
DTEND;TZID=America/Detroit:20241030T210000
SUMMARY:Well-being:Heartfulness Meditation At UMich Club Meeting
DESCRIPTION:What is Heartfulness Meditation?\n\nHeartfulness is about feeling. Our entire life is led by feelings and inspirations\, and that is the role of the heart. When we manage to listen to the heart and capture the inspiration that comes from within\, we learn to master our life. The whole exercise of fine-tuning the heart with the mind is through meditation on the heart\, and that is why it is called Heartfulness Meditation.\n\nJoin us for a step-by-step guided relaxation and meditation at our next club meeting.
UID:127710-21861028@events.umich.edu
URL:https://events.umich.edu/event/127710
CLASS:PUBLIC
STATUS:CONFIRMED
CATEGORIES:Mental Health,Well-being,Wellness,Yoga
LOCATION:Michigan Union - Parker (2nd Floor)
CONTACT:
END:VEVENT
END:VCALENDAR