BEGIN:VCALENDAR
VERSION:2.0
PRODID:-//UM//UM*Events//EN
CALSCALE:GREGORIAN
BEGIN:VTIMEZONE
TZID:America/Detroit
TZURL:http://tzurl.org/zoneinfo/America/Detroit
X-LIC-LOCATION:America/Detroit
BEGIN:DAYLIGHT
TZOFFSETFROM:-0500
TZOFFSETTO:-0400
TZNAME:EDT
DTSTART:20070311T020000
RRULE:FREQ=YEARLY;BYMONTH=3;BYDAY=2SU
END:DAYLIGHT
BEGIN:STANDARD
TZOFFSETFROM:-0400
TZOFFSETTO:-0500
TZNAME:EST
DTSTART:20071104T020000
RRULE:FREQ=YEARLY;BYMONTH=11;BYDAY=1SU
END:STANDARD
END:VTIMEZONE
BEGIN:VEVENT
DTSTAMP:20250120T110206
DTSTART;TZID=America/Detroit:20241121T120000
DTEND;TZID=America/Detroit:20241121T130000
SUMMARY:Workshop / Seminar:Intern Abroad Info Sessions - CGIS Internship Programs
DESCRIPTION:Check out upcoming information sessions about the CGIS International Internship Programs!
UID:128515-21861070@events.umich.edu
URL:https://events.umich.edu/event/128515
CLASS:PUBLIC
STATUS:CONFIRMED
CATEGORIES:Abroad,Undergraduate,Study Abroad,Sessions,internships,Internship,international studies,International,Information Session,global opportunities,global engagement,global,Europe,Career,All Majors Welcome
LOCATION:Virtual
CONTACT:
END:VEVENT
BEGIN:VEVENT
DTSTAMP:20240910T163742
DTSTART;TZID=America/Detroit:20241121T120000
DTEND;TZID=America/Detroit:20241121T133000
SUMMARY:Workshop / Seminar:Medicine\, Aging\, Science & Health (MASH) Workshop
DESCRIPTION:Fall 2024 Semester Line-Up:\n\n9/12: Paige Sweet\, \"Paige Sweet	He’s a Full Blown Narcissist: Tracing an Emerging Cultural Narrative in Action\"\n\n9/26: Erika-Ann Kim\, Publishable Paper\n\n10/10: Levity Smith\, Publishable Paper (\"Not All Bathrooms are Created Equal\": Moral Experiences of Maneuvering Inaccessible Infrastructure with Physical Disability)\n\n10/24: Alexus Roane\, \"Strategies Among Birth Workers and Perinatal Health Professionals for Promoting Perinatal Health Equity Across Spatial Contexts in North Carolina\"\n\n11/7: Charles Katulamu\, \"’Illegal abortion’: Navigation and Experiences of Women\"\n\n11/21: Juliette Bontemps\, \"Social inequalities and colorectal cancer in France\"\n\n12/7: Analidis Ochoa\, \"Blood Veins for Hire: Blood Plasma and the Global Plasma Industry\"
UID:126192-21856663@events.umich.edu
URL:https://events.umich.edu/event/126192
CLASS:PUBLIC
STATUS:CONFIRMED
CATEGORIES:Graduate Students
LOCATION:LSA Building - 4147
CONTACT:
END:VEVENT
BEGIN:VEVENT
DTSTAMP:20241206T063124
DTSTART;TZID=America/Detroit:20241121T120000
DTEND;TZID=America/Detroit:20241121T130000
SUMMARY:Careers / Jobs:Pro Football Hall of Fame \"Before the Snap\" ft. Joe Lofton
DESCRIPTION:The Pro Football Hall of Fame is proud to offer a series for learners in high school\, college and beyond! “Before the Snap” gives an insight to professional careers in and around the NFL\, while giving the live viewing audience the opportunity to interact with an industry expert.Our special guest is Joe Lofton\, who currently serves as the Football Development Manager for the Pittsburgh Steelers.We will be streaming the program LIVE on the Pro Football Hall of Fame’s YouTube page and will take questions from students across the country throughout theprogram. To participate\, all you will need to do is: - Visit https://www.youtube.com/user/ProFootballHOF at 12:00pm ET on Thursday\, November 21\, 2024 to view the program. -To ask a question\, comment onthe post with the following information:*  Name of School (if applicable)*  Location*  Question for Industry ExpertIf you have any questions\, do not hesitate to reach out! You can contact me at 330-588-3558 or by email at Jacob.Ray@ProFootballHOF.com
UID:129185-21862304@events.umich.edu
URL:https://events.umich.edu/event/129185
CLASS:PUBLIC
STATUS:CONFIRMED
CATEGORIES:
LOCATION:
CONTACT:
END:VEVENT
END:VCALENDAR