BEGIN:VCALENDAR
VERSION:2.0
PRODID:-//UM//UM*Events//EN
CALSCALE:GREGORIAN
BEGIN:VTIMEZONE
TZID:America/Detroit
TZURL:http://tzurl.org/zoneinfo/America/Detroit
X-LIC-LOCATION:America/Detroit
BEGIN:DAYLIGHT
TZOFFSETFROM:-0500
TZOFFSETTO:-0400
TZNAME:EDT
DTSTART:20070311T020000
RRULE:FREQ=YEARLY;BYMONTH=3;BYDAY=2SU
END:DAYLIGHT
BEGIN:STANDARD
TZOFFSETFROM:-0400
TZOFFSETTO:-0500
TZNAME:EST
DTSTART:20071104T020000
RRULE:FREQ=YEARLY;BYMONTH=11;BYDAY=1SU
END:STANDARD
END:VTIMEZONE
BEGIN:VEVENT
DTSTAMP:20241030T180017
DTSTART;TZID=America/Detroit:20241030T200000
DTEND;TZID=America/Detroit:20241030T220000
SUMMARY:Other:MSU Scrimmage
DESCRIPTION:Scrimmage vs. MSU and GVSU on October 30
UID:128253-21860511@events.umich.edu
URL:https://events.umich.edu/event/128253
CLASS:PUBLIC
STATUS:CONFIRMED
CATEGORIES:
LOCATION:Michigan State University
CONTACT:
END:VEVENT
BEGIN:VEVENT
DTSTAMP:20241028T181642
DTSTART;TZID=America/Detroit:20241030T200000
DTEND;TZID=America/Detroit:20241030T220000
SUMMARY:Performance:Symphony Band
DESCRIPTION:David Maslanka composed ten epic symphonies for band\, and each in their own way explored the exerience of living: joys and sorrows\, challenges and triumphs. Ultimately\, this music is about the celebration of that journey\, and the pursuit of moving through the darkness to the light. Along with Maslanka's Seventh Symphony\, the University of Michigan Symphony Band performs the consortium premiere of Christopher Cerrone's *Darkening\, The Brightening* with guest artist Lindsay Kesselman\, and also presents new music from SMTD faculty member Paul Dooley.\n\nJason Fettig\, conductor\nLindsay Kesselman\, soprano\n\nPROGRAM\n\nPaul Dooley\, *Boom Goes the Dynamite*\n\nJoaquin Rodrigo\, Adagio para Orquesta de Instrumentos de Viento\n\nChristopher Cerrone\, *Darkening\, Then Brightening*\n\nDavid Maslanka\, Symphony no. 7
UID:122600-21849430@events.umich.edu
URL:https://events.umich.edu/event/122600
CLASS:PUBLIC
STATUS:CONFIRMED
CATEGORIES:Concert,Free,Music
LOCATION:Hill Auditorium
CONTACT:
END:VEVENT
BEGIN:VEVENT
DTSTAMP:20241025T181651
DTSTART;TZID=America/Detroit:20241030T204500
DTEND;TZID=America/Detroit:20241030T214500
SUMMARY:Performance:SMTD Jazz Showcase
DESCRIPTION:Enjoy performances by SMTD Jazz students and alumni\, including the ensembles UMPH\, the Rowan Tucker-Meyer Quartet\, and the Sam Novell-Regester Sextet. $20 Cover. Doors: 8:30 pm/ Show: 8:45-9:45 pm.\n\nABOUT UMPH: UMPH is a jazz fusion group based out of Ann Arbor made entirely of U-M students\, hailing from all sides of the country. The group is heavily based on the genres of funk\, fusion\, R&B\, and soul.\n\nCole Oswalt\, tenor saxophone \nAlex Lahti-Thiam\, alto saxophone\nMax McDermitt\, piano & keyboard\nLuke Pisani\, piano & keyboard\nMax Rubin\, drums\nShudane Hendrix\, bass guitar\n\nABOUT ROWAN TUCKER-MEYER QUARTET: Pianist Rowan Tucker-Meyer is one of the most in demand young musicians in Ann Arbor. This dynamic quartet draws particular inspiration from Bill Evans’ work with Eddie Gomez and Marty Morell.\n\nRowan Tucker-Meyer\, piano \nHouston Patton\, saxophone \nAnna Thielke\, bass\nCasey Cheatham\, drums\n\nABOUT SAM NOVELL-REGESTER SEXTET: Currently in the U-M Masters of Improvisation program\, Sam Novell-Regester is a Detroit-based trombonist with experience performing with many of the top players in the area and beyond. This group focuses mainly on music from the Hard Bop era\, with specific influences such as the Curtis Fuller Sextet and Art Blakey and the Jazz Messengers. \n\nSam Novell-Regester\, trombone\nGavin Ard\, trumpet\nAlex Lahti-Thiam\, alto sax \nDaphne Titterington\, bass \nRoman Newhouse\, piano\nCasey Cheatham\, drums 
UID:128339-21860701@events.umich.edu
URL:https://events.umich.edu/event/128339
CLASS:PUBLIC
STATUS:CONFIRMED
CATEGORIES:Alumni,Music
LOCATION:Off Campus Location
CONTACT:
END:VEVENT
END:VCALENDAR