BEGIN:VCALENDAR
VERSION:2.0
PRODID:-//UM//UM*Events//EN
CALSCALE:GREGORIAN
BEGIN:VTIMEZONE
TZID:America/Detroit
TZURL:http://tzurl.org/zoneinfo/America/Detroit
X-LIC-LOCATION:America/Detroit
BEGIN:DAYLIGHT
TZOFFSETFROM:-0500
TZOFFSETTO:-0400
TZNAME:EDT
DTSTART:20070311T020000
RRULE:FREQ=YEARLY;BYMONTH=3;BYDAY=2SU
END:DAYLIGHT
BEGIN:STANDARD
TZOFFSETFROM:-0400
TZOFFSETTO:-0500
TZNAME:EST
DTSTART:20071104T020000
RRULE:FREQ=YEARLY;BYMONTH=11;BYDAY=1SU
END:STANDARD
END:VTIMEZONE
BEGIN:VEVENT
DTSTAMP:20241106T123153
DTSTART;TZID=America/Detroit:20241022T160000
DTEND;TZID=America/Detroit:20241022T170000
SUMMARY:Careers / Jobs:CFPB Director's Financial Analyst Program Open House session 10/22/2024
DESCRIPTION:The CFPB will host two drop-in Open House sessions\, via Microsoft Teams\, for an opportunity to meet with the DFA Program recruitment team and current DFAs\, to ask any remaining questions about the programand application process.Open House Date &amp\; Time: Tuesday\, October 22\, 2024 (4:00pm – 5:00pm Eastern)Meeting Information: www.microsoft.com/microsoft-teams/join-a-meeting 
UID:126299-21856857@events.umich.edu
URL:https://events.umich.edu/event/126299
CLASS:PUBLIC
STATUS:CONFIRMED
CATEGORIES:
LOCATION:
CONTACT:
END:VEVENT
BEGIN:VEVENT
DTSTAMP:20241010T081028
DTSTART;TZID=America/Detroit:20241022T160000
DTEND;TZID=America/Detroit:20241022T170000
SUMMARY:Workshop / Seminar:CM-AMO Seminar | Layer-By-Layer Engineering and Deciphering of Topological Orders in Magnetic Topological Insulators
DESCRIPTION:The advent of intrinsic magnetic topological insulators enables us to envisage various low-dimensional topological orders\, such as the quantum anomalous Hall insulators and the axion insulators\, at realistic cryogenic temperatures. These materials are represented by MnBi 2 Te 4 and its derived superlattices MnBi 2n Te 3n+1 . However\, it has been controversial whether these materials exhibit the key ingredient for magnetic topological phases: an energy gap due to the time-reversal symmetry breaking. Moreover\, the construction of high-quality magnetic topological insulators at the ultrathin limit has met significant challenges. In this talk\, I will present a new technique\, layer-encoded frequency-domain photoemission spectroscopy\, which allows us to decipher the layer origins of various electronic states. By encoding layer indices with intralayer phonon frequencies\, we measure the strengths of coupling with layer-specific phonons. This experiment reveals that the topological surface states on antiferromagnetic MnBi 4 Te 7 are partially relocated to the nonmagnetic layers\, reconciling the mystery of vanishing broken-symmetry gaps. Moreover\, I will present our recent progress on the “carpet-growth” of Bi 2 Te 3 ultrathin films and MnBi 2 Te 4 /Bi 2 Te 3 heterostructures using molecular beam epitaxy. These thin films extend coherently across a millimeter spatial scale without disruptions by substrate step edges. Angle-resolved photoemission spectroscopy studies yield unprecedentedly sharp electronic structures in agreement with first-principles calculations layer-by-layer\, and suggest opportunities to realize the quantum spin Hall effect at near-ambient temperatures. \n\nBio: Shuolong Yang pioneered in combining femtosecond temporal control and atomic-layer engineering of quantum materials. Yang obtained his B.S. in Physics at Stanford University in 2010. He continued to finish his Ph.D. in Applied Physics at Stanford in 2016. Before starting at the University of Chicago\, he was a postdoctoral fellow at Cornell University\, working at the intersection between condensed matter physics and materials science. Yang has been the recipient of several prestigious scholarships and fellowships\, including the Larry Yung Scholarship\, the J. E. Wallace Sterling Award for Scholastic Achievement at Stanford\, and the Stanford Graduate Fellowship. He was awarded the Kavli postdoctoral fellowship at Cornell. He is an NSF CAREER awardee\, a DOE Early Career Awardee\, and Moore foundation investigator.
UID:124880-21853979@events.umich.edu
URL:https://events.umich.edu/event/124880
CLASS:PUBLIC
STATUS:CONFIRMED
CATEGORIES:Physics,Science
LOCATION:West Hall - 340
CONTACT:
END:VEVENT
BEGIN:VEVENT
DTSTAMP:20240929T070954
DTSTART;TZID=America/Detroit:20241022T160000
DTEND;TZID=America/Detroit:20241022T170000
SUMMARY:Workshop / Seminar:Colloquium Seminar: Nonlocal PDEs and Quantum Optics
DESCRIPTION:Quantum optics is the quantum theory of the interaction of light and matter. This talk will present a survey of recent results on related many-body problems involving the transport of entangled photons in a system of two-level atoms.  In this setting\, there is a close relation to kinetic equations for nonlocal PDEs with random coefficients.
UID:120788-21845300@events.umich.edu
URL:https://events.umich.edu/event/120788
CLASS:PUBLIC
STATUS:CONFIRMED
CATEGORIES:Mathematics
LOCATION:East Hall - 1360
CONTACT:
END:VEVENT
END:VCALENDAR