BEGIN:VCALENDAR
VERSION:2.0
PRODID:-//UM//UM*Events//EN
CALSCALE:GREGORIAN
BEGIN:VTIMEZONE
TZID:America/Detroit
TZURL:http://tzurl.org/zoneinfo/America/Detroit
X-LIC-LOCATION:America/Detroit
BEGIN:DAYLIGHT
TZOFFSETFROM:-0500
TZOFFSETTO:-0400
TZNAME:EDT
DTSTART:20070311T020000
RRULE:FREQ=YEARLY;BYMONTH=3;BYDAY=2SU
END:DAYLIGHT
BEGIN:STANDARD
TZOFFSETFROM:-0400
TZOFFSETTO:-0500
TZNAME:EST
DTSTART:20071104T020000
RRULE:FREQ=YEARLY;BYMONTH=11;BYDAY=1SU
END:STANDARD
END:VTIMEZONE
BEGIN:VEVENT
DTSTAMP:20241128T123134
DTSTART;TZID=America/Detroit:20241113T160000
DTEND;TZID=America/Detroit:20241113T170000
SUMMARY:Careers / Jobs:USA - Campus - Get to Know EY: General Information Session & Panel
DESCRIPTION:Curious about a career at EY? Come join us to learn more about EY\, our service lines\, practices\, and overall culture. This sessionwill start with a general firm overview\, followed by a panel of EY stafffrom our Assurance\, Tax\, Consulting\, and Strategy and Transactions service lines. EY campus recruiters will close out with recruiting reminders and resources. We hope to see you there!
UID:126472-21857176@events.umich.edu
URL:https://events.umich.edu/event/126472
CLASS:PUBLIC
STATUS:CONFIRMED
CATEGORIES:
LOCATION:
CONTACT:
END:VEVENT
BEGIN:VEVENT
DTSTAMP:20250516T153130
DTSTART;TZID=America/Detroit:20241113T163000
DTEND;TZID=America/Detroit:20241113T180000
SUMMARY:Workshop / Seminar:Foundations of Community Engagement
DESCRIPTION:Foundations of Community Engagement is an interactive workshop that introduces principles and practices of equitable\, ethical community engagement. Participants will develop a deeper understanding of what the term “community engagement” means\, as well as the many forms it might take - from research and course-based projects to philanthropy\, activism\, policy\, and direct service. Across all these forms of engagement\, participants will learn concepts and actions that promote equitable partnerships\, center community-defined priorities\, and disrupt entrenched power dynamics between universities and community members. Participants will also discuss real-world community engagement scenarios that ask them to apply what they’ve learned in the workshop to various situations.\n\n**This workshop is an updated version of Ginsberg’s long-standing Entering\, Engaging\, and Exiting (E3) session. If you’ve attended that session in the past\, you’ll gain additional knowledge from this session.**\n\nRegister for a Session Here: https://sessions.studentlife.umich.edu/track/event/16509
UID:123162-21850382@events.umich.edu
URL:https://events.umich.edu/event/123162
CLASS:PUBLIC
STATUS:CONFIRMED
CATEGORIES:Activism,Free,Ginsberg Center,Graduate Students,Leadership,Student Org,Undergraduate Students,Workshop
LOCATION:Off Campus Location
CONTACT:
END:VEVENT
BEGIN:VEVENT
DTSTAMP:20241128T123159
DTSTART;TZID=America/Detroit:20241113T170000
DTEND;TZID=America/Detroit:20241113T174500
SUMMARY:Careers / Jobs: 2025 Possibilities Summit Alumni Panel - November 13th
DESCRIPTION:This informative presentation will help you learn about therecruitment process for the Goldman Sachs 2025 Possibilities Summit program. Hear from our Campus Recruiting team as well as Possibilities Summit alumni at the firm about their unique career pathways to their current roles and lessons learned along the way. While our session is open to all students\, we encourage current Freshmen &amp\; Sophomores to come learn about our 2026 and 2027 Summer Analyst opportunities. We ask that you register through our GS Events portal in order to track your attendance. The registration can be accessed by copying and pasting the following: https://recruiting360.avature.net/candidates?projectId=21470&amp\;source=Campus
UID:128239-21860467@events.umich.edu
URL:https://events.umich.edu/event/128239
CLASS:PUBLIC
STATUS:CONFIRMED
CATEGORIES:
LOCATION:
CONTACT:
END:VEVENT
END:VCALENDAR