BEGIN:VCALENDAR
VERSION:2.0
PRODID:-//UM//UM*Events//EN
CALSCALE:GREGORIAN
BEGIN:VTIMEZONE
TZID:America/Detroit
TZURL:http://tzurl.org/zoneinfo/America/Detroit
X-LIC-LOCATION:America/Detroit
BEGIN:DAYLIGHT
TZOFFSETFROM:-0500
TZOFFSETTO:-0400
TZNAME:EDT
DTSTART:20070311T020000
RRULE:FREQ=YEARLY;BYMONTH=3;BYDAY=2SU
END:DAYLIGHT
BEGIN:STANDARD
TZOFFSETFROM:-0400
TZOFFSETTO:-0500
TZNAME:EST
DTSTART:20071104T020000
RRULE:FREQ=YEARLY;BYMONTH=11;BYDAY=1SU
END:STANDARD
END:VTIMEZONE
BEGIN:VEVENT
DTSTAMP:20240930T144237
DTSTART;TZID=America/Detroit:20241031T090000
DTEND;TZID=America/Detroit:20241031T140000
SUMMARY:Social / Informal Gathering:Camp Michigania Halloween on the Diag
DESCRIPTION:Come learn about Camp Michigania and get free donuts\, candy\, and prizes! Join us Oct. 31 from 9:00 AM to 2:00 PM.\nParticipants are encouraged to apply to work at Camp Michigania. Our application is open now! The application has an early decision deadline of 10/31 and a regular decision deadline of 1/31.
UID:126193-21856665@events.umich.edu
URL:https://events.umich.edu/event/126193
CLASS:PUBLIC
STATUS:CONFIRMED
CATEGORIES:Staff,Recruiting,Halloween,Free,Food,Career,Camp
LOCATION:Diag - Central Campus
CONTACT:
END:VEVENT
BEGIN:VEVENT
DTSTAMP:20241031T082038
DTSTART;TZID=America/Detroit:20241031T090000
DTEND;TZID=America/Detroit:20241031T100000
SUMMARY:Workshop / Seminar:Curator Q&A with Sophie Ong\, \"Ethiopia at the Crossroads\,\" Toledo Museum of Art (Rummage: Museums\, Exhibitions\, and Representation RIW)
DESCRIPTION:Rummage is a Rackham Interdisciplinary Workshop focused on the nexus of exhibition\, collection\, curation\, display\, and representation within museums and museum-adjacent spaces. The group’s name\, rummage\, evokes both a materiality and an intellectual practice characteristic of museum studies more broadly. On the one hand\, rummaging has a tactile quality. It gestures to the human role in how objects are placed and misplaced\, organized and disorganized\, thrown into juxtaposition\, and often randomly re-discovered anew by individuals negotiating various value systems associated with objects. It evokes an image of coming to objects of the past with new eyes and curiosity. On the other hand\, rummaging could also be used to describe an intellectual approach. In posing questions about the how and why certain narratives come to be exhibited and interpreted\, we root around historical understandings of heritage and the power dynamics that lead certain narratives to become dominant. This process is guided by curiosity\, a drive to understand\, and a skepticism of ordering systems. 
UID:128047-21860099@events.umich.edu
URL:https://events.umich.edu/event/128047
CLASS:PUBLIC
STATUS:CONFIRMED
CATEGORIES:Sessions
LOCATION:https://umich.zoom.us/j/97111697414
CONTACT:
END:VEVENT
BEGIN:VEVENT
DTSTAMP:20240830T104618
DTSTART;TZID=America/Detroit:20241031T090000
DTEND;TZID=America/Detroit:20241031T163000
SUMMARY:Exhibition:Guardians: Spirits of Protection
DESCRIPTION:This fall\, the Residential College Art Gallery proudly presents Guardians: Spirits of Protection\, an exhibition of evocative figurative sculptures by renowned artist Ann Savageau. The exhibition will be on display from August 26 to November 2\, 2024.\n\nWe invite the university community and the general public to explore this moving collection that delves into themes of loss\, grief\, healing\, and protection. The seventeen life-size figures\, crafted from found objects and beach flotsam\, are a poignant response to the tragedies in Savageau’s life\, including the loss of her three children. Through this deeply personal and powerful work\, Savageau reimagines discarded materials as symbols of new life and resilience\, reflecting the healing power of art.\n\nAnn Savageau will be in residence in Ann Arbor and the Residential College from September 16-20 and October 20-25\, 2024. During her stay\, you are warmly invited to join us for a special artist reception on October 23\, from 4:30 to 6:00 pm in the Gallery. Prior to the reception\, there will be an artist's talk in the Keene Theater at 3:30 pm\, where Savageau will share insights into her creative process and the inspiration behind Guardians.\n\nAnn Savageau\, a former Studio Art instructor at the Residential College from 1978 to 2002\, is not only an artist but also an activist and educator. Her contributions to the Prison Creative Arts Project\, where she taught a weekly art workshop at Jackson Prison for four years\, showcase her commitment to using art as a tool for social change.\n\nDon't miss this opportunity to witness the transformative impact of Savageau's work and engage with her during her residency. We look forward to seeing you at the RC Art Gallery.\n\nImportant Dates:\n\nExhibition: August 26 – November 2\, 2024\nArtist's Talk: October 23\, 2024\, at 3:30 pm\, RC Keene Theater\nArtist Reception: October 23\, 2024\, from 4:30 – 6:00 pm\, RC Art Gallery
UID:125338-21854824@events.umich.edu
URL:https://events.umich.edu/event/125338
CLASS:PUBLIC
STATUS:CONFIRMED
CATEGORIES:Arts Initiative,arts at michigan,arts,artists and curators,artists,Art,Community Engagement,Community
LOCATION:East Quadrangle - RC Art Gallery
CONTACT:
END:VEVENT
END:VCALENDAR