BEGIN:VCALENDAR
VERSION:2.0
PRODID:-//UM//UM*Events//EN
CALSCALE:GREGORIAN
BEGIN:VTIMEZONE
TZID:America/Detroit
TZURL:http://tzurl.org/zoneinfo/America/Detroit
X-LIC-LOCATION:America/Detroit
BEGIN:DAYLIGHT
TZOFFSETFROM:-0500
TZOFFSETTO:-0400
TZNAME:EDT
DTSTART:20070311T020000
RRULE:FREQ=YEARLY;BYMONTH=3;BYDAY=2SU
END:DAYLIGHT
BEGIN:STANDARD
TZOFFSETFROM:-0400
TZOFFSETTO:-0500
TZNAME:EST
DTSTART:20071104T020000
RRULE:FREQ=YEARLY;BYMONTH=11;BYDAY=1SU
END:STANDARD
END:VTIMEZONE
BEGIN:VEVENT
DTSTAMP:20240726T181529
DTSTART;TZID=America/Detroit:20241121T150000
DTEND;TZID=America/Detroit:20241121T170000
SUMMARY:Workshop / Seminar:Appreciative Interviewing
DESCRIPTION:Appreciative Interviewing is an advanced workshop that focuses on some of the values and skills needed for community-engaged projects that involve relationship-building\, communication\, interviews\, and/or qualitative data. Participants will learn how to listen\, what makes a good question\, and how to ask good questions\; participants will also have the opportunity to practice and apply these skills in activities and real-world scenarios.\nThis workshop will fulfill the DEI Certificate requirement for Connecting Across Difference and is designed for University of Michigan master’s students\, doctoral students\, and postdoctoral fellows. For faculty and staff\, please contact rackhampdeworkshops@umich.edu to see if we can accommodate your attendance.\nRegistration is required at https://myumi.ch/Jw6GV.\nWe want to ensure full and equitable participation in our events. If an accommodation would promote your full participation in this event\, please follow the registration link to indicate your accommodation requirements. Please let us know as soon as possible in order to have adequate time\, preferably one week\, to arrange for your requested accommodations or an effective alternative.
UID:123621-21851174@events.umich.edu
URL:https://events.umich.edu/event/123621
CLASS:PUBLIC
STATUS:CONFIRMED
CATEGORIES:Diversity,Graduate Students
LOCATION:Michigan League
CONTACT:
END:VEVENT
BEGIN:VEVENT
DTSTAMP:20241023T143151
DTSTART;TZID=America/Detroit:20241121T150000
DTEND;TZID=America/Detroit:20241121T163000
SUMMARY:Lecture / Discussion:Creating Maawn Doobiigeng: Developing An Anishinaabe Classification System for a Tribal Library
DESCRIPTION:Anne Heidemann & Melissa Isaac\, from the Saginaw Chippewa Indian Tribe of Michigan\, talk about Maawn Doobiigeng (https://myumi.ch/bE8RV)\, a new classification system for the Saginaw Chippewa Tribal Libraries. Join in person or via Zoom.\n\nThe three primary systems of classification that were in place — the Dewey Decimal System (DDC)\, the Library of Congress Classification System (LCC)\, and the Library of Congress Subject Headings (LCSH) —are inherently damaging to Indigenous people and are insufficient for accurately describing and providing access to Native topics. In 2019\, The Saginaw Chippewa Tribal Libraries were awarded the IMLS National Leadership Grant to facilitate the creation of a new classification system by members of the community. As of April 2024\, this new system\, titled Maawn Doobiigeng (Gather Together)\, has been created and is being implemented in the libraries.\n\nYou can submit questions in advance via this form\, and we'll respond to as many as time allows: https://myumi.ch/XGNVn
UID:128269-21860533@events.umich.edu
URL:https://events.umich.edu/event/128269
CLASS:PUBLIC
STATUS:CONFIRMED
CATEGORIES:Free,Library
LOCATION:Off Campus Location - Gallery (1st floor)
CONTACT:
END:VEVENT
BEGIN:VEVENT
DTSTAMP:20241206T123124
DTSTART;TZID=America/Detroit:20241121T150000
DTEND;TZID=America/Detroit:20241121T160000
SUMMARY:Careers / Jobs:Explore Internships: Your Gateway to Conservation with SCA
DESCRIPTION:Join us for a virtual info session to learn about internship opportunities with the Student Conservation Association (SCA)! Whether you're passionate about the environment\, eager to gain hands-on experience\, or looking to build your leadership skills\, this session is perfect for you.During the session\, you'll discover:\n\nProgram Overview: Learn about SCA’s mission to empower youth and young adults through hands-on conservation projects that protect our national parks\, marine sanctuaries\, and community green spaces.\n\nInternship Opportunities: Explore various internship roles available across the country\, designed to provide practical experiencein environmental stewardship\, project management\, and community engagement.\n\nCareer Development: Understand how SCA internships can help you build valuable skills and connections in the conservation field.\n\nQ&amp\;A Session: Have your questions answered by SCA Recruiters\, gain insight into the application procress and tips for standing out.\nDon’t miss this opportunity to kickstart your journey in conservation and make a meaningful impact on the environment! Register now to secure your spot and take the first step toward becoming a leader in environmental stewardship.Date: 11/21 /2024Time: 3 PM to 4 PM CST (Centeral Time Zone)Location: Virtual Link We look forward to seeing you there!
UID:128963-21861955@events.umich.edu
URL:https://events.umich.edu/event/128963
CLASS:PUBLIC
STATUS:CONFIRMED
CATEGORIES:
LOCATION:
CONTACT:
END:VEVENT
END:VCALENDAR