BEGIN:VCALENDAR
VERSION:2.0
PRODID:-//UM//UM*Events//EN
CALSCALE:GREGORIAN
BEGIN:VTIMEZONE
TZID:America/Detroit
TZURL:http://tzurl.org/zoneinfo/America/Detroit
X-LIC-LOCATION:America/Detroit
BEGIN:DAYLIGHT
TZOFFSETFROM:-0500
TZOFFSETTO:-0400
TZNAME:EDT
DTSTART:20070311T020000
RRULE:FREQ=YEARLY;BYMONTH=3;BYDAY=2SU
END:DAYLIGHT
BEGIN:STANDARD
TZOFFSETFROM:-0400
TZOFFSETTO:-0500
TZNAME:EST
DTSTART:20071104T020000
RRULE:FREQ=YEARLY;BYMONTH=11;BYDAY=1SU
END:STANDARD
END:VTIMEZONE
BEGIN:VEVENT
DTSTAMP:20241113T003137
DTSTART;TZID=America/Detroit:20241031T100000
DTEND;TZID=America/Detroit:20241031T110000
SUMMARY:Careers / Jobs:Internship Lab
DESCRIPTION:*RSVP required to attend. Click \"Join Event\" here: https://umich.joinhandshake.com/events/1610310/share_previewAre you ready to start searching for a great internship? Do you have a few ideas\, but you’re not sure where to get started? Let's talk about search strategy!! Get real-time\, personalized support by checking out the in person Internship Lab. You’ll be guided by one of our Career Coaches whohas designed this experience to provide you strategies\, tools\, and motivation to get on the right track with searching for internships. Chat with folks from the University Career Center to explore Handshake\, the University Career Alumni Network (UCAN) and to learn about other tools you can use to build a great job/internship search strategy. **If you're not sure what you're interested in\, consider making an \"Exploring Major/Career Option\" appointment to get started clarifying your interests with a career coach in a 1-on-1 setting. Recent Grads: If you are an alumni\, you will not be able to access the link due the University’s policy of discontinuing alumni Zoom accounts 30 days after graduation. Please contact careercenter@umich.edu with the subject line “Recent Grad Help” to receive either a recording of the session orto be set up with a 1:1. Include the name of the workshop/event in your email.
UID:126638-21857459@events.umich.edu
URL:https://events.umich.edu/event/126638
CLASS:PUBLIC
STATUS:CONFIRMED
CATEGORIES:
LOCATION:University Career Center, 3200 Student Activities Building, Program Room (3003), 515 E Jefferson St, Ann Arbor, MI, United States
CONTACT:
END:VEVENT
BEGIN:VEVENT
DTSTAMP:20240130T121551
DTSTART;TZID=America/Detroit:20241031T100000
DTEND;TZID=America/Detroit:20241031T200000
SUMMARY:Exhibition:Unsettling Histories: Legacies of Slavery and Colonialism
DESCRIPTION:Organized as a response to the Museum’s recent acquisition of Titus Kaphar’s Flay (James Madison)\, this upcoming reinstallation of one of our most prominent gallery spaces forces us to grapple with our collection of European and American art\, 1650-1850.\n \nIn recent times\, growing public awareness of the continued reverberations of the legacy of slavery and colonization has challenged museums to examine the uncomfortable histories contained in our collections\, and challenged the public to probe the choices we make about those stories. Choices about which artists you see in our galleries\, choices about what relevant facts we share about the works\, and choices about what - out of an infinite number of options - we don’t say about them.\n \nPieces in this exhibition were made at a time when the world came to be shaped by the ideologies of colonial expansion and Western domination. And yet\, that history and the stories of those marginalized do not readily appear in the still lives and portraits on display here. By grappling with what is visible and what remains hidden\, we are forced to examine whose stories and histories are prioritized and why.  \n \nIn this online exhibition\, you can explore our efforts to deeply question the Museum’s collection and our own past complicity in favoring colonial voices. In the Museum gallery\, which will open in early 2021\, you’ll be able to experience the changes we’re making to the physical space to highlight a more honest version of European and American history. \n \nBy challenging our own practice\, and continuing to add to what we know and what we write about the works we display\, UMMA tells a more complex and more complete story of this nation - one that unsettles\, and fails to settle for\, simple narratives. \n \n“Invisible things are not necessarily ‘not there’.... Certain absences are so stressed\, so ornate\, so planned\, they call attention to themselves\; arrest us with intentionality and purpose\, like neighborhoods that are defined by the population held away from them.” \n \n— Toni Morrison\n\nLead support for Unsettling Histories: Legacies of Slavery and Colonialism is provided by the University of Michigan Office of the Provost\, the U-M Arts Initiative\, and the Susan and Richard Gutow Endowed Fund.\n 
UID:84303-21621430@events.umich.edu
URL:https://events.umich.edu/event/84303
CLASS:PUBLIC
STATUS:CONFIRMED
CATEGORIES:UMMA,Art,Museum,History,Exhibition,European
LOCATION:Museum of Art - European and American Decorative Art
CONTACT:
END:VEVENT
BEGIN:VEVENT
DTSTAMP:20240829T144050
DTSTART;TZID=America/Detroit:20241031T103000
DTEND;TZID=America/Detroit:20241031T190000
SUMMARY:Film Screening:International Studies Horror Filmfest
DESCRIPTION:It’s our annual Halloween spectacular\, where we screen frightening foreign-language movies from around the world! Drop by the Hatcher Gallery (just off the Diag) for one or all of these free movies. All films are subtitled in English.\n\n[ These movies may contain violent content\, disturbing imagery\, and sexual situations which may be too intense for some viewers. Viewer discretion is advised. ]\n\n10:30 a.m. — I Am Not A Witch — Zambia\n2017\, 1 hr. 33 min.\nDrama of a little girl who is accused of witchcraft. She's sent to a \"witch camp\" and told that if she attempts to escape\, she'll be cursed and turned into a goat.\n\n12:15 p.m. — Caché — France\n2005\, 1 hr. 57 min.\nIn this psychological thriller\, a married couple is terrorized by a series of surveillance videotapes left on their front porch\, each followed by violent drawings.\n\n2:30 p.m. — Creepy — Japan\n2016\, 2 hr. 15 min.\nA former profiler of serial killers is drawn back into his old job when his colleagues ask for help on an unsolved case. Then things in his own neighborhood get weird.\n\n5:00 p.m. — Uncle Boonmee — Thailand\n2014\, 1 hr. 54 min.\nDying of kidney disease\, a man spends his last\, somber days with family\, including the ghost of his wife and a forest spirit who used to be his son\, on a rural northern Thailand farm.
UID:125322-21854741@events.umich.edu
URL:https://events.umich.edu/event/125322
CLASS:PUBLIC
STATUS:CONFIRMED
CATEGORIES:Film,Free,Halloween,International,Library
LOCATION:Hatcher Graduate Library - Gallery, 1st Floor
CONTACT:
END:VEVENT
END:VCALENDAR