BEGIN:VCALENDAR
VERSION:2.0
PRODID:-//UM//UM*Events//EN
CALSCALE:GREGORIAN
BEGIN:VTIMEZONE
TZID:America/Detroit
TZURL:http://tzurl.org/zoneinfo/America/Detroit
X-LIC-LOCATION:America/Detroit
BEGIN:DAYLIGHT
TZOFFSETFROM:-0500
TZOFFSETTO:-0400
TZNAME:EDT
DTSTART:20070311T020000
RRULE:FREQ=YEARLY;BYMONTH=3;BYDAY=2SU
END:DAYLIGHT
BEGIN:STANDARD
TZOFFSETFROM:-0400
TZOFFSETTO:-0500
TZNAME:EST
DTSTART:20071104T020000
RRULE:FREQ=YEARLY;BYMONTH=11;BYDAY=1SU
END:STANDARD
END:VTIMEZONE
BEGIN:VEVENT
DTSTAMP:20241121T142030
DTSTART;TZID=America/Detroit:20241121T150000
DTEND;TZID=America/Detroit:20241121T160000
SUMMARY:Workshop / Seminar:Reflect and Connect: Coping with Election Stress
DESCRIPTION:This space provides a safe and open environment for individuals to express their feelings and concerns. It encourages connection and engagement in meaningful dialogue with the option to use creative expression tools\, as well as personal and collective reflection. * This environment is not meant for debating or persuading others to change their viewpoints.
UID:126983-21858215@events.umich.edu
URL:https://events.umich.edu/event/126983
CLASS:PUBLIC
STATUS:CONFIRMED
CATEGORIES:Sessions
LOCATION:CAPS 4th Floor Michigan Union
CONTACT:
END:VEVENT
BEGIN:VEVENT
DTSTAMP:20241206T123058
DTSTART;TZID=America/Detroit:20241121T150000
DTEND;TZID=America/Detroit:20241121T160000
SUMMARY:Careers / Jobs:SMBC – Ask Me Anything
DESCRIPTION:Join us for a virtual \"Ask Me Anything\" with a member of the Campus Recruitment team at SMBC. This event is for current undergraduatefirst-year students interested in learning about SMBC’s and future career opportunities within the financial services industry.During the session\, you’ll have the opportunity to learn about: \nSMBC – Our businesses and our culture\nNetworking tips &amp\; tricks\nHow to build a good resume\nUpcoming events and professional workshops\nApplication process and timelines for our internship programs\nAsk any questions you may have about SMBC\, ourteams\, or the industry in general \nEligibility - Freshmen/1st Year students in a four year undergraduate program.As this event is invite only and space is limited\, please register at the earliest. We will notify you with the virtual event link once your participation is confirmed.  
UID:125267-21854627@events.umich.edu
URL:https://events.umich.edu/event/125267
CLASS:PUBLIC
STATUS:CONFIRMED
CATEGORIES:
LOCATION:
CONTACT:
END:VEVENT
BEGIN:VEVENT
DTSTAMP:20241122T090131
DTSTART;TZID=America/Detroit:20241121T150000
DTEND;TZID=America/Detroit:20241121T153000
SUMMARY:Presentation:Tech Talk: Holiday Showcase
DESCRIPTION:Get the inside scoop on 2025 Holiday Showcase products at Tech Shop. Just in time for the holiday season\, we’re offering hands-on demos of some of the new tech products we’re carrying for a limited time. Need gift ideas? This is the Tech Talk for you!\n\nWho: Open to all\nWhen: Thursdays at 3 p.m. (lasting 20-30 minutes\, with option for Q&A and personal consulting to follow)\nWhere: Michigan Union | Ground Floor\n\nIt would be great if you registered to let us know you’re coming\, but drop-ins are also welcome!
UID:128045-21860089@events.umich.edu
URL:https://events.umich.edu/event/128045
CLASS:PUBLIC
STATUS:CONFIRMED
CATEGORIES:Free,In Person,Tech Shop,technology,workshop
LOCATION:Michigan Union - G-312
CONTACT:
END:VEVENT
END:VCALENDAR