BEGIN:VCALENDAR
VERSION:2.0
PRODID:-//UM//UM*Events//EN
CALSCALE:GREGORIAN
BEGIN:VTIMEZONE
TZID:America/Detroit
TZURL:http://tzurl.org/zoneinfo/America/Detroit
X-LIC-LOCATION:America/Detroit
BEGIN:DAYLIGHT
TZOFFSETFROM:-0500
TZOFFSETTO:-0400
TZNAME:EDT
DTSTART:20070311T020000
RRULE:FREQ=YEARLY;BYMONTH=3;BYDAY=2SU
END:DAYLIGHT
BEGIN:STANDARD
TZOFFSETFROM:-0400
TZOFFSETTO:-0500
TZNAME:EST
DTSTART:20071104T020000
RRULE:FREQ=YEARLY;BYMONTH=11;BYDAY=1SU
END:STANDARD
END:VTIMEZONE
BEGIN:VEVENT
DTSTAMP:20241008T143132
DTSTART;TZID=America/Detroit:20241031T113000
DTEND;TZID=America/Detroit:20241031T130000
SUMMARY:Lecture / Discussion:Econ Seminar Series
DESCRIPTION:Join the Stone Center\, in partnership with the Department of Economics\, for a new seminar series that will feature inequality-related works by economists who are interested in spatial economics and development economics.\n\nThe first seminar will feature Jessie Handbury\, Associate Professor in Real Estate\, University of Pennsylvania.
UID:127541-21859292@events.umich.edu
URL:https://events.umich.edu/event/127541
CLASS:PUBLIC
STATUS:CONFIRMED
CATEGORIES:Sociology,Economics,Inequality
LOCATION:Institute For Social Research - 2030
CONTACT:
END:VEVENT
BEGIN:VEVENT
DTSTAMP:20241001T145540
DTSTART;TZID=America/Detroit:20241031T113000
DTEND;TZID=America/Detroit:20241031T130000
SUMMARY:Lecture / Discussion:Math LCIT Discussion
DESCRIPTION:In the Math LCIT\, individuals interested in inclusive teaching in mathematics meet to discuss topics related to this subject.  Details of each meeting are found on the U(M) Math Learning Community on Inclusive Teaching page\, which is included in the links for this event.
UID:127254-21858740@events.umich.edu
URL:https://events.umich.edu/event/127254
CLASS:PUBLIC
STATUS:CONFIRMED
CATEGORIES:Teaching,Mathematics,Inclusion
LOCATION:
CONTACT:
END:VEVENT
BEGIN:VEVENT
DTSTAMP:20240925T144736
DTSTART;TZID=America/Detroit:20241031T120000
DTEND;TZID=America/Detroit:20241031T200000
SUMMARY:Exhibition:“Identity Potpourri” Photography Exhibition Opening Reception
DESCRIPTION:2Fik is a multidisciplinary artist known for embodying multiple\, unique characters. Through his social and political works\, 2Fik creates lives for characters who almost seem real\, whose stories\, personalities\, and interests are rooted in our world. Each of his creations are conceived in a voyeuristic way that pushes the spectator to wonder what exists beyond the scope of the work. Each character in this humorous and interpretative world becomes a reflection of our society.\n\n\"Identity Potpourri\" by 2Fik is a mixture of different artworks from various series by the artist between 2006 and 2016. The exhibition will open at 6 PM on October 30 and be on display until November 8.
UID:125116-21854430@events.umich.edu
URL:https://events.umich.edu/event/125116
CLASS:PUBLIC
STATUS:CONFIRMED
CATEGORIES:Jewish Studies,Art,LGBT,middle east,Reception,Storytelling,Visual Arts
LOCATION:Off Campus Location - Now Studios Gallery Space
CONTACT:
END:VEVENT
END:VCALENDAR