BEGIN:VCALENDAR
VERSION:2.0
PRODID:-//UM//UM*Events//EN
CALSCALE:GREGORIAN
BEGIN:VTIMEZONE
TZID:America/Detroit
TZURL:http://tzurl.org/zoneinfo/America/Detroit
X-LIC-LOCATION:America/Detroit
BEGIN:DAYLIGHT
TZOFFSETFROM:-0500
TZOFFSETTO:-0400
TZNAME:EDT
DTSTART:20070311T020000
RRULE:FREQ=YEARLY;BYMONTH=3;BYDAY=2SU
END:DAYLIGHT
BEGIN:STANDARD
TZOFFSETFROM:-0400
TZOFFSETTO:-0500
TZNAME:EST
DTSTART:20071104T020000
RRULE:FREQ=YEARLY;BYMONTH=11;BYDAY=1SU
END:STANDARD
END:VTIMEZONE
BEGIN:VEVENT
DTSTAMP:20241113T003210
DTSTART;TZID=America/Detroit:20241031T120000
DTEND;TZID=America/Detroit:20241031T123000
SUMMARY:Careers / Jobs:A talent acquisition pro’s tips for standing out in recruitment
DESCRIPTION:Want to get expert tips to help you thrive in recruitment? On October 31 at 12:00pm PT\, join Handshake and Ncontracts Sr. Talent Acquisition Partner Kevin Anderson to get insights from a pro with years of experience recruiting. Kevin will share a seasoned talent acquisition specialist’s advice on: \nMaking a good first impression in the interview\nBest practices when networking\nSuccessfully crafting your resume\n Save your spot today!
UID:128241-21860469@events.umich.edu
URL:https://events.umich.edu/event/128241
CLASS:PUBLIC
STATUS:CONFIRMED
CATEGORIES:
LOCATION:
CONTACT:
END:VEVENT
BEGIN:VEVENT
DTSTAMP:20240828T092943
DTSTART;TZID=America/Detroit:20241031T120000
DTEND;TZID=America/Detroit:20241031T130000
SUMMARY:Lecture / Discussion:Gene Regulation in Skeleton Development and Diseases
DESCRIPTION:Victors for Clinical and Research Faculty Development\n\nGene Regulation in Skeleton Development and Diseases\n\nPresented by: Véronique Lefebvre\, PhD\nProfessor of Orthopaedics\,\nChildren’s Hospital of Philadelphia and\nUniversity of Pennsylvania\nAbramson Research Institute\nPhiladelphia\, Pennsylvania\n\nTHURSDAY\, October 31\, 2024 12:00 – 1:00 PM \nDENT G550 \nFaculty Host: Dr. Tomer Stern\n\n*CE credit will be given to the School of Dentistry Faculty. If you would like CE credit\, please sign in at the seminar
UID:125183-21854509@events.umich.edu
URL:https://events.umich.edu/event/125183
CLASS:PUBLIC
STATUS:CONFIRMED
CATEGORIES:academic medicine,Biology,Biosciences,Health Science,Lecture,seminar
LOCATION:Dental & W.K. Kellogg Institute - DENT G550
CONTACT:
END:VEVENT
BEGIN:VEVENT
DTSTAMP:20240930T181728
DTSTART;TZID=America/Detroit:20241031T120000
DTEND;TZID=America/Detroit:20241031T123000
SUMMARY:Performance:Halloween Frights!\, carillon recital
DESCRIPTION:University Carillonist Tiffany Ng and students in the U-M Carillon Guild\, including Meghan Wysocki and Eric Whitmer\, perform a Halloween-themed recital on the Charles Baird Carillon\, an instrument of 53 bronze bells located inside the Burton Memorial Tower\, followed by visitor Q&A.\n\nThirty-minute recitals are performed on the Charles Baird Carillon at noon every weekday that classes are in session\, followed by visitor Q&A with the carillonist. The bell chamber may be accessed via a combination of elevator and stairs. Take the elevator to the highest floor possible (floor 8)\, and then climb two flights of stairs (39 steps) to the bell chamber (floor 10). Earplugs are available from the carillonist upon request. Be prepared to walk on ice and snow in the bell chamber during winter. Built in 1936\, the Charles Baird Carillon is not ADA accessible. Visitors with mobility concerns are invited to visit the Lurie Carillon: https://smtd.umich.edu/facilities/ann-and-robert-h-lurie-carillon/
UID:127176-21858621@events.umich.edu
URL:https://events.umich.edu/event/127176
CLASS:PUBLIC
STATUS:CONFIRMED
CATEGORIES:Faculty,Free,Music
LOCATION:Burton Memorial Tower
CONTACT:
END:VEVENT
END:VCALENDAR