BEGIN:VCALENDAR
VERSION:2.0
PRODID:-//UM//UM*Events//EN
CALSCALE:GREGORIAN
BEGIN:VTIMEZONE
TZID:America/Detroit
TZURL:http://tzurl.org/zoneinfo/America/Detroit
X-LIC-LOCATION:America/Detroit
BEGIN:DAYLIGHT
TZOFFSETFROM:-0500
TZOFFSETTO:-0400
TZNAME:EDT
DTSTART:20070311T020000
RRULE:FREQ=YEARLY;BYMONTH=3;BYDAY=2SU
END:DAYLIGHT
BEGIN:STANDARD
TZOFFSETFROM:-0400
TZOFFSETTO:-0500
TZNAME:EST
DTSTART:20071104T020000
RRULE:FREQ=YEARLY;BYMONTH=11;BYDAY=1SU
END:STANDARD
END:VTIMEZONE
BEGIN:VEVENT
DTSTAMP:20241106T123209
DTSTART;TZID=America/Detroit:20241022T160000
DTEND;TZID=America/Detroit:20241022T170000
SUMMARY:Careers / Jobs:Commercial Banking  Virtual Information Session Summer 2025
DESCRIPTION:Meet the HR and Commercial Banking Team to learn more aboutyour career at Citi! Join us for an interactive discussion that will assist your in your preparation for the recruiting season. Open to students graduating in December 2025 or Spring 2026. Did you know? Citi Commercial Bank provides global banking solutions to mid-sized companies that are looking to grow rapidly and expand internationally. With our global network\, comprehensive solutions\, and industry expertise\, we help these businessessucceed across a wide variety of industries and at most stages of their growth. Want to learn more? Register below
UID:127350-21858930@events.umich.edu
URL:https://events.umich.edu/event/127350
CLASS:PUBLIC
STATUS:CONFIRMED
CATEGORIES:
LOCATION:
CONTACT:
END:VEVENT
BEGIN:VEVENT
DTSTAMP:20240911T145707
DTSTART;TZID=America/Detroit:20241022T160000
DTEND;TZID=America/Detroit:20241022T170000
SUMMARY:Lecture / Discussion:Consider the lung as a sensory organ
DESCRIPTION:Director\nUCSD Lung Center\nUniversity of California San Diego
UID:126247-21856767@events.umich.edu
URL:https://events.umich.edu/event/126247
CLASS:PUBLIC
STATUS:CONFIRMED
CATEGORIES:Basic Science,Undergraduate Students,seminar,Science,Research,Rackham,Public Health,Postdoctoral Research Fellows,Medicine,Life Science,Lecture,Interdisciplinary,human genetics,AEM Featured,Biointerfaces,Biology,biomedical,biomedical engineering,Engineering,In Person,Graduate Students,Free,Biosciences,Graduate School
LOCATION:Taubman Biomedical Science Research Building - ABC Seminar Rooms
CONTACT:
END:VEVENT
BEGIN:VEVENT
DTSTAMP:20241002T153306
DTSTART;TZID=America/Detroit:20241022T160000
DTEND;TZID=America/Detroit:20241022T170000
SUMMARY:Presentation:GCC Czechia & Austria: Jewish Europe Information Session
DESCRIPTION:Want to learn more about GCC Czechia & Austria: Jewish Europe? Attend this session with CGIS Advisor Callie Rouse and GCC Faculty Lead Scott Spector. \n\nCourse Description: This 2-credit course is offered in conjunction with the 3-credit course offered in W25\, The Jewish Heart of Europe. On this study abroad program students will be able to experience first-hand the evidence of past and present Jewish experience in the cities of Prague and Vienna\, with study visit excursions to additional sites in Terezin\, Brno\, and Eisenstadt. Sites students will visit include city quarters\, sites of former Jewish ghettos\, assimilated Jewish neighborhoods and homes\, cemeteries\, theater spaces\, coffee houses\, memorial sites\, concentration camps\, and more.\n\n*Students must take Jewish Heart of Europe in Winter 2025 to do the abroad portion of this program. This is cross-listed as JUDAIC 318.003 / HISTORY 328.002 / GERMAN 303.002. Any version of the course is qualifying.*\n\nLearn more about this program on M-Compass: https://mcompass.umich.edu/_portal/tds-program-brochure?programid=12411.
UID:127319-21858864@events.umich.edu
URL:https://events.umich.edu/event/127319
CLASS:PUBLIC
STATUS:CONFIRMED
CATEGORIES:Europe,Jewish Studies,International Education,History,global opportunities,German
LOCATION:Weiser Hall - Room 255
CONTACT:
END:VEVENT
END:VCALENDAR