BEGIN:VCALENDAR
VERSION:2.0
PRODID:-//UM//UM*Events//EN
CALSCALE:GREGORIAN
BEGIN:VTIMEZONE
TZID:America/Detroit
TZURL:http://tzurl.org/zoneinfo/America/Detroit
X-LIC-LOCATION:America/Detroit
BEGIN:DAYLIGHT
TZOFFSETFROM:-0500
TZOFFSETTO:-0400
TZNAME:EDT
DTSTART:20070311T020000
RRULE:FREQ=YEARLY;BYMONTH=3;BYDAY=2SU
END:DAYLIGHT
BEGIN:STANDARD
TZOFFSETFROM:-0400
TZOFFSETTO:-0500
TZNAME:EST
DTSTART:20071104T020000
RRULE:FREQ=YEARLY;BYMONTH=11;BYDAY=1SU
END:STANDARD
END:VTIMEZONE
BEGIN:VEVENT
DTSTAMP:20241111T093713
DTSTART;TZID=America/Detroit:20241113T170000
DTEND;TZID=America/Detroit:20241113T180000
SUMMARY:Presentation:Dinner for Democracy: Immigration
DESCRIPTION:Note: this is an in-person event on the Ann Arbor Campus.\n\nWhen asked\, voters have ranked immigration as one of their top issues this election year. People have been immigrating to the United States since before the country was established. In that long span of time\, the immigration process\, U.S. immigration laws\, and sources of immigrants to the U.S. have changed often.\n\nJoin Turn Up Turnout for a nonpartisan\, educational presentation on Immigration. FREE FOOD provided.\n\nRegister here: https://sessions.studentlife.umich.edu/track/event/session/81565
UID:128998-21862001@events.umich.edu
URL:https://events.umich.edu/event/128998
CLASS:PUBLIC
STATUS:CONFIRMED
CATEGORIES:Immigration,Food,Free,Government,History,In Person,Politics,Public Policy,Discussion,Civic Engagement,Democracy,Democratic Engagement,Dinner
LOCATION:Weill Hall (Ford School) - 1220
CONTACT:
END:VEVENT
BEGIN:VEVENT
DTSTAMP:20241128T123202
DTSTART;TZID=America/Detroit:20241113T170000
DTEND;TZID=America/Detroit:20241113T180000
SUMMARY:Careers / Jobs:Early Contract Info Session for Educators #2
DESCRIPTION:Providence Public Schools is excited to announce the launch of our Early Contract Hiring Fair\, providing a unique opportunity for prospective employees to connect with the District and secure an early contract for the 2025-2026 school year. This November we will be hosting three virtual info sessions in whichyou will be able to learn more about who we are\, opportunities within PPSD\, and how to obtain an Early Contract for the 25'-26' academic school year.  Please make sure to RSVP by completing the registration form. If you are having trouble registering or have questions\, please reach out to careers@ppsd.org.
UID:128407-21860788@events.umich.edu
URL:https://events.umich.edu/event/128407
CLASS:PUBLIC
STATUS:CONFIRMED
CATEGORIES:
LOCATION:
CONTACT:
END:VEVENT
BEGIN:VEVENT
DTSTAMP:20241108T085645
DTSTART;TZID=America/Detroit:20241113T170000
DTEND;TZID=America/Detroit:20241113T200000
SUMMARY:Other:Residence Hall Pop-up Advising
DESCRIPTION:Registration starts soon\, and LSA Newnan advisors are coming to you! We'll be in residence halls discussing course planning for the winter term and answering any questions you may have. \n\nJoin us from 5-8 on select nights. We're looking forward to seeing you!
UID:128923-21861901@events.umich.edu
URL:https://events.umich.edu/event/128923
CLASS:PUBLIC
STATUS:CONFIRMED
CATEGORIES:Registration,Newnan Lsa Academic Advising Center,Newnan,Lsa,In Person,All Majors Welcome,Advising
LOCATION:East Quadrangle
CONTACT:
END:VEVENT
END:VCALENDAR