BEGIN:VCALENDAR
VERSION:2.0
PRODID:-//UM//UM*Events//EN
CALSCALE:GREGORIAN
BEGIN:VTIMEZONE
TZID:America/Detroit
TZURL:http://tzurl.org/zoneinfo/America/Detroit
X-LIC-LOCATION:America/Detroit
BEGIN:DAYLIGHT
TZOFFSETFROM:-0500
TZOFFSETTO:-0400
TZNAME:EDT
DTSTART:20070311T020000
RRULE:FREQ=YEARLY;BYMONTH=3;BYDAY=2SU
END:DAYLIGHT
BEGIN:STANDARD
TZOFFSETFROM:-0400
TZOFFSETTO:-0500
TZNAME:EST
DTSTART:20071104T020000
RRULE:FREQ=YEARLY;BYMONTH=11;BYDAY=1SU
END:STANDARD
END:VTIMEZONE
BEGIN:VEVENT
DTSTAMP:20241113T003209
DTSTART;TZID=America/Detroit:20241031T120000
DTEND;TZID=America/Detroit:20241031T130000
SUMMARY:Careers / Jobs:Pro Football Hall of Fame \"Before the Snap\" ft. Gabriel Christus
DESCRIPTION:The Pro Football Hall of Fame is proud to offer a series for learners in high school\, college and beyond! “Before the Snap” gives an insight to professional careers in and around the NFL\, while giving the live viewing audience the opportunity to interact with an industry expert.Our special guest is Gabriel Christus\, who currently serves asthe Team Photographer for the Denver Broncos.We will be streaming the program LIVE on the Pro Football Hall of Fame’s YouTube page and will take questions from students across the country throughout the program. To participate\, all you will need to do is: - Visit https://www.youtube.com/user/ProFootballHOF at 12:00pm ET on Thursday\, October 31\, 2024 to view the program. -To ask a question\, comment on the post with the following information:*  Name of School (if applicable)*  Location*  Question for Industry ExpertIf you have any questions\, do not hesitate to reach out! You can contact me at 330-588-3558 or by email at Jacob.Ray@ProFootballHOF.com
UID:128236-21860464@events.umich.edu
URL:https://events.umich.edu/event/128236
CLASS:PUBLIC
STATUS:CONFIRMED
CATEGORIES:
LOCATION:
CONTACT:
END:VEVENT
BEGIN:VEVENT
DTSTAMP:20240812T102513
DTSTART;TZID=America/Detroit:20241031T120000
DTEND;TZID=America/Detroit:20241031T150000
SUMMARY:Other:The Farm Stand
DESCRIPTION:The Farm Stand is a weekly pop-up market and education project that sells produce grown by students for students. It is held on Thursdays from 12pm-3pm from August 22 through mid-November on South Ingalls Mall. Powered by the U-M Sustainable Food Program (UMSFP) and the Campus Farm at Matthaei Botanical Gardens (CF)\, this project seeks to increase access to local food for students and engage the wider U-M community in food systems learning and engagement opportunities. Students receive a 30% discount and the proceeds from the Farm Stand go towards funding student-led sustainable food initiatives here at the U-M through UMSFP’s mini-grants for food justice program.
UID:111676-21852511@events.umich.edu
URL:https://events.umich.edu/event/111676
CLASS:PUBLIC
STATUS:CONFIRMED
CATEGORIES:campus farm,community gathering,cultivating community,education,environmental justice,food,food and the environment,Food Justice,food sustainability,Food System,Health & Wellness,healthy eating,local food,Sustainability,vegetables
LOCATION:
CONTACT:
END:VEVENT
BEGIN:VEVENT
DTSTAMP:20241112T105544
DTSTART;TZID=America/Detroit:20241031T123000
DTEND;TZID=America/Detroit:20241031T140000
SUMMARY:Workshop / Seminar:Inequality and Social Demography (ISD) Workshop
DESCRIPTION:Fall 2024 Semester Line-Up: \n\n9/19: Lanora Johnson\, \"Car Accidents & Disability in Rural Kentucky\"\n\n10/3: Spencer Allen\, \"Disparities and Implications of Survey Measurement Error: NSF GRFP Proposal\"\n\n10/10: Jane Furey\, \"The Consequences of Racialized Education Careers\"\n\n10/31: Janet Wang\, \"Overqualification across the life course\"\n\n11/14: Davis Daumler\, \"Changing Marriage Patterns and the Shifting Foundation of Wealth\"\n\n11/21: Junchao Tang\, \"A Mirrored Equalizer? An Assessment of Boarding Institution and STS-based Achievement Gap\"
UID:126191-21856655@events.umich.edu
URL:https://events.umich.edu/event/126191
CLASS:PUBLIC
STATUS:CONFIRMED
CATEGORIES:Graduate Students
LOCATION:LSA Building - 4154
CONTACT:
END:VEVENT
END:VCALENDAR