BEGIN:VCALENDAR
VERSION:2.0
PRODID:-//UM//UM*Events//EN
CALSCALE:GREGORIAN
BEGIN:VTIMEZONE
TZID:America/Detroit
TZURL:http://tzurl.org/zoneinfo/America/Detroit
X-LIC-LOCATION:America/Detroit
BEGIN:DAYLIGHT
TZOFFSETFROM:-0500
TZOFFSETTO:-0400
TZNAME:EDT
DTSTART:20070311T020000
RRULE:FREQ=YEARLY;BYMONTH=3;BYDAY=2SU
END:DAYLIGHT
BEGIN:STANDARD
TZOFFSETFROM:-0400
TZOFFSETTO:-0500
TZNAME:EST
DTSTART:20071104T020000
RRULE:FREQ=YEARLY;BYMONTH=11;BYDAY=1SU
END:STANDARD
END:VTIMEZONE
BEGIN:VEVENT
DTSTAMP:20241021T094255
DTSTART;TZID=America/Detroit:20241031T130000
DTEND;TZID=America/Detroit:20241031T150000
SUMMARY:Social / Informal Gathering:[Spooky] Lab Swap Shop
DESCRIPTION:Join us for this spooooky event for free food\, free lab supplies\, and art activities using old glass and plasticware.  Come in a costume and be entered in a giveaway!\n\nThe Lab Reuse program enables researchers to access free and surplus chemicals\, lab equipment\, and materials to be used in other campus labs rather than being sent out for disposal.  Check out our inventory online before you come in - chemicals are not located here but are in our Door-to-Door catalog.\n\nQuestions? Reach out to sustainable-labs@umich.edu.
UID:128102-21860183@events.umich.edu
URL:https://events.umich.edu/event/128102
CLASS:PUBLIC
STATUS:CONFIRMED
CATEGORIES:planet blue,Sustainability,Food
LOCATION:1100 North University Building - RM 5004
CONTACT:
END:VEVENT
BEGIN:VEVENT
DTSTAMP:20241031T122038
DTSTART;TZID=America/Detroit:20241031T130000
DTEND;TZID=America/Detroit:20241031T140000
SUMMARY:Workshop / Seminar:Toward an Anti-Ableist Academy Conference Virtual Sessions
DESCRIPTION:Toward an Anti-Ableist Academy Conference invites the campus community to learn more about creating a welcoming University climate that actively works toward embracing disability culture and experiences.The Conference encourages open dialogue and discussion with students\, staff\, faculty and disability experts\, providing opportunities to learn about best practices that ensure the disabled community can fully participate in campus life at the University of Michigan.\n\nIn addition to our kick-off and keynote speaker event on Tuesday\, October 29\, (https://diversity.umich.edu/events/anti-ableist-academy-conference/toward-an-anti-ableist-academy-conference-2024/)\, there will 4 virtual sessions held on Wednesday\, October 30 and Thursday\, October 31 to further encourage open dialogue and discussion with students\, staff\, faculty and disability experts\, providing opportunities to learn about best practices that ensure the disabled community can fully participate in campus life at the University of Michigan.
UID:127339-21858915@events.umich.edu
URL:https://events.umich.edu/event/127339
CLASS:PUBLIC
STATUS:CONFIRMED
CATEGORIES:Sessions
LOCATION:
CONTACT:
END:VEVENT
BEGIN:VEVENT
DTSTAMP:20240904T181940
DTSTART;TZID=America/Detroit:20241031T132000
DTEND;TZID=America/Detroit:20241031T135000
SUMMARY:Performance:Tiffany Ng\, carillon
DESCRIPTION:University Carillonist Tiffany Ng performs on the Ann & Robert H. Lurie Carillon\, an instrument of 60 bells with the lowest bell (bourdon) weighing 6 tons.\n\nThirty-minute recitals are performed on the Lurie Carillon every weekday that classes are in session. During these recitals\, visitors may take the elevator to level 2 to view the largest bells\, or to level 3 to see the carillonist performing. (Visitors subject to acrophobia are recommended to visit level 2 only.) An optional spiral stairway between levels 2 and 3 allows for up-close views of some of the largest bells.
UID:125744-21855690@events.umich.edu
URL:https://events.umich.edu/event/125744
CLASS:PUBLIC
STATUS:CONFIRMED
CATEGORIES:Faculty,Talk,North Campus,Music,Free
LOCATION:Lurie Ann & Robert H. Tower
CONTACT:
END:VEVENT
END:VCALENDAR