BEGIN:VCALENDAR
VERSION:2.0
PRODID:-//UM//UM*Events//EN
CALSCALE:GREGORIAN
BEGIN:VTIMEZONE
TZID:America/Detroit
TZURL:http://tzurl.org/zoneinfo/America/Detroit
X-LIC-LOCATION:America/Detroit
BEGIN:DAYLIGHT
TZOFFSETFROM:-0500
TZOFFSETTO:-0400
TZNAME:EDT
DTSTART:20070311T020000
RRULE:FREQ=YEARLY;BYMONTH=3;BYDAY=2SU
END:DAYLIGHT
BEGIN:STANDARD
TZOFFSETFROM:-0400
TZOFFSETTO:-0500
TZNAME:EST
DTSTART:20071104T020000
RRULE:FREQ=YEARLY;BYMONTH=11;BYDAY=1SU
END:STANDARD
END:VTIMEZONE
BEGIN:VEVENT
DTSTAMP:20241017T150002
DTSTART;TZID=America/Detroit:20241031T133000
DTEND;TZID=America/Detroit:20241031T150000
SUMMARY:Other:Asian Languages and Cultures Information Session
DESCRIPTION:The Asian Languages and Cultures department is hosting a Fall Information Session. Meet Director of Undergraduate Studies Dave Brick and learn about our degrees\, languages\, how to study abroad with CGIS and have a donut! Please send any questions you have to: um-alc@umich.edu.
UID:127986-21860004@events.umich.edu
URL:https://events.umich.edu/event/127986
CLASS:PUBLIC
STATUS:CONFIRMED
CATEGORIES:Asian Languages And Cultures,Culture,Discussion,Education,Food,Information,Information Session,Languages,Majors,Study Abroad,Talk,Undergraduate,Undergraduate Students
LOCATION:202 S. Thayer - Room 2022
CONTACT:
END:VEVENT
BEGIN:VEVENT
DTSTAMP:20241031T132039
DTSTART;TZID=America/Detroit:20241031T140000
DTEND;TZID=America/Detroit:20241031T153000
SUMMARY:Workshop / Seminar:Halloween at the IC
DESCRIPTION:Celebrate Halloween with the International Center! On Thursday\, October 31\, stop by the IC lobby dressed up in your favorite costume and take photos at our spooky selfie station! You’ll also be able to enjoy cider & donuts (available while supplies last). We hope to see you there!
UID:127247-21858734@events.umich.edu
URL:https://events.umich.edu/event/127247
CLASS:PUBLIC
STATUS:CONFIRMED
CATEGORIES:Sessions
LOCATION:International Center Lobby - 1500 Student Activities Building
CONTACT:
END:VEVENT
BEGIN:VEVENT
DTSTAMP:20241015T123312
DTSTART;TZID=America/Detroit:20241031T143000
DTEND;TZID=America/Detroit:20241031T160000
SUMMARY:Lecture / Discussion:Breaking News\, Building Democracy Part 2: Can Political News Reach People?
DESCRIPTION:Panel Discussion with:\nPanelists: Eunji Kim (Columbia University)\, Laura Hazard Owen (Nieman Lab/Harvard)\,  Emily Lawler (Detroit Free Press)\, Ariel Hasell (University of Michigan)\; moderator: Brian Weeks (University of Michigan)
UID:127871-21859853@events.umich.edu
URL:https://events.umich.edu/event/127871
CLASS:PUBLIC
STATUS:CONFIRMED
CATEGORIES:
LOCATION:North Quad - Space 2435
CONTACT:
END:VEVENT
END:VCALENDAR