BEGIN:VCALENDAR
VERSION:2.0
PRODID:-//UM//UM*Events//EN
CALSCALE:GREGORIAN
BEGIN:VTIMEZONE
TZID:America/Detroit
TZURL:http://tzurl.org/zoneinfo/America/Detroit
X-LIC-LOCATION:America/Detroit
BEGIN:DAYLIGHT
TZOFFSETFROM:-0500
TZOFFSETTO:-0400
TZNAME:EDT
DTSTART:20070311T020000
RRULE:FREQ=YEARLY;BYMONTH=3;BYDAY=2SU
END:DAYLIGHT
BEGIN:STANDARD
TZOFFSETFROM:-0400
TZOFFSETTO:-0500
TZNAME:EST
DTSTART:20071104T020000
RRULE:FREQ=YEARLY;BYMONTH=11;BYDAY=1SU
END:STANDARD
END:VTIMEZONE
BEGIN:VEVENT
DTSTAMP:20241002T125850
DTSTART;TZID=America/Detroit:20241031T150000
DTEND;TZID=America/Detroit:20241031T153000
SUMMARY:Workshop / Seminar:Tech Talk: 3D Printing Basics
DESCRIPTION:Using our demo Creality Ender 3 V3\, see how 3D printing can be used to create objects limited only by your imagination. Learn about:\n* 3D modeling and slicing software\n* types of filament and how to use them correctly\n* set-up\, care\, and maintenance of your printer hardware\n\nWho: Open to all\nWhen: Thursdays at 3 p.m. (lasting 20-30 minutes\, with option for Q&A and personal consulting to follow)\nWhere: Michigan Union | Ground Floor\n\nIt would be great if you registered to let us know you’re coming\, but drop-ins are also welcome!
UID:127316-21858856@events.umich.edu
URL:https://events.umich.edu/event/127316
CLASS:PUBLIC
STATUS:CONFIRMED
CATEGORIES:Free,In Person,technology,Workshop
LOCATION:Michigan Union - G- 310
CONTACT:
END:VEVENT
BEGIN:VEVENT
DTSTAMP:20240905T154556
DTSTART;TZID=America/Detroit:20241031T150000
DTEND;TZID=America/Detroit:20241031T160000
SUMMARY:Auditions:test tag
DESCRIPTION:dfbdsbesgevfdfg
UID:125873-21856203@events.umich.edu
URL:https://events.umich.edu/event/125873
CLASS:PUBLIC
STATUS:CONFIRMED
CATEGORIES:Culture
LOCATION:Student Activities Building
CONTACT:
END:VEVENT
BEGIN:VEVENT
DTSTAMP:20241028T053716
DTSTART;TZID=America/Detroit:20241031T153000
DTEND;TZID=America/Detroit:20241031T163000
SUMMARY:Workshop / Seminar:Biomedical Engineering Seminar Series
DESCRIPTION:Abstract:\nMotion in Magnetic Resonance Imaging (MRI) scans causes image corruption and remains a barrier to clinical imaging. We propose Beat Pilot Tone (BPT)\, a simple serendipitous system exploitation that turns any MRI receiver chain into a radio frequency (RF) motion sensing system that can operate at arbitrary frequencies (up to several GHz). Our contact-free system can be implemented on any MRI scanner regardless of field strength. Through electromagnetic field simulations and experiments\, we explain BPT’s novel mechanism: two or more transmitted RF tones form motion-modulated standing wave patterns that are sensed by the same receiver coil arrays used for MR imaging. These waves are incidentally mixed by intermodulation and digitized simultaneously to the MRI data. BPT achieves an order of magnitude greater sensitivity to motion than other methods in detecting and separating common motion types (respiratory\, bulk\, cardiac\, and head motion) in volunteers. Moreover\, BPT offers tunable sensitivity to motion based on the transmit frequencies\; at microwave frequencies\, BPT can detect millimeter-scale vibrations (ballistocardiograms). With multiple antennas and frequency-multiplexing\, BPT can operate as a multiple-input multiple-output (MIMO) system. BPT significantly expands the capability of any MRI system\, paving the way toward multi-modality\, motion-robust\, and simultaneous RF and MR imaging.\n\nBio:\nMichael (Miki) Lustig is a Professor of Electrical Engineering and Computer Sciences at UC Berkeley. He joined the faculty in 2010. Miki received his B.Sc. in Electrical Engineering from the Technion\, Israel Institute of Technology in 2002. He received his Msc and Ph.D. in Electrical Engineering from Stanford University in 2004 and 2008\, respectively. His research focuses on computational imaging methods in Magnetic Resonance Imaging (MRI). His contribution to the field include the application of compressed sensing to MRI\, motion correction methods and the development of flexible MRI receiver coils — all with significant focus towards rapid imaging of pediatric patients. Miki is a Fellow of the Society of Magnetic Resonance in Medicine\, and a Pioneer awardee of the Society of Pediatric Radiology.\n\nZoom:\nhttps://umich.zoom.us/j/94337625486
UID:128357-21860722@events.umich.edu
URL:https://events.umich.edu/event/128357
CLASS:PUBLIC
STATUS:CONFIRMED
CATEGORIES:seminar,Michigan Engineering,Medicine,engineering,engineer,bme,Biotechnology,Biosciences,Bioninterfaces,biomedical engineering,biomedical,Biology,Biointerfaces,Basic Science
LOCATION:Lurie Biomedical Engineering (formerly ATL) - 1130
CONTACT:
END:VEVENT
END:VCALENDAR