BEGIN:VCALENDAR
VERSION:2.0
PRODID:-//UM//UM*Events//EN
CALSCALE:GREGORIAN
BEGIN:VTIMEZONE
TZID:America/Detroit
TZURL:http://tzurl.org/zoneinfo/America/Detroit
X-LIC-LOCATION:America/Detroit
BEGIN:DAYLIGHT
TZOFFSETFROM:-0500
TZOFFSETTO:-0400
TZNAME:EDT
DTSTART:20070311T020000
RRULE:FREQ=YEARLY;BYMONTH=3;BYDAY=2SU
END:DAYLIGHT
BEGIN:STANDARD
TZOFFSETFROM:-0400
TZOFFSETTO:-0500
TZNAME:EST
DTSTART:20071104T020000
RRULE:FREQ=YEARLY;BYMONTH=11;BYDAY=1SU
END:STANDARD
END:VTIMEZONE
BEGIN:VEVENT
DTSTAMP:20241031T180016
DTSTART;TZID=America/Detroit:20241031T180000
DTEND;TZID=America/Detroit:20241031T190000
SUMMARY:Lecture / Discussion:Apologetics: Challenge your thinking (over pizza!) with Ratio Christi Thursdays.
DESCRIPTION:Hi all\,We are excited to invite you to Ratio Christi Meeting this Thursday 10/31 from 6-7 pm! The question for this week is: \"How do Christianity and Hinduism differ?\" Our meeting will be held at the Study Center at 611 1/2 E. William St. Ann Arbor. This is a safe space for inquiring about religion and faith. Your perspectives are valued in fostering a thoughtful understanding of these subjects. All are welcome!! There will be pizza! If you are interested in learning more about us\, you can join the Ratio Christi Maize page for updates and discussions: Ratio Christi Maize page. We're also active on Instagram: Ratio Christi Instagram page. We are excited to see you all soon and please feel free to reach out with any questions! Sincerely\,Ratio Christi Team 😊
UID:128335-21860693@events.umich.edu
URL:https://events.umich.edu/event/128335
CLASS:PUBLIC
STATUS:CONFIRMED
CATEGORIES:
LOCATION:Study Center 
CONTACT:
END:VEVENT
BEGIN:VEVENT
DTSTAMP:20240909T091857
DTSTART;TZID=America/Detroit:20241031T190000
DTEND;TZID=America/Detroit:20241031T220000
SUMMARY:Film Screening:31st Ann Arbor Polish Film Festival
DESCRIPTION:The Ann Arbor Polish Film Festival is an annual event organized by the Polish Cultural Fund in cooperation with the Ann Arbor Polonia Association and the U-M Polish Student Association. Since its inception in 1993\, the festival has featured contemporary Polish documentaries\, animated shorts\, and feature films offering diverse perspectives on a range of Polish and global issues. The festival features a juried film competition in three categories: documentary film\, short narrative film\, and film debut.\n   \n   The 31st Ann Arbor Polish Film Festival will take place:\n   \n   -Thursday\, October 31 from 7:00 PM - 10:00 PM at State Theatre\, 233 S State St\, Ann Arbor\n   \n   -Friday\, November 1 from 6:30 PM -10:00 PM at Michigan Theater\, 603 East Liberty St.\, Ann Arbor\n   \n   -Saturday\, November 2 from 11:00 AM-10:00 PM at Michigan Theater\, 603 East Liberty St.\, Ann Arbor\, and from 10:00 AM-12:00 PM at State Theatre\, 233 S State St\, Ann Arbor\n   \n   -Sunday\, November 3 from 12:00 PM-5:00 PM at Michigan Theater\, 603 East Liberty St.\, Ann Arbor\n   \n   For this year's full program and to purchase tickets\, please see the festival website: https://www.annarborpolishfilmfestival.com/\n   \n   Poster design: Władek Fuchs\n   \nThe following text will be included on all II events unless you indicate otherwise: If there is anything we can do to make this event accessible to you\, please contact us. Please be aware that advance notice is necessary as some accommodations may require more time for the university to arrange.
UID:125998-21856390@events.umich.edu
URL:https://events.umich.edu/event/125998
CLASS:PUBLIC
STATUS:CONFIRMED
CATEGORIES:film,polish
LOCATION:Off Campus Location
CONTACT:
END:VEVENT
BEGIN:VEVENT
DTSTAMP:20240904T131710
DTSTART;TZID=America/Detroit:20241031T190000
DTEND;TZID=America/Detroit:20241031T210000
SUMMARY:Social / Informal Gathering:Connector Movie Night
DESCRIPTION:Join the Connector Community Assistants for TV and movie night every Thursday at 7:00 P.M. in the Connector (West Quad). Free popcorn for all attendees!
UID:125645-21855510@events.umich.edu
URL:https://events.umich.edu/event/125645
CLASS:PUBLIC
STATUS:CONFIRMED
CATEGORIES:Community,Community Engagement,Diversity And Inclusion,Movie Night,Social Impact
LOCATION:The Connector - 1520
CONTACT:
END:VEVENT
END:VCALENDAR